Workbook

Sheet 세입부
A1: 2020년도 성애원(시설) 세입 세출예산(안)
A3: 세 입 부 | H3: (단위:천원)
A4: 과 목 | D4: 예 산 액 | F4: 비 교 | H4: 산 출 기 초
A5: 관 | B5: 항 | C5: 목 | D5: 전년도 | E5: 당해연도 | F5: 증 | G5: 감
A6: 합 계 | D6: =D7+D12+D17+D21+D24 -> 1048470 | E6: =E7+E12+E17+E21+E24 -> 1097948 | F6: =E6-D6 -> 49478 | H6: 전년도 예산대비 4.7% 증액
A7: 보조금수입 | D7: =D8 -> 799479 | E7: =E8 -> 835746 | F7: =E7-D7 -> 36267
B8: 보조금수입 | D8: =D9+D10+D11 -> 799479 | E8: =E9+E10+E11 -> 835746 | F8: =E8-D8 -> 36267
C9: 국고보조금 | D9: 774841 | E9: 805502 | F9: =E9-D9 -> 30661 | H9: 인건비 641,673,880 생계비 107.495,640 운영비 55,252,250 행사지원금 1,081,000 계 805,502,770
C10: 시도보조금 | D10: 24638 | E10: 30244 | F10: =E10-D10 -> 5606 | H10: 아동용돈 11,304,000 하계수련비 840,000 교통비 11,520,000 수학여행비 960,000 학습보조비 3,620,000 안전관리비 2,000,000 계 30,244,000
C11: 기타보조금 | F11: =E11-D11 -> 0 | G11: =#REF!-#REF! -> #REF!
A12: 후원금수입 | D12: =SUM(D14:D16) -> 111550 | E12: =SUM(E14:E16) -> 112500 | F12: =E12-D12 -> 950
B13: 후원금수입 | D13: =D14+D15+D16 -> 111550 | E13: =E14+E15+E16 -> 112500 | F13: =E13-D13 -> 950
C14: 지정후원금 | D14: 50000 | E14: 50000 | H14: 개인결연(개인후원,어린이재단,디딤씨앗) 아동연합회 경유 지정후원금 지역사회 지정후원금
C15: 비지정후원금 | D15: 60000 | E15: 60000
C16: 후원금이자 | D16: 1550 | E16: 2500 | F16: =E16-D16 -> 950
A17: 전입금 | D17: =D18 -> 6000 | E17: =E18 -> 12000 | F17: =E17-D17 -> 6000
B18: 전입금 | D18: =D19+D20 -> 6000 | E18: =E19+E20 -> 12000 | F18: =E18-D18 -> 6000
C19: 법인전입금 | D19: 1000 | E19: 2000 | F19: =E19-D19 -> 1000 | H19: 퇴직연금수수료
C20: 법인전입금 (후원금) | D20: 5000 | E20: 10000 | F20: =E20-D20 -> 5000
A21: 이월금 | D21: =SUM(D23:D23) -> 115541 | E21: =SUM(E23:E23) -> 121322 | F21: =E21-D21 -> 5781
B22: 이월금 | D22: =D23 -> 115541 | E22: =E23 -> 121322 | F22: =E22-D22 -> 5781
C23: 전년도이월금 | D23: 115541 | E23: 121322 | F23: =E23-D23 -> 5781 | H23: 비지정후원금 지정후원금
A24: 잡수입 | D24: =SUM(D26:D28) -> 15900 | E24: =SUM(E26:E28) -> 16380 | F24: =E24-D24 -> 480
B25: 잡수입 | D25: =SUM(D26:D28) -> 15900 | E25: =E26+E27+E28 -> 16380 | F25: =E25-D25 -> 480
C26: 기타예금 이자수입 | D26: 1000 | E26: 1000
C27: 종사자급식비 | D27: 12000 | E27: 12480 | F27: =E27-D27 -> 480 | H27: 종사자급식비(생활지도원)8명*100,000*12월 =9,600,000 종사자급식비(사무실)4명*60,000원=2,880,000 계 12,480,000
C28: 기타잡수입 | D28: 2900 | E28: 2900 | H28: 실습생급식비 5*30,000*2회 =300,000 개인부담금 150,000*12월 =1,800,000 실습비 5명*70,000*2회 =700,000 기타 100,000 계 2,900,000

Sheet 세출부
A1: 2020년도 성애원(시설)세입 세출예산(안)
A3: 세 출 부 | H3: (단위 : 천원)
A4: 과 목 | D4: 예 산 액 | F4: 비 교 | H4: 산 출 기 초
A5: 관 | B5: 항 | C5: 목 | D5: 전년도 | E5: 당해년도 | F5: 증 | G5: 감
A6: 합 계 | D6: =D7+D24+D29+D55+D58 -> 1048470 | E6: =E7+E24+E29+E55+E58 -> 1097948 | F6: =E6-D6 -> 49478 | H6: 전년도 예산대비 4.7% 증액
A7: 사무비 | D7: =D8+D14+D17 -> 708826 | E7: =E8+E14+E17 -> 720089 | F7: =E7-D7 -> 11263
B8: 인건비 | D8: =SUM(D9:D13) -> 633678 | E8: =SUM(E9:E13) -> 643525 | F8: =E8-D8 -> 9847
C9: 급 여 | D9: 400272 | E9: 419535 | F9: =E9-D9 -> 19263 | H9: 기본급 419,535,000
C10: 제 수 당 | D10: 109728 | E10: 114349 | F10: =E10-D10 -> 4621 | H10: 명절휴가비 41,953,560 시간외수당 65,195,480 가족수당 7,200,000 계 114,349,040
C11: 퇴직금및 퇴직적립금 | D11: 51000 | E11: 44490 | G11: =D11-E11 -> 6510 | H11: 퇴직금및퇴직적립금 44,490,340
C12: 사회보험 부담비용 | D12: 70826 | E12: 63299 | G12: =D12-E12 -> 7527 | H12: 국민건강보험 21,355,320 장기요양보험 1,949,660 국민연금보험 26,694,190 산재보험 3,877,500 고용보험 9,422,810 계 63,299,500
C13: 기타후생경비 | D13: 1852 | E13: 1852 | H13: 명절선물구입 12명*10,000*2회= 240,000 직원워크샵 12명*15,000*1회= 180,000 공로패제작 2명*66,000 = 132,000 포상선물비 2명*50,000 = 100,000 퇴직연금수수료(전입금) 1,200,000 계 1,852,000
B14: 업무추진비 | D14: =SUM(D15:D16) -> 3674 | E14: =SUM(E15:E16) -> 3674
C15: 기관운영비 | D15: 2914 | E15: 2914 | H15: 후원자 감사패 66,000원*8개= 528,000 후원자 감사선물 900,000원*2회= 1,800,000 기타 기관운영비 586,000 계 2,914,000
C16: 회 의 비 | D16: 760 | E16: 760 | H16: 시설운영위원회의비 100,000*4분기= 400,000 사례회의비 20,000원*12월= 240,000 후원자간담회비 30,000원*4분기= 120,000 계 760,000
B17: 운영비 | D17: =SUM(D18:D23) -> 71474 | E17: =SUM(E18:E23) -> 72890 | F17: =E17-D17 -> 1416
C18: 여 비 | D18: 3100 | E18: 3100 | H18: 직원교육비 84,000*12명=1,000,000 직원출장비 100,000*12월=1,200,000 시설장 세미나비 500,000 사무국장 세미나비 400,000 계 3,100,000
C19: 수용비및 수수료 | D19: 14824 | E19: 15600 | F19: =E19-D19 -> 776 | H19: 사무용품비 250,000*12월= 3,000,000 인쇄비 200,000* 4월= 800,000 집기구입비 100,000* 6월= 600,000 공고료 50,000*12월= 600,000 수수료 50,000*12월= 600,000 등기료 50,000*12월= 600,000 운송비 50,000*12월= 600,000 통행료 50,000*12월= 600,000 주차료 50,000*12월= 600,000 A/S비 50,000*12월= 600,000 신문대금 30,000*12월= 360,000 사무기기임대료 297,000*12월= 3,564,000 정수기 렌탈료 150,000*12월= 1,800,000 기타 1,276,000 계 15,600,000
C20: 공공요금 | D20: 32160 | E20: 32160 | H20: 전화요금 150,000*12월= 1,800,000 전기요금 1,000,000*12월= 12,000,000 상하수도요금 1,000,000*12월= 12,000,000 인터넷및키폰요금 150,000*12월= 1,800,000 TV사용료 150,000*12월= 1,800,000 우편요금 30,000*12월= 360,000 쓰레기봉투구입 100,000*12월= 1,200,000 납부필증 100,000*12월= 1,200,000 계 32,160,000
C21: 제세공과금 | D21: 8930 | E21: 9570 | F21: =E21-D21 -> 640 | H21: 신원보증보험 15,000*2명= 30,000 상해보험(아동+종사자+여행자) 200,000 화재보험 300,000 자동차보험(스타렉스3164) 1,000,000 자동차보험(스타렉스8394) 800,000 자동차보험(모닝9214) 600,000 자동차보험(스파크6742) 600,000 영업배상책임보험 600,000 자동차세 600,000 환경개선부담금 1,000,000 아동연합회비960,000*4분기 3,840,000 계 9,570,000
C22: 차 량 비 | D22: 10800 | E22: 10800 | H22: 차량유류대 500,000*12월= 6,000,000 차량정비유지비 200,000*12월= 2,400,000 차량소모품비 200,000*12월= 2,400,000 계 10,800,000
C23: 기타운영비 | D23: 1660 | E23: 1660 | H23: 기관홍보용 달력제작 3,300*200부=660,000 기관홍보용 선물제작 5,000*150개=600,000 기타 운영경비 400,000 계 1,660,000
A24: 재산조성비 | D24: =SUM(D26:D28) -> 49418 | E24: =SUM(E26:E28) -> 49418
B25: 시설비 | D25: =D26+D27+D28 -> 49418 | E25: =E26+E27+E28 -> 49418
C26: 시설비 | D26: 13858 | E26: 13858 | H26: 시설비 10,000,000(건물유지보수) 시설환경개선비 3,858,000
C27: 자산취득비 | D27: 3600 | E27: 3600 | H27: 후원금 각종비품구입 300,000*12월=3,600,000원
C28: 시설장비유지비 | D28: 31960 | E28: 31960 | H28: 건물유지비용 1,000,000*12월=12,000,000 전기안전관리비 88,000*12월=1,056,000 소방안전관리비 143,000*12월=1,716,000 승강기안전관리비 99,000*12월=1,188,000 장비유지비용 500,000*12월= 6,000,000 기타 10,000,000 계 31,960,000
A29: 사업비 | D29: =D30+D36+D45 -> 277685 | E29: =E30+E36+E45 -> 284198 | F29: =E29-D29 -> 6513 | G29: 5487
B30: 운영비 | D30: =SUM(D31:D35) -> 184830 | E30: =SUM(E31:E35) -> 208651 | F30: =E30-D30 -> 23821
C31: 생 계 비 -생계비 -춘계부식/김장비 -월동대책비 -특별위로비 | D31: 105584 | E31: 126743 | F31: =E31-D31 -> 21159 | H31: 아동급식비 241,800*35명*12개월=101,556,000 종사자급식비 8명*100,000원*12월= 9,600,000 종사자급식비 4명*60,000원*12월 = 2,880,000 실습생급식비 5명*30,000*2회= 300,000 춘계부식,김장비14,270원*30명*1회= 499,450 월동대책비 35,394*35명*1회= 1,238,790 특별위로비 36,300*35명*2회= 2,541,000 후원금 8,127,000 계 126,742,240
C32: 수용기관경비 -수용기관경비 -아동용돈 -하계수련비 | D32: 46000 | E32: 45375 | G32: 625 | H32: 아동필요용품 8,000*35명*12월= 3,360,000 아동핸드폰요금 10,000원*35명*12월=4,200,000 아동용돈 35명기준 10,225,080 아동용돈(후원금)62,500*35명*12월=26,250,000 하계수련비 24,000*35명= 840,000 잡수입 500,000 계 45,375,080
C33: 피 복 비 | D33: 14446 | E33: 17599 | F33: =E33-D33 -> 3153 | H33: 피복비 11,902*35명*12월 = 4,998,840 후원금 30,000*35명*12월 =12,600,000 계 17,598,840
C34: 의 료 비 | D34: 5500 | E34: 5500 | H34: 진료비 및 약제비 50,000*12월= 600,000 입원비 250,000*2명= 500,000 수술비(포경수술 등) 250,000*2명= 500,000 약품구입 25,000*12월= 300,000 장애아동진단비 150,000*4명= 600,000 CT 및 MRI 촬영 600,000 안경수선및제작비 50,000*4명*12월=2,400,000 계 5,500,000
C35: 연 료 비 | D35: 13300 | E35: 13434 | F35: =E35-D35 -> 134 | H35: 취사연료비 2,240*35명*12월= 940,800 종사자급식비 1,000*12명*12월= 144,000 후원금,이자 350,000 심야전기 1,000,000*12월= 12,000,000 계 13,434,000
B36: 교육비 | D36: =SUM(D37:D44) -> 27812 | E36: =SUM(E37:E44) -> 27043 | G36: 769
C37: 학용품비 | D37: 2162 | E37: 1080 | G37: =D37-E37 -> 1082 | H37: 학용품구입 3,000*30명*12월= 1,080,000
C38: 도서구입비 | D38: 3951 | E38: 4336 | F38: =E38-D38 -> 385 | H38: 중학생부교재비 중15명*41,200*년1회=618,000 초등부교재비 15명*41,200*년1회= 618,000 학습보조비 중15명*100,000*년1회=1,500,000 초15명*80,000*년1회= 1,200,000 기타도서구입비 100,000*4분기= 400,000 계 4,336,000
C39: 교 통 비 | D39: 8080 | E39: 6060 | G39: 2020 | H39: 중1,2,3학년 1,600*240일*15명=5,760,000 후원금 20,000*15명= 300,000 계 6,060,000
C40: 학습지원비 | D40: 3600 | E40: 3600 | H40: 미술학원 100,000*12월= 1,200,000 씽크빅 100,000*12월= 1,200,000 기타 100,000*12월= 1,200,000 계 3,600,000
C41: 수학여행비 | D41: 1655 | E41: 1710 | F41: =E41-D41 -> 55 | H41: 중등 수학여행비 120,000*8명 = 960,000 중등 수련회비 50,000*15명*1회=750,000 계 1,710,000
...

Sheet 급여산출기초1
A1: 2020년 종사자 인건비 산출내역
A2: 성애원 | K2: (단위:원) | U2: 성애원
A3: NO | B3: 직책 | C3: 성명 | D3: 호봉 | E3: 기본급 | G3: 명절휴가비 | H3: 시간외수당 | J3: 가족수당 | K3: 합계 | L3: 표준보수월액
H4: 시간 | I4: 지원금 | M4: 건강보험 | N4: 장기 요양보험 | O4: 국민연금 | P4: 산재보험 | Q4: 고용보험 | R4: 퇴직적립금 | S4: 계(C)
E5: =SUM(E6:E17) -> 34961300 | F5: =ROUNDDOWN(SUM(F6:F17),-3) -> 419535000 | G5: =SUM(G6:G17) -> 41953560 | H5: =SUM(H6:H17) -> 286 | I5: =SUM(I6:I17) -> 65195480 | J5: =SUM(J6:J17) -> 7200000 | K5: =ROUNDDOWN(SUM(K6:K17),-1) -> 533884640 | L5: =SUM(L6:L17) -> #REF! | M5: =SUM(M6:M17) -> #REF! | N5: =SUM(N6:N17) -> #REF! | O5: =SUM(O6:O17) -> #REF! | P5: =SUM(P6:P17) -> #REF! | Q5: =SUM(Q6:Q17) -> #REF! | R5: =SUM(R6:R17) -> 40853790 | S5: =SUM(S6:S17) -> #REF! | ... U5: =SUM(U6:U17) -> #REF!
A6: 1 | B6: 원 장 | C6: 김문정 | D6: 23 | E6: 4662200 | F6: =E6*12 -> 55946400 | G6: =E6*120% -> 5594640 | J6: =100000*12 -> 1200000 | K6: =F6+G6+I6+J6 -> 62741040 | L6: =#REF!+120000 -> #REF! | M6: =ROUNDDOWN(L6*2.995%,-1) -> #REF! | N6: =ROUNDDOWN(M6*6.55%,-1) -> #REF! | O6: =ROUNDDOWN(L6*0.045,-1) -> #REF! | P6: =ROUNDDOWN(L6*0.0056,-1) -> #REF! | Q6: =ROUNDDOWN(L6*0.009,-1) -> #REF! | R6: =ROUNDDOWN(K6/12,-1) -> 5228420 | S6: =SUM(M6:R6) -> #REF! | T6: =#REF!+#REF!+S6-#REF! -> #REF! | U6: =#REF!+#REF!+S6 -> #REF!
A7: 2 | B7: 자립전담요원 | C7: 최연아 | D7: 21 | E7: 3800800 | F7: =E7*12 -> 45609600 | G7: =E7*120% -> 4560960 | H7: 8 | I7: =ROUNDDOWN(F7*1/209*1.5*H7,-1) -> 2618730 | J7: =120000*12 -> 1440000 | K7: =F7+G7+I7+J7 -> 54229290 | L7: =#REF!+120000 -> #REF! | M7: =ROUNDDOWN(L7*2.995%,-1) -> #REF! | N7: =ROUNDDOWN(M7*6.55%,-1) -> #REF! | O7: =ROUNDDOWN(L7*0.045,-1) -> #REF! | P7: =ROUNDDOWN(L7*0.0056,-1) -> #REF! | Q7: =ROUNDDOWN(L7*0.009,-1) -> #REF! | R7: =ROUNDDOWN(K7/12,-1) -> 4519100 | S7: =SUM(M7:R7) -> #REF! | T7: =#REF!+#REF!+S7-#REF! -> #REF! | U7: =#REF!+#REF!+S7 -> #REF!
A8: 3 | B8: 사무원 | C8: 조유미 | D8: 19 | E8: 3107400 | F8: =E8*12 -> 37288800 | G8: =E8*120% -> 3728880 | H8: 8 | I8: =ROUNDDOWN(F8*1/209*1.5*H8,-1) -> 2140980 | J8: =40000*12 -> 480000 | K8: =F8+G8+I8+J8 -> 43638660
A9: 4 | B9: 생활지도원 | C9: 김영순 | D9: 21 | E9: 3196300 | F9: =E9*12 -> 38355600 | G9: =E9*120% -> 3835560 | H9: 30 | I9: =ROUNDDOWN(F9*1/209*1.5*H9,-1) -> 8258380 | K9: =F9+G9+I9+J9 -> 50449540 | L9: =#REF!+120000 -> #REF! | M9: =ROUNDDOWN(L9*2.995%,-1) -> #REF! | N9: =ROUNDDOWN(M9*6.55%,-1) -> #REF! | O9: =ROUNDDOWN(L9*0.045,-1) -> #REF! | P9: =ROUNDDOWN(L9*0.0056,-1) -> #REF! | Q9: =ROUNDDOWN(L9*0.009,-1) -> #REF! | R9: =ROUNDDOWN(K9/12,-1) -> 4204120 | S9: =SUM(M9:R9) -> #REF! | T9: =#REF!+#REF!+S9-#REF! -> #REF! | U9: =#REF!+#REF!+S9 -> #REF!
A10: 5 | B10: 생활지도원 | C10: 강명수 | D10: 18 | E10: 3061300 | F10: =E10*12 -> 36735600 | G10: =E10*120% -> 3673560 | H10: 30 | I10: =ROUNDDOWN(F10*1/209*1.5*H10,-1) -> 7909570 | J10: =80000*12 -> 960000 | K10: =F10+G10+I10+J10 -> 49278730 | L10: =#REF!+120000 -> #REF! | M10: =ROUNDDOWN(L10*2.995%,-1) -> #REF! | N10: =ROUNDDOWN(M10*6.55%,-1) -> #REF! | O10: =ROUNDDOWN(L10*0.045,-1) -> #REF! | P10: =ROUNDDOWN(L10*0.0056,-1) -> #REF! | Q10: =ROUNDDOWN(L10*0.009,-1) -> #REF! | R10: =ROUNDDOWN(K10/12,-1) -> 4106560 | S10: =SUM(M10:R10) -> #REF! | T10: =#REF!+#REF!+S10-#REF! -> #REF! | U10: =#REF!+#REF!+S10 -> #REF!
A11: 6 | B11: 생활지도원 | C11: 김희련 | D11: 11 | E11: 2653900 | F11: =E11*12 -> 31846800 | G11: =E11*120% -> 3184680 | H11: 30 | I11: =ROUNDDOWN(F11*1/209*1.5*H11,-1) -> 6856960 | J11: =40000*12 -> 480000 | K11: =F11+G11+I11+J11 -> 42368440 | L11: =#REF!+120000 -> #REF! | M11: =ROUNDDOWN(L11*2.995%,-1) -> #REF! | N11: =ROUNDDOWN(M11*6.55%,-1) -> #REF! | O11: =ROUNDDOWN(L11*0.045,-1) -> #REF! | P11: =ROUNDDOWN(L11*0.0056,-1) -> #REF! | Q11: =ROUNDDOWN(L11*0.009,-1) -> #REF! | R11: =ROUNDDOWN(K11/12,-1) -> 3530700 | S11: =SUM(M11:R11) -> #REF! | T11: =#REF!+#REF!+S11-#REF! -> #REF! | U11: =#REF!+#REF!+S11 -> #REF!
A12: 7 | B12: 생활지도원 | C12: 김희현 | D12: 13 | E12: 2776100 | F12: =E12*12 -> 33313200 | G12: =E12*120% -> 3331320 | H12: 30 | I12: =ROUNDDOWN(F12*1/209*1.5*H12,-1) -> 7172690 | K12: =F12+G12+I12+J12 -> 43817210 | L12: =#REF!+120000 -> #REF! | M12: =ROUNDDOWN(L12*2.995%,-1) -> #REF! | N12: =ROUNDDOWN(M12*6.55%,-1) -> #REF! | O12: =ROUNDDOWN(L12*0.045,-1) -> #REF! | P12: =ROUNDDOWN(L12*0.0056,-1) -> #REF! | Q12: =ROUNDDOWN(L12*0.009,-1) -> #REF! | R12: =ROUNDDOWN(K12/12,-1) -> 3651430 | S12: =SUM(M12:R12) -> #REF! | T12: =#REF!+#REF!+S12-#REF! -> #REF! | U12: =#REF!+#REF!+S12 -> #REF!
A13: 8 | B13: 생활지도원 | C13: 현명길 | D13: 10 | E13: 2590100 | F13: =E13*12 -> 31081200 | G13: =E13*120% -> 3108120 | H13: 30 | I13: =ROUNDDOWN(F13*1/209*1.5*H13,-1) -> 6692120 | J13: =40000*12 -> 480000 | K13: =F13+G13+I13+J13 -> 41361440 | L13: =#REF!+120000 -> #REF! | M13: =ROUNDDOWN(L13*2.995%,-1) -> #REF! | N13: =ROUNDDOWN(M13*6.55%,-1) -> #REF! | O13: =ROUNDDOWN(L13*0.045,-1) -> #REF! | P13: =ROUNDDOWN(L13*0.0056,-1) -> #REF! | Q13: =ROUNDDOWN(L13*0.009,-1) -> #REF! | R13: =ROUNDDOWN(K13/12,-1) -> 3446780 | S13: =SUM(M13:R13) -> #REF! | T13: =#REF!+#REF!+S13-#REF! -> #REF! | U13: =#REF!+#REF!+S13 -> #REF!
A14: 9 | B14: 생활지도원 | C14: 손소영 | D14: 8 | E14: 2444000 | F14: =E14*12 -> 29328000 | G14: =E14*120% -> 2932800 | H14: 30 | I14: =ROUNDDOWN(F14*1/209*1.5*H14,-1) -> 6314640 | J14: =100000*12 -> 1200000 | K14: =F14+G14+I14+J14 -> 39775440 | L14: =#REF!+120000 -> #REF! | M14: =ROUNDDOWN(L14*2.995%,-1) -> #REF! | N14: =ROUNDDOWN(M14*6.55%,-1) -> #REF! | O14: =ROUNDDOWN(L14*0.045,-1) -> #REF! | P14: =ROUNDDOWN(L14*0.0056,-1) -> #REF! | Q14: =ROUNDDOWN(L14*0.009,-1) -> #REF! | R14: =ROUNDDOWN(K14/12,-1) -> 3314620 | S14: =SUM(M14:R14) -> #REF! | T14: =#REF!+#REF!+S14-#REF! -> #REF! | U14: =#REF!+#REF!+S14 -> #REF!
A15: 10 | B15: 생활지도원 | C15: 김도윤 | D15: 9 | E15: 2524400 | F15: =E15*12 -> 30292800 | G15: =E15*120% -> 3029280 | H15: 30 | I15: =ROUNDDOWN(F15*1/209*1.5*H15,-1) -> 6522370 | K15: =F15+G15+I15+J15 -> 39844450 | L15: =#REF!+120000 -> #REF! | M15: =ROUNDDOWN(L15*2.995%,-1) -> #REF! | N15: =ROUNDDOWN(M15*6.55%,-1) -> #REF! | O15: =ROUNDDOWN(L15*0.045,-1) -> #REF! | P15: =ROUNDDOWN(L15*0.0056,-1) -> #REF! | Q15: =ROUNDDOWN(L15*0.009,-1) -> #REF! | R15: =ROUNDDOWN(K15/12,-1) -> 3320370 | S15: =SUM(M15:R15) -> #REF! | T15: =#REF!+#REF!+S15-#REF! -> #REF! | U15: =#REF!+#REF!+S15 -> #REF!
A16: 11 | B16: 생활지도원 | C16: 이지환 | D16: 4 | E16: 2088600 | F16: =E16*12 -> 25063200 | G16: =E16*120% -> 2506320 | H16: 30 | I16: =ROUNDDOWN(F16*1/209*1.5*H16,-1) -> 5396380 | J16: =40000*12 -> 480000 | K16: =F16+G16+I16+J16 -> 33445900 | L16: =#REF!+120000 -> #REF! | M16: =ROUNDDOWN(L16*2.995%,-1) -> #REF! | N16: =ROUNDDOWN(M16*6.55%,-1) -> #REF! | O16: =ROUNDDOWN(L16*0.045,-1) -> #REF! | P16: =ROUNDDOWN(L16*0.0056,-1) -> #REF! | Q16: =ROUNDDOWN(L16*0.009,-1) -> #REF! | R16: =ROUNDDOWN(K16/12,-1) -> 2787150 | S16: =SUM(M16:R16) -> #REF! | T16: =#REF!+#REF!+S16-#REF! -> #REF! | U16: =#REF!+#REF!+S16 -> #REF!
A17: 12 | B17: 조리원 | C17: 이명숙 | D17: 6 | E17: 2056200 | F17: =E17*12 -> 24674400 | G17: =E17*120% -> 2467440 | H17: 30 | I17: =ROUNDDOWN(F17*1/209*1.5*H17,-1) -> 5312660 | J17: =40000*12 -> 480000 | K17: =F17+G17+I17+J17 -> 32934500 | L17: =#REF!+120000 -> #REF! | M17: =ROUNDDOWN(L17*2.995%,-1) -> #REF! | N17: =ROUNDDOWN(M17*6.55%,-1) -> #REF! | O17: =ROUNDDOWN(L17*0.045,-1) -> #REF! | P17: =ROUNDDOWN(L17*0.0056,-1) -> #REF! | Q17: =ROUNDDOWN(L17*0.009,-1) -> #REF! | R17: =ROUNDDOWN(K17/12,-1) -> 2744540 | S17: =SUM(M17:R17) -> #REF! | T17: =#REF!+#REF!+S17-#REF! -> #REF! | U17: =#REF!+#REF!+S17 -> #REF!

Sheet 사회보험
A1: 2020년 종사자 사회보험 산출내역
A2: 성애원 | S2: (단위:원)
A3: NO | B3: 직책 | C3: 성명 | D3: 호봉 | E3: 기본급 | G3: 명절휴가비 | H3: 시간외수당 | J3: 가족수당 | K3: 총급여 | L3: 표준보수액 | M3: 사 용 자 부 담
H4: 시간 | I4: 지원금
M5: 건강보험 (8%) | N5: 장기 요양보험 (6%) | O5: 국민연금 (5%) | P5: 산재보험 (0.9%) | Q5: 고용보험 (2%) | R5: 퇴직적립금 (A/12) | S5: 합계
A6: 계 | E6: =SUM(E7:E18) -> 34961300 | F6: =ROUNDDOWN(SUM(F7:F18),-3) -> 419535000 | G6: =SUM(G7:G18) -> 41953560 | H6: =SUM(H8:H18) -> 286 | I6: =SUM(I8:I18) -> 65195480 | J6: =SUM(J7:J18) -> 7200000 | K6: =ROUNDDOWN(SUM(K7:K18),-3) -> 533884000 | L6: =ROUNDDOWN(SUM(L7:L18),-3) -> 533884000 | M6: =SUM(M7:M18) -> 21355320 | N6: =SUM(N7:N18) -> 1949660 | O6: =SUM(O7:O18) -> 26694190 | P6: =SUM(P7:P18) -> 3877520 | Q6: =SUM(Q7:Q18) -> 9422810 | R6: =SUM(R7:R18) -> 44490340 | S6: =ROUNDDOWN(SUM(S7:S18),-1) -> 107789840
A7: 1 | B7: 원 장 | C7: 김문정 | D7: 23 | E7: =급여산출기초1!E6 -> 4662200 | F7: =E7*12 -> 55946400 | G7: =E7*120% -> 5594640 | J7: =100000*12 -> 1200000 | K7: =F7+G7+I7+J7 -> 62741040 | L7: =K7 -> 62741040 | M7: =ROUNDDOWN(L7*4%,-1) -> 2509640 | N7: =ROUNDDOWN(M7*6%,-1)+55700 -> 206270 | O7: =ROUNDDOWN(L7*5%,-1) -> 3137050 | R7: =ROUNDDOWN(K7/12,-1) -> 5228420 | S7: =SUM(M7:R7) -> 11081380
A8: 2 | B8: 자립전담요원 | C8: 윤지희 | D8: 21 | E8: =급여산출기초1!E7 -> 3800800 | F8: =E8*12 -> 45609600 | G8: =E8*120% -> 4560960 | H8: 8 | I8: =ROUNDDOWN(F8*1/209*1.5*H8,-1) -> 2618730 | J8: =120000*12 -> 1440000 | K8: =F8+G8+I8+J8 -> 54229290 | L8: =K8 -> 54229290 | M8: =ROUNDDOWN(L8*4%,-1) -> 2169170 | N8: =ROUNDDOWN(M8*6%,-1)+55700 -> 185850 | O8: =ROUNDDOWN(L8*5%,-1) -> 2711460 | P8: =ROUNDDOWN(L8*0.9%,-1) -> 488060 | Q8: =ROUNDDOWN(L8*2%,-1) -> 1084580 | R8: =ROUNDDOWN(K8/12,-1) -> 4519100 | S8: =SUM(M8:R8) -> 11158220
A9: 3 | B9: 사무원 | C9: 강명수 | D9: 19 | E9: =급여산출기초1!E8 -> 3107400 | F9: =E9*12 -> 37288800 | G9: =E9*120% -> 3728880 | H9: 8 | I9: =ROUNDDOWN(F9*1/209*1.5*H9,-1) -> 2140980 | J9: =40000*12 -> 480000 | K9: =F9+G9+I9+J9 -> 43638660 | L9: =K9 -> 43638660 | M9: =ROUNDDOWN(L9*4%,-1) -> 1745540 | N9: =ROUNDDOWN(M9*6%,-1)+55700 -> 160430 | O9: =ROUNDDOWN(L9*5%,-1) -> 2181930 | P9: =ROUNDDOWN(L9*0.813%,-1) -> 354780 | Q9: =ROUNDDOWN(L9*2%,-1) -> 872770 | R9: =ROUNDDOWN(K9/12,-1) -> 3636550 | S9: =SUM(M9:R9) -> 8952000
A10: 4 | B10: 생활지도원1 | C10: 한재범 | D10: 21 | E10: =급여산출기초1!E9 -> 3196300 | F10: =E10*12 -> 38355600 | G10: =E10*120% -> 3835560 | H10: 30 | I10: =ROUNDDOWN(F10*1/209*1.5*H10,-1) -> 8258380 | K10: =F10+G10+I10+J10 -> 50449540 | L10: =K10 -> 50449540 | M10: =ROUNDDOWN(L10*4%,-1) -> 2017980 | N10: =ROUNDDOWN(M10*6%,-1)+55700 -> 176770 | O10: =ROUNDDOWN(L10*5%,-1) -> 2522470 | P10: =ROUNDDOWN(L10*0.813%,-1) -> 410150 | Q10: =ROUNDDOWN(L10*2%,-1) -> 1008990 | R10: =ROUNDDOWN(K10/12,-1) -> 4204120 | S10: =SUM(M10:R10) -> 10340480
A11: 5 | B11: 생활지도원2 | C11: 윤기영 | D11: 18 | E11: =급여산출기초1!E10 -> 3061300 | F11: =E11*12 -> 36735600 | G11: =E11*120% -> 3673560 | H11: 30 | I11: =ROUNDDOWN(F11*1/209*1.5*H11,-1) -> 7909570 | J11: =80000*12 -> 960000 | K11: =F11+G11+I11+J11 -> 49278730 | L11: =K11 -> 49278730 | M11: =ROUNDDOWN(L11*4%,-1) -> 1971140 | N11: =ROUNDDOWN(M11*6%,-1)+55700 -> 173960 | O11: =ROUNDDOWN(L11*5%,-1) -> 2463930 | P11: =ROUNDDOWN(L11*0.813%,-1) -> 400630 | Q11: =ROUNDDOWN(L11*2%,-1) -> 985570 | R11: =ROUNDDOWN(K11/12,-1) -> 4106560 | S11: =SUM(M11:R11) -> 10101790
A12: 6 | B12: 생활지도원3 | C12: 김희련 | D12: 11 | E12: =급여산출기초1!E11 -> 2653900 | F12: =E12*12 -> 31846800 | G12: =E12*120% -> 3184680 | H12: 30 | I12: =ROUNDDOWN(F12*1/209*1.5*H12,-1) -> 6856960 | J12: 480000 | K12: =F12+G12+I12+J12 -> 42368440 | L12: =K12 -> 42368440 | M12: =ROUNDDOWN(L12*4%,-1) -> 1694730 | N12: =ROUNDDOWN(M12*6%,-1)+55700 -> 157380 | O12: =ROUNDDOWN(L12*5%,-1) -> 2118420 | P12: =ROUNDDOWN(L12*0.813%,-1) -> 344450 | Q12: =ROUNDDOWN(L12*2%,-1) -> 847360 | R12: =ROUNDDOWN(K12/12,-1) -> 3530700 | S12: =SUM(M12:R12) -> 8693040
A13: 7 | B13: 생활지도원4 | C13: 박지혜 | D13: 13 | E13: =급여산출기초1!E12 -> 2776100 | F13: =E13*12 -> 33313200 | G13: =E13*120% -> 3331320 | H13: 30 | I13: =ROUNDDOWN(F13*1/209*1.5*H13,-1) -> 7172690 | K13: =F13+G13+I13+J13 -> 43817210 | L13: =K13 -> 43817210 | M13: =ROUNDDOWN(L13*4%,-1) -> 1752680 | N13: =ROUNDDOWN(M13*6%,-1)+55700 -> 160860 | O13: =ROUNDDOWN(L13*5%,-1) -> 2190860 | P13: =ROUNDDOWN(L13*0.813%,-1) -> 356230 | Q13: =ROUNDDOWN(L13*2%,-1) -> 876340 | R13: =ROUNDDOWN(K13/12,-1) -> 3651430 | S13: =SUM(M13:R13) -> 8988400
A14: 8 | B14: 생활지도원5 | C14: 권선정 | D14: 10 | E14: =급여산출기초1!E13 -> 2590100 | F14: =E14*12 -> 31081200 | G14: =E14*120% -> 3108120 | H14: 30 | I14: =ROUNDDOWN(F14*1/209*1.5*H14,-1) -> 6692120 | J14: =40000*12 -> 480000 | K14: =F14+G14+I14+J14 -> 41361440 | L14: =K14 -> 41361440 | M14: =ROUNDDOWN(L14*4%,-1) -> 1654450 | N14: =ROUNDDOWN(M14*6%,-1)+55700 -> 154960 | O14: =ROUNDDOWN(L14*5%,-1) -> 2068070 | P14: =ROUNDDOWN(L14*0.813%,-1) -> 336260 | Q14: =ROUNDDOWN(L14*2%,-1) -> 827220 | R14: =ROUNDDOWN(K14/12,-1) -> 3446780 | S14: =SUM(M14:R14) -> 8487740
A15: 9 | B15: 생활지도원6 | C15: 노미아 | D15: 8 | E15: =급여산출기초1!E14 -> 2444000 | F15: =E15*12 -> 29328000 | G15: =E15*120% -> 2932800 | H15: 30 | I15: =ROUNDDOWN(F15*1/209*1.5*H15,-1) -> 6314640 | J15: =100000*12 -> 1200000 | K15: =F15+G15+I15+J15 -> 39775440 | L15: =K15 -> 39775440 | M15: =ROUNDDOWN(L15*4%,-1) -> 1591010 | N15: =ROUNDDOWN(M15*6%,-1)+55700 -> 151160 | O15: =ROUNDDOWN(L15*5%,-1) -> 1988770 | P15: =ROUNDDOWN(L15*0.813%,-1) -> 323370 | Q15: =ROUNDDOWN(L15*2%,-1) -> 795500 | R15: =ROUNDDOWN(K15/12,-1) -> 3314620 | S15: =SUM(M15:R15) -> 8164430
A16: 10 | B16: 생활지도원7 | C16: 조숙 | D16: 9 | E16: =급여산출기초1!E15 -> 2524400 | F16: =E16*12 -> 30292800 | G16: =E16*120% -> 3029280 | H16: 30 | I16: =ROUNDDOWN(F16*1/209*1.5*H16,-1) -> 6522370 | K16: =F16+G16+I16+J16 -> 39844450 | L16: =K16 -> 39844450 | M16: =ROUNDDOWN(L16*4%,-1) -> 1593770 | N16: =ROUNDDOWN(M16*6%,-1)+55700 -> 151320 | O16: =ROUNDDOWN(L16*5%,-1) -> 1992220 | P16: =ROUNDDOWN(L16*0.813%,-1) -> 323930 | Q16: =ROUNDDOWN(L16*2%,-1) -> 796880 | R16: =ROUNDDOWN(K16/12,-1) -> 3320370 | S16: =SUM(M16:R16) -> 8178490
A17: 11 | B17: 생활지도원8 | C17: 김희현 | D17: 4 | E17: =급여산출기초1!E16 -> 2088600 | F17: =E17*12 -> 25063200 | G17: =E17*120% -> 2506320 | H17: 30 | I17: =급여산출기초1!I16 -> 5396380 | J17: =급여산출기초1!J16 -> 480000 | K17: =F17+G17+I17+J17 -> 33445900 | L17: =K17 -> 33445900 | M17: =ROUNDDOWN(L17*4%,-1) -> 1337830 | N17: =ROUNDDOWN(M17*6%,-1)+55700 -> 135960 | O17: =ROUNDDOWN(L17*5%,-1) -> 1672290 | P17: =ROUNDDOWN(L17*0.813%,-1) -> 271910 | Q17: =ROUNDDOWN(L17*2%,-1) -> 668910 | R17: =ROUNDDOWN(K17/12,-1) -> 2787150 | S17: =SUM(M17:R17) -> 6874050
A18: 12 | B18: 조리원 | C18: 권미정 | D18: 5 | E18: =급여산출기초1!E17 -> 2056200 | F18: =E18*12 -> 24674400 | G18: =E18*120% -> 2467440 | H18: 30 | I18: =ROUNDDOWN(F18*1/209*1.5*H18,-1) -> 5312660 | J18: =40000*12 -> 480000 | K18: =F18+G18+I18+J18 -> 32934500 | L18: =K18 -> 32934500 | M18: =ROUNDDOWN(L18*4%,-1) -> 1317380 | N18: =ROUNDDOWN(M18*6%,-1)+55700 -> 134740 | O18: =ROUNDDOWN(L18*5%,-1) -> 1646720 | P18: =ROUNDDOWN(L18*0.813%,-1) -> 267750 | Q18: =ROUNDDOWN(L18*2%,-1) -> 658690 | R18: =ROUNDDOWN(K18/12,-1) -> 2744540 | S18: =SUM(M18:R18) -> 6769820

Sheet 임직원보수일람표1
A1: 2020년 임직원 보수일람표
A2: 성 애 원 | M2: (단위:원)
A3: NO | B3: 직책 | C3: 성명 | D3: 호봉 | E3: 기본급 | F3: 기본급계 | G3: 명절위로비 | H3: 가족수당 | I3: 시간외수당 | J3: 제수당계 | K3: 급여계 | L3: 공제액 | M3: 차감지급액
A4: 계 | E4: =SUM(E5:E16) -> 34961300 | F4: =ROUNDDOWN(SUM(F5:F16),-3) -> 419535000 | G4: =SUM(G5:G16) -> 41953560 | H4: =SUM(H5:H16) -> 7200000 | I4: =SUM(I6:I16) -> 65195480 | J4: =SUM(J5:J16) -> 114349040 | K4: =ROUNDDOWN(SUM(K5:K16),-3) -> 533884000 | L4: =SUM(L5:L16) -> 74743810 | M4: =SUM(M5:M16) -> 459140830
A5: 1 | B5: 원 장 | C5: 김문정 | D5: 23 | E5: =급여산출기초1!E6 -> 4662200 | F5: =E5*12 -> 55946400 | G5: =E5*120% -> 5594640 | H5: =100000*12 -> 1200000 | J5: =SUM(G5:I5) -> 6794640 | K5: =F5+J5 -> 62741040 | L5: =ROUNDDOWN(K5*14%,-1) -> 8783740 | M5: =K5-L5 -> 53957300
A6: 2 | B6: 자립전담요원 | C6: 최연아 | D6: 21 | E6: =급여산출기초1!E7 -> 3800800 | F6: =E6*12 -> 45609600 | G6: =E6*120% -> 4560960 | H6: =120000*12 -> 1440000 | I6: =ROUNDDOWN(F6*1/209*1.5*8,-1) -> 2618730 | J6: =SUM(G6:I6) -> 8619690 | K6: =F6+J6 -> 54229290 | L6: =ROUNDDOWN(K6*14%,-1) -> 7592100 | M6: =K6-L6 -> 46637190
A7: 3 | B7: 사무원 | C7: 조유미 | D7: 19 | E7: =급여산출기초1!E8 -> 3107400 | F7: =E7*12 -> 37288800 | G7: =E7*120% -> 3728880 | H7: =40000*12 -> 480000 | I7: =ROUNDDOWN(F7*1/209*1.5*8,-1) -> 2140980 | J7: =SUM(G7:I7) -> 6349860 | K7: =F7+J7 -> 43638660 | L7: =ROUNDDOWN(K7*14%,-1) -> 6109410 | M7: =K7-L7 -> 37529250
A8: 4 | B8: 생활지도원 | C8: 김영순 | D8: 21 | E8: =급여산출기초1!E9 -> 3196300 | F8: =E8*12 -> 38355600 | G8: =E8*120% -> 3835560 | I8: =ROUNDDOWN(F8*1/209*1.5*30,-1) -> 8258380 | J8: =SUM(G8:I8) -> 12093940 | K8: =F8+J8 -> 50449540 | L8: =ROUNDDOWN(K8*14%,-1) -> 7062930 | M8: =K8-L8 -> 43386610
A9: 5 | B9: 생활지도원 | C9: 강명수 | D9: 18 | E9: =급여산출기초1!E10 -> 3061300 | F9: =E9*12 -> 36735600 | G9: =E9*120% -> 3673560 | H9: =80000*12 -> 960000 | I9: =ROUNDDOWN(F9*1/209*1.5*30,-1) -> 7909570 | J9: =SUM(G9:I9) -> 12543130 | K9: =F9+J9 -> 49278730 | L9: =ROUNDDOWN(K9*14%,-1) -> 6899020 | M9: =K9-L9 -> 42379710
A10: 6 | B10: 생활지도원 | C10: 김희련 | D10: 11 | E10: =급여산출기초1!E11 -> 2653900 | F10: =E10*12 -> 31846800 | G10: =E10*120% -> 3184680 | H10: 480000 | I10: =ROUNDDOWN(F10*1/209*1.5*30,-1) -> 6856960 | J10: =SUM(G10:I10) -> 10521640 | K10: =F10+J10 -> 42368440 | L10: =ROUNDDOWN(K10*14%,-1) -> 5931580 | M10: =K10-L10 -> 36436860
A11: 7 | B11: 생활지도원 | C11: 김희현 | D11: 13 | E11: =급여산출기초1!E12 -> 2776100 | F11: =E11*12 -> 33313200 | G11: =E11*120% -> 3331320 | I11: =ROUNDDOWN(F11*1/209*1.5*30,-1) -> 7172690 | J11: =SUM(G11:I11) -> 10504010 | K11: =F11+J11 -> 43817210 | L11: =ROUNDDOWN(K11*14%,-1) -> 6134400 | M11: =K11-L11 -> 37682810
A12: 8 | B12: 생활지도원 | C12: 현명길 | D12: 10 | E12: =급여산출기초1!E13 -> 2590100 | F12: =E12*12 -> 31081200 | G12: =E12*120% -> 3108120 | H12: =40000*12 -> 480000 | I12: =ROUNDDOWN(F12*1/209*1.5*30,-1) -> 6692120 | J12: =SUM(G12:I12) -> 10280240 | K12: =F12+J12 -> 41361440 | L12: =ROUNDDOWN(K12*14%,-1) -> 5790600 | M12: =K12-L12 -> 35570840
A13: 9 | B13: 생활지도원 | C13: 손소영 | D13: 8 | E13: =급여산출기초1!E14 -> 2444000 | F13: =E13*12 -> 29328000 | G13: =E13*120% -> 2932800 | H13: =100000*12 -> 1200000 | I13: =ROUNDDOWN(F13*1/209*1.5*30,-1) -> 6314640 | J13: =SUM(G13:I13) -> 10447440 | K13: =F13+J13 -> 39775440 | L13: =ROUNDDOWN(K13*14%,-1) -> 5568560 | M13: =K13-L13 -> 34206880
A14: 10 | B14: 생활지도원 | C14: 김도윤 | D14: 9 | E14: =급여산출기초1!E15 -> 2524400 | F14: =E14*12 -> 30292800 | G14: =E14*120% -> 3029280 | I14: =ROUNDDOWN(F14*1/209*1.5*30,-1) -> 6522370 | J14: =SUM(G14:I14) -> 9551650 | K14: =F14+J14 -> 39844450 | L14: =ROUNDDOWN(K14*14%,-1) -> 5578220 | M14: =K14-L14 -> 34266230
A15: 11 | B15: 생활지도원 | C15: 이지환 | D15: 4 | E15: =급여산출기초1!E16 -> 2088600 | F15: =E15*12 -> 25063200 | G15: =급여산출기초1!G16 -> 2506320 | H15: =급여산출기초1!J16 -> 480000 | I15: =급여산출기초1!I16 -> 5396380 | J15: =SUM(G15:I15) -> 8382700 | K15: =F15+J15 -> 33445900 | L15: =ROUNDDOWN(K15*14%,-1) -> 4682420 | M15: =K15-L15 -> 28763480
A16: 12 | B16: 조리원 | C16: 이명숙 | D16: 6 | E16: =급여산출기초1!E17 -> 2056200 | F16: =E16*12 -> 24674400 | G16: =E16*120% -> 2467440 | H16: =40000*12 -> 480000 | I16: =ROUNDDOWN(F16*1/209*1.5*30,-1) -> 5312660 | J16: =SUM(G16:I16) -> 8260100 | K16: =F16+J16 -> 32934500 | L16: =ROUNDDOWN(K16*14%,-1) -> 4610830 | M16: =K16-L16 -> 28323670

Sheet 운영비
A1: 2020년 성애원(시설) 경상보조금 관리운영비 산출내역(국시비)
A2: 성 애 원 | E2: (단위:원)
A3: 구 분 | B3: 지급기준 | C3: 예산액 | D3: 산출내역 | E3: 비 고
A4: 3세미만 | B4: 89,237/월 | D4: 명*89,237원*12월 | E4: 35명기준
A5: 3세이상 | B5: 127,790/월 | C5: 53671800 | D5: 35명*127,790원*12월=53,671,800원
A6: 춘계부식비/월동김장비 | B6: 14,270/년1인당 | C6: 499450 | D6: 35명*14,270원*년1회=499450dnjs
A7: 행사지원비 | B7: 연1회 | C7: 1081000 | D7: 연찬회 : 137,930*3인=413,790 사생대회 : 21,317.5*10인=213,715 | E7: 전년도 준함
A8: 소 계 | C8: =SUM(C4:C7) -> 55252250
A10: 2020년 성애원(시설) 관리운영비 산출내역(시비)
A11: 성 애 원 | E11: (단위:원)
A12: 구 분 | B12: 지급기준 | C12: 예산액 | D12: 산출내역 | E12: 비 고
A13: 영아위생대 | B13: 22,500/월1인당 | D13: 3세미만 명*22,500원*12월
A14: 아동용돈(고) | B14: 36,000/월1인당 | C14: 4752000 | D14: 고등학생11명*36,000원*12월=4,752,000원 | E14: 11명
A15: 아동용돈(중) | B15: 24,000/월1인당 | C15: 5472000 | D15: 중학생19명*24,000원*12월=5,472,000원 | E15: 19명
A16: 아동용돈(초등) | B16: 18,000/월1인당 | C16: 1080000 | D16: 초등학생 5명*18,000원*12월=1,080,000원 | E16: 5명
A17: 하계수련비 | B17: 24,000/년1인당 | C17: 840000 | D17: 3세이상 35명*24,000원*년1회=840,000원 | E17: 30명
A18: 교통비 | B18: 1,600/일1인당,240일 | C18: 11520000 | D18: 30명*1,600원*240일=11,520,000원 | E18: 8명
A19: 수학여행비 | B19: 85,000/년1인당 | C19: 960000 | D19: 중2학년 4명*120,000원=480,000원 고2학년 4명*120,000원=480,000원 | E19: 9명
A20: 학습보조비(고등) | B20: 120,000/년1인당 | C20: 1320000 | D20: 고등학생11명*120,000원*년1회=1,320,000원 | E20: 4명
A21: 학습보조비(중등) | B21: 100,000/년1인당 | C21: 1900000 | D21: 중학생 19명*100,000원*년1회=1,900,000원 | E21: 15명
A22: 학습보조비(초등) | B22: 80,000/년1인당 | C22: 400000 | D22: 초등학생 5명*80,000원*년1회=400,000원 | E22: 11명
A23: 환경개선비 | B23: 4,570,000/3년마다
A24: 안전관리비 | B24: 2,000,000/년1회 | C24: 2000000
A25: 소 계 | C25: =SUM(C13:C24) -> 30244000
A26: 합 계 | C26: =C8+C25 -> 85496250

Sheet 생계비
B1: 2020년 성애원(시설) 경상보조금 생계비(국시비) 산출내역
B2: 성 애 원 | I2: (단위:원)
B3: 구 분 | D3: 기준액 | E3: 지급회수 | F3: 예상 인원 | G3: 예산액 | H3: 산출내역 | I3: 비 고
B4: 주부식비통합 -피복비 -취사연료 포함 | C4: 주부식비 | D4: 241800 | E4: 월 | F4: 35 | G4: 101556000 | H4: 241,800*35명*12개월=101,556,000원 | I4: 주부식비 1식 2,600원 2,177*91식 월 1인당 241,800원
C5: 피복비 | D5: 11902 | E5: 월 | F5: 35 | G5: 4998840 | H5: 11,902*35명*12개월=4,998,840원
C6: 취사연료비 | D6: 2240 | E6: 월 | F6: 35 | G6: 940800 | H6: 2,240*35명*12개월=940,800원
B7: 소계 | D7: =SUM(D4:D6) -> 255942 | E7: 월 | G7: =SUM(G4:G6) -> 107495640 | H7: 220,393*30명*12개월=166,617,108
B8: 월동대책비 | D8: 35394 | E8: 연1회 | F8: 35 | G8: 1238790 | H8: 35,394원*35명*1회=1,238,790원
B9: 특별위로비(설,추석) | D9: 36300 | E9: 연2회 | F9: 35 | G9: 2541000 | H9: 36,300원*35명*2회=2,541,000원
B10: 소계 | G10: =SUM(G8:G9) -> 3779790
B11: 합 계 | G11: =G7+G10 -> 111275430
B12: * 2019년도 기초생활보장 지침 중 시설생계급여 등 지원기준
