Workbook

Sheet 세입부
A1: 2021년도 성애원(시설) 세입 세출예산(안)
A3: 세입부 | H3: (단위:천원)
A4: 과 목 | D4: 예 산 액 | F4: 비 교 | H4: 산 출 기 초
A5: 관 | B5: 항 | C5: 목 | D5: 전년도 | E5: 당해년도 | F5: 증 | G5: 감
A6: 합 계 | D6: =D7+D12+D17+D21+D24 -> 1017085 | E6: =E7+E12+E17+E21+E24 -> 1193192 | F6: =E6-D6 -> 176107 | H6: 전년도 예산 대비 17.3% 증액
A7: 보조금수입 | D7: =D8 -> 782497 | E7: =E8 -> 944132 | F7: =E7-D7 -> 161635
B8: 보조금수입 | D8: =D9+D10+D11 -> 782497 | E8: =E9+E10 -> 944132 | F8: =E8-D8 -> 161635
C9: 국고보조금 | D9: 756511 | E9: 911938 | F9: =E9-D9 -> 155427 | H9: 인건비 759,395,000 생계비 99,885,000 운영비 48,600,000 춘계부식비 428,100 행사지원금 3,630,000 계 911,938100
C10: 시도보조금 | D10: 25986 | E10: 32194 | F10: =E10-D10 -> 6208 | H10: 아동용돈 11,376,000 하계수련비 720,000 교통비 11,520,000 학습보조비 3,260,000 수학여행비 1,200,000 안전관리비 2,000,000 종사자복지포인트 1,600,000 방역비 518,000 계 30,476,000
C11: 기타보조금 | F11: =E11-D11 -> 0 | G11: =#REF!-#REF! -> #REF!
A12: 후원금수입 | D12: =SUM(D14:D16) -> 122500 | E12: =SUM(E14:E16) -> 122500
B13: 후원금수입 | D13: =D14+D15+D16 -> 122500 | E13: =E14+E15+E16 -> 122500
C14: 지정후원금 | D14: 60000 | E14: 60000 | H14: 개인결연(개인후원,어린이재단,디딤씨앗) 아동연합회 경유 지정후원금 지역사회 지정후원금
C15: 비지정후원금 | D15: 60000 | E15: =D15 -> 60000
C16: 후원금이자 | D16: 2500 | E16: =D16 -> 2500
A17: 전입금 | D17: =D18 -> 2500 | E17: =E18 -> 2500
B18: 전입금 | D18: =D19+D20 -> 2500 | E18: =E19+E20 -> 2500
C19: 법인전입금 | D19: 1000 | E19: 1000 | H19: 퇴직연금수수료
C20: 법인전입금 (후원금) | D20: 1500 | E20: 1500
A21: 이월금 | D21: =SUM(D23:D23) -> 98888 | E21: =E22 -> 110000 | F21: =E21-D21 -> 11112
B22: 이월금 | D22: =D23 -> 98888 | E22: =E23 -> 110000 | F22: =E22-D22 -> 11112
C23: 전년도이월금 | D23: 98888 | E23: 110000 | F23: =E23-D23 -> 11112 | H23: 비지정후원금 108,500,000 지정후원금 1,500,000
A24: 잡수입 | D24: =SUM(D26:D28) -> 10700 | E24: =E25 -> 14060 | F24: =E24-D24 -> 3360
B25: 잡수입 | D25: =D26+D27+D28 -> 10700 | E25: =E26+E27+E28 -> 14060 | F25: =E25-D25 -> 3360
C26: 기타예금 이자수입 | D26: 600 | E26: 600
C27: 종사자급식비 | D27: 9600 | E27: 12960 | F27: =E27-D27 -> 3360 | H27: 종사자급식비(생활지도원) 2명*70,000*12월 10,080,000 종사자급식비(사무실)4명*60,000원 2,880,000 계 12,960,000
C28: 기타잡수입 | D28: 500 | E28: 500 | H28: 실습생급식비 2*30,000*2회 120,000 실습비 2명*70,000*2회 280,000 기타 100,000 계 500,000

Sheet 세출부
A1: 2021년도 성애원(시설) 세입 세출예산(안)
A3: 세 출 부 | H3: (단위 : 천원)
A4: 과 목 | D4: 예 산 액 | F4: 비 교 | H4: 산 출 기 초
A5: 관 | B5: 항 | C5: 목 | D5: 전년도 | E5: 당해년도 | F5: 증 | G5: 감
A6: 합 계 | D6: =D7+D25+D30+D57+D60 -> 1017085 | E6: =E7+E25+E30+E57+E60 -> 1193192 | F6: =E6-D6 -> 176107 | H6: 전년도 예산 대비 17.3% 증액
A7: 사무비 | D7: =D8+D14+D17 -> 685730 | E7: =E8+E14+E17 -> 834728 | F7: =E7-D7 -> 148998
B8: 인건비 | D8: =SUM(D9:D13) -> 618383 | E8: =SUM(E9:E13) -> 761937 | F8: =E8-D8 -> 143554
C9: 급 여 | D9: 408225 | E9: 499380 | F9: =E9-D9 -> 91155 | H9: 기본급 499,380,000
C10: 제 수 당 | D10: 112884 | E10: 141720 | F10: =E10-D10 -> 28836 | H10: 명절휴가비 49,938,000 시간외수당 81,222,790 가족수당 10,560,000 계 141,720,790
C11: 퇴직금및 퇴직적립금 | D11: 43252 | E11: 53425 | F11: =E11-D11 -> 10173 | H11: 퇴직금및퇴직적립금 53,425,066
C12: 사회보험 부담비용 | D12: 52170 | E12: 64970 | F12: =E12-D12 -> 12800 | H12: 국민건강보험 21,430,000 장기요양보험 2,630,000 국민연금보험 29,040,000 산재보험 5,160,000 고용보험 6,710,000 계 64,970,000
C13: 기타후생경비 | D13: 1852 | E13: 2442 | F13: =E13-D13 -> 590 | H13: 명절선물구입 16명*10,000*2회= 320,000 직원워크샵 14명*15,000*1회= 210,000 공로패제작 2명*66,000 = 132,000 생일축하금 16명*30,000 = 480,000 포상선물비 2명*50,000 = 100,000 퇴직연금수수료(전입금) 1,200,000 계 2,442,000
B14: 업무추진비 | D14: =SUM(D15:D16) -> 3674 | E14: =SUM(E15:E16) -> 3674
C15: 기관운영비 | D15: 2914 | E15: 2914 | H15: 후원자 감사패 66,000원*8개= 528,000 후원자 감사선물 900,000원*2회= 1,800,000 기타 기관운영비 586,000 계 2,914,000
C16: 회 의 비 | D16: 760 | E16: 760 | H16: 시설운영위원회의비 100,000*4분기= 400,000 사례회의비 20,000원*12월= 240,000 후원자간담회비 30,000원*4분기= 120,000 계 760,000
B17: 운영비 | D17: =SUM(D18:D24) -> 63673 | E17: =SUM(E18:E24) -> 69117 | F17: =E17-D17 -> 5444
C18: 여 비 | D18: 3100 | E18: 3844 | F18: =E18-D18 -> 744 | H18: 직원교육비 84,000*16명=1,344,000 직원출장비 100,000*16월=1,600,000 시설장 세미나비 500,000 사무국장 세미나비 400,000 계 3,844,000
C19: 수용비및 수수료 | D19: 15600 | E19: 16840 | F19: =E19-D19 -> 1240 | H19: 사무용품비 250,000*12월= 3,000,000 인쇄비 200,000* 4월= 800,000 집기구입비 100,000* 6월= 600,000 공고료 50,000*12월= 600,000 수수료 50,000*12월= 600,000 등기료 50,000*12월= 600,000 운송비 50,000*12월= 600,000 통행료 50,000*12월= 600,000 주차료 50,000*12월= 600,000 A/S비 50,000*12월= 600,000 신문대금 30,000*12월= 360,000 사무기기임대료 297,000*12월= 3,564,000 정수기 렌탈료 180,000*12월= 2,160,000 기타 2,000,000 계 16,684,000
C20: 공공요금 | D20: 22560 | E20: 22560 | F20: =E20-D20 -> 0 | G20: =D20-E20 -> 0 | H20: 전화요금 150,000*12월= 1,800,000 전기요금 700,000*12월= 8,400,000 상하수도요금 500,000*12월= 6,000,000 인터넷및키폰요금 150,000*12월= 1,800,000 TV사용료 150,000*12월= 1,800,000 우편요금 30,000*12월= 360,000 쓰레기봉투구입 100,000*12월= 1,200,000 납부필증 100,000*12월= 1,200,000 계 22,560,000
C21: 제세공과금 | D21: 8970 | E21: 9770 | F21: =E21-D21 -> 800 | H21: 신원보증보험 15,000*2명= 30,000 상해보험(아동+종사자+여행자) 400,000 화재보험 500,000 자동차보험(스타렉스3164) 700,000 자동차보험(스타렉스8394) 700,000 자동차보험(모닝9214) 600,000 자동차보험(스파크6742) 600,000 영업배상책임보험 600,000 자동차세 800,000 환경개선부담금 1,000,000 아동연합회비960,000*4분기 3,840,000 계 9,770,000
C22: 차 량 비 | D22: 10800 | E22: 13060 | F22: =E22-D22 -> 2260 | H22: 차량유류대 516,667*12월= 6,200,000 차량정비유지비 400,000*12월= 3,432,000 차량소모품비 400,000*12월= 3,428,000 계 13,060,000
C23: 종사자복지포인트 | D23: 1200 | E23: 1600 | F23: =E23-D23 -> 400 | H23: 복지포인트 16명*100,000원
C24: 기타운영비 | D24: 1443 | E24: 1443 | H24: 기관홍보용 달력제작 2,215*200부=443,000 기관홍보용 선물제작 5,000*150개=600,000 기타 운영경비 400,000 계 1,443,000
A25: 재산조성비 | D25: =SUM(D27:D29) -> 38918 | E25: =SUM(E27:E29) -> 38918
B26: 시설비 | D26: =D27+D28+D29 -> 38918 | E26: =E27+E28+E29 -> 38918
C27: 시설비 | D27: 13858 | E27: 13858 | H27: 시설비 10,000,000(건물유지보수) 시설환경개선비 3,858,000
C28: 자산취득비 | D28: 3600 | E28: 3600 | H28: 후원금 각종비품구입 300,000*12월=3,600,000원
C29: 시설장비유지비 | D29: 21460 | E29: 21460 | H29: 건물유지비용 500,000*12월=6,000,000 전기안전관리비 88,000*12월=1,056,000 소방안전관리비 143,000*12월=1,716,000 승강기안전관리비 99,000*12월=1,188,000 장비유지비용 500,000*12월= 6,000,000 기타 5,500,000 계 21,460,000
A30: 사업비 | D30: =D31+D38+D47 -> 272887 | E30: =E31+E38+E47 -> 299996 | F30: =E30-D30 -> 27109
B31: 운영비 | D31: =SUM(D32:D37) -> 173939 | E31: =SUM(E32:E37) -> 193880 | F31: =E31-D31 -> 19941
C32: 생 계 비 -생계비 -춘계부식/김장비 -월동대책비 -특별위로비 | D32: 101232 | E32: 116470 | F32: =E32-D32 -> 15238 | H32: 아동급식비 246,450*28명*12개월=91,602,000 종사자급식비 12명*70,000원*12월=10,080,000 종사자급식비 4명*60,000원*12월 = 2,880,000 실습생급식비 2명*30,000*2회= 120,000 춘계부식,김장비14,270원*30명*1회= 428,100 월동대책비 38,000*30명*1회= 1,140,000 특별위로비 38,500*30명*2회= 2,310,000 후원금 7,910,000 계 116,470,100
C33: 수용기관경비 -수용기관경비 -아동용돈 -하계수련비 | D33: 45326 | E33: 47016 | F33: =E33-D33 -> 1690 | H33: 아동필요용품 10,000*30명*12월= 3,600,000 아동핸드폰요금 15,000원*30명*12월=5,400,000 아동용돈 30명기준 11,376,000 아동용돈(후원금)70,000*30명*12월=25,200,000 하계수련비 24,000*30명= 720,000 기타 720,000 계 47,016,000
C34: 피 복 비 | D34: 13463 | E34: 14546 | F34: =E34-D34 -> 1083 | H34: 피복비 11,185*30명*12월 = 4,026,600 후원금 29,223*30명*12월 = 10,520,280 계 14,546,880
C35: 의 료 비 | D35: 3782 | E35: 4382 | F35: =E35-D35 -> 600 | H35: 진료비 및 약제비 50,000*12월= 600,000 입원비 250,000*2명= 500,000 수술비(포경수술 등) 250,000*2명= 500,000 약품구입 25,000*12월= 300,000 CT 및 MRI 촬영 600,000 안경수선및제작비 50,000*4명*12월=1,882,000 계 4,382,000
C36: 연 료 비 | D36: 9618 | E36: 10948 | F36: =E36-D36 -> 1330 | H36: 취사연료비 2,240*30명*12월= 806,400 종사자급식비 1,000*16명*12월= 192,000 후원금,이자 350,000 심야전기 800,000*12월= 9,600,000 계 10,948,400
C37: 방역비 | D37: 518 | E37: 518 | H37: 코로나19 예방 방역물품구입비
B38: 교육비 | D38: =SUM(D39:D46) -> 30775 | E38: =SUM(E39:E46) -> 37943 | F38: =E38-D38 -> 7168
C39: 학용품비 | D39: 1080 | E39: 1080 | F39: =E39-D39 -> 0 | H39: 학용품구입 3,000*30명*12월= 1,080,000
C40: 도서구입비 | D40: 4336 | E40: 5160 | F40: =E40-D40 -> 824 | H40: 중등학생부교재비 28명*50,000*년1회 1,400,000 초등부교재비 2명*50,000*년1회 100,000학습보조비 고15명*120,000*년1회 1,800,000 중13명*10000*년1회 1,300,000 초2명*80,000*년1회 160,000 기타도서구입비 100,000*4분기= 400,000 계 5,160,000
C41: 교 통 비 | D41: 10752 | E41: 13440 | F41: =E41-D41 -> 2688 | H41: 중1,2,3학년 1,600*240일 11,520,000 아동교통비 1,920,000 계 13,440,000
C42: 학습지원비 | D42: 3600 | E42: 6000 | F42: =E42-D42 -> 2400 | H42: 미술학원 100,000*12월= 1,200,000 씽크빅 100,000*12월= 1,200,000 기타 300,000*12월= 3,600,000 계 6,000,000
C43: 수학여행비 | D43: 750 | E43: 1950 | F43: =E43-D43 -> 1200 | H43: 수학여행비 중고등 10명*120,000원=1,200,000 중등 수련회비 50,000*28명*1회=750,000 계 1,950,000
C44: 교 복 비 | D44: 6600 | E44: 6600 | H44: 교복비 300,000*15명*2회= 6,600,000
C45: 이미용비 | D45: 2544 | E45: 2600 | F45: =E45-D45 -> 56 | H45: 아동이미용비 월100,000*12월=1,200,000 아동목욕비 16명*7,000*12월= 1,400,000 계 2,600,000
C46: 기타교육비 | D46: 1113 | E46: 1113 | H46: 학습재료 등 31,809*35명= 1,113,315
B47: 사업비 | C47: 소계 | D47: =SUM(D48:D56) -> 68173 | E47: =SUM(E48:E56) -> 68173
C48: 프로그램 사업비 | D48: 4096 | E48: 4096 | H48: 아동 30명*5,662*12월= 2,038,320 생일파티 30명*55,000= 1,650,000 인솔자프로그램사업비 17,000*4*6=408,000 계 4,096,320
C49: 문화체험 사업비 | D49: 5040 | E49: 5040 | H49: 문화체험비 30명*14,000*12월=5,040,000
C50: 예체능 프로그램 | D50: 1141 | E50: 1141 | H50: 예체능 95,083*12월= 1,141,000
C51: 정서지원 프로그램 | D51: 1366 | E51: 1366 | H51: 행동개선프로그램 30,000*10명= 300,000 치료프로그램 70,000*5명= 350,000 기타정서지원프로그램 71,600원*10명=716,000 계 1,366,000
C52: 바우처 프로그램 | D52: 1200 | E52: 1200 | H52: 바우처지원비 월100,000*12월=1,200,000
C53: 의무교육 프로그램 | D53: 500 | E53: 500 | H53: 교통안전,재난대비,약물오남용 실종예방,성폭력예방
C54: 아동개인결연 프로그램 | D54: 50000 | E54: 50000 | H54: 개인결연금 30명 50,000,000
C55: 치료재활사업비 | D55: 600 | E55: 600 | H55: 치료기관 직접 지원으로 사업내용변경 진단검사비 300,000*2명 = 600,000 계 600,000
C56: 행사지원비 | D56: 4230 | E56: 4230 | H56: 연합회행사지원비 3,630,000 어린이날행사비 30명*10,000원=300,000 성탄파티 30명*10,000원=300,000 계 4,230,000
A57: 잡지출 | D57: =D58 -> 1000 | E57: =E58 -> 1000
B58: 잡지출 | D58: =D59 -> 1000 | E58: =E59 -> 1000
C59: 잡지출 | D59: 1000 | E59: 1000 | H59: 잡지출
A60: 예비비 | D60: =D61 -> 18550 | E60: =E61 -> 18550
B61: 예비비 | D61: 18550 | E61: =E62 -> 18550
C62: 예비비 | D62: 18550 | E62: 18550

Sheet 급여산출기초1
A1: 2021년 종사자 인건비 산출내역
A2: 성애원 | K2: (단위:원) | U2: 성애원
A3: NO | B3: 직책 | C3: 성명 | D3: 호봉 | E3: 기본급 | G3: 명절휴가비 | H3: 시간외수당 | J3: 가족수당 | K3: 합계 | L3: 표준보수월액
H4: 시간 | I4: 지원금 | M4: 건강보험 | N4: 장기 요양보험 | O4: 국민연금 | P4: 산재보험 | Q4: 고용보험 | R4: 퇴직적립금 | S4: 계(C)
E5: =SUM(E6:E21) -> 46961000 | F5: =SUM(F6:F21) -> 499380000 | G5: =SUM(G6:G21) -> 49938000 | H5: =SUM(H6:H21) -> 406 | I5: =SUM(I6:I21) -> 81222790 | J5: =SUM(J6:J21) -> 10560000 | K5: =ROUNDDOWN(SUM(K6:K21),-3) -> 641100000 | L5: =SUM(L6:L17) -> #REF! | M5: =SUM(M6:M17) -> #REF! | N5: =SUM(N6:N17) -> #REF! | O5: =SUM(O6:O17) -> #REF! | P5: =SUM(P6:P17) -> #REF! | Q5: =SUM(Q6:Q17) -> #REF! | R5: =SUM(R6:R17) -> 42361020 | S5: =SUM(S6:S17) -> #REF! | ... U5: =SUM(U6:U17) -> #REF!
A6: 1 | B6: 원 장 | C6: 김문정 | D6: 24 | E6: 4887000 | F6: =E6*12 -> 58644000 | G6: =E6*0.6*2 -> 5864400 | J6: =100000*12 -> 1200000 | K6: =F6+G6+I6+J6 -> 65708400 | L6: =#REF!+120000 -> #REF! | M6: =ROUNDDOWN(L6*2.995%,-1) -> #REF! | N6: =ROUNDDOWN(M6*6.55%,-1) -> #REF! | O6: =ROUNDDOWN(L6*0.045,-1) -> #REF! | P6: =ROUNDDOWN(L6*0.0056,-1) -> #REF! | Q6: =ROUNDDOWN(L6*0.009,-1) -> #REF! | R6: =ROUNDDOWN(K6/12,-1) -> 5475700 | S6: =SUM(M6:R6) -> #REF! | T6: =#REF!+#REF!+S6-#REF! -> #REF! | U6: =#REF!+#REF!+S6 -> #REF!
A7: 2 | B7: 자립전담요원 | C7: 최연아 | D7: 22 | E7: 3974000 | F7: =E7*12 -> 47688000 | G7: =E7*0.6*2 -> 4768800 | H7: 8 | I7: =ROUNDDOWN(F7*1/209*1.5*H7,-1) -> 2738060 | J7: =120000*12 -> 1440000 | K7: =F7+G7+I7+J7 -> 56634860 | L7: =#REF!+120000 -> #REF! | M7: =ROUNDDOWN(L7*2.995%,-1) -> #REF! | N7: =ROUNDDOWN(M7*6.55%,-1) -> #REF! | O7: =ROUNDDOWN(L7*0.045,-1) -> #REF! | P7: =ROUNDDOWN(L7*0.0056,-1) -> #REF! | Q7: =ROUNDDOWN(L7*0.009,-1) -> #REF! | R7: =ROUNDDOWN(K7/12,-1) -> 4719570 | S7: =SUM(M7:R7) -> #REF! | T7: =#REF!+#REF!+S7-#REF! -> #REF! | U7: =#REF!+#REF!+S7 -> #REF!
A8: 3 | B8: 사무원 | C8: 조유미 | D8: 20 | E8: 3242000 | F8: =E8*12 -> 38904000 | G8: =E8*0.6*2 -> 3890400 | H8: 8 | I8: =ROUNDDOWN(F8*1/209*1.5*H8,-1) -> 2233720 | J8: =40000*12 -> 480000 | K8: =F8+G8+I8+J8 -> 45508120
A9: 4 | B9: 생활지도원 | C9: 김영순 | D9: 22 | E9: 3340000 | F9: =E9*12 -> 40080000 | G9: =E9*0.6*2 -> 4008000 | H9: 30 | I9: =ROUNDDOWN(F9*1/209*1.5*H9,-1) -> 8629660 | K9: =F9+G9+I9+J9 -> 52717660 | L9: =#REF!+120000 -> #REF! | M9: =ROUNDDOWN(L9*2.995%,-1) -> #REF! | N9: =ROUNDDOWN(M9*6.55%,-1) -> #REF! | O9: =ROUNDDOWN(L9*0.045,-1) -> #REF! | P9: =ROUNDDOWN(L9*0.0056,-1) -> #REF! | Q9: =ROUNDDOWN(L9*0.009,-1) -> #REF! | R9: =ROUNDDOWN(K9/12,-1) -> 4393130 | S9: =SUM(M9:R9) -> #REF! | T9: =#REF!+#REF!+S9-#REF! -> #REF! | U9: =#REF!+#REF!+S9 -> #REF!
A10: 5 | B10: 생활지도원 | C10: 강명수 | D10: 19 | E10: 3188000 | F10: =E10*12 -> 38256000 | G10: =E10*0.6*2 -> 3825600 | H10: 30 | I10: =ROUNDDOWN(F10*1/209*1.5*H10,-1) -> 8236930 | J10: 1440000 | K10: =F10+G10+I10+J10 -> 51758530 | L10: =#REF!+120000 -> #REF! | M10: =ROUNDDOWN(L10*2.995%,-1) -> #REF! | N10: =ROUNDDOWN(M10*6.55%,-1) -> #REF! | O10: =ROUNDDOWN(L10*0.045,-1) -> #REF! | P10: =ROUNDDOWN(L10*0.0056,-1) -> #REF! | Q10: =ROUNDDOWN(L10*0.009,-1) -> #REF! | R10: =ROUNDDOWN(K10/12,-1) -> 4313210 | S10: =SUM(M10:R10) -> #REF! | T10: =#REF!+#REF!+S10-#REF! -> #REF! | U10: =#REF!+#REF!+S10 -> #REF!
A11: 6 | B11: 생활지도원 | C11: 김희련 | D11: 12 | E11: 2743000 | F11: =E11*12 -> 32916000 | G11: =E11*0.6*2 -> 3291600 | H11: 30 | I11: =ROUNDDOWN(F11*1/209*1.5*H11,-1) -> 7087170 | J11: =40000*12 -> 480000 | K11: =F11+G11+I11+J11 -> 43774770 | L11: =#REF!+120000 -> #REF! | M11: =ROUNDDOWN(L11*2.995%,-1) -> #REF! | N11: =ROUNDDOWN(M11*6.55%,-1) -> #REF! | O11: =ROUNDDOWN(L11*0.045,-1) -> #REF! | P11: =ROUNDDOWN(L11*0.0056,-1) -> #REF! | Q11: =ROUNDDOWN(L11*0.009,-1) -> #REF! | R11: =ROUNDDOWN(K11/12,-1) -> 3647890 | S11: =SUM(M11:R11) -> #REF! | T11: =#REF!+#REF!+S11-#REF! -> #REF! | U11: =#REF!+#REF!+S11 -> #REF!
A12: 7 | B12: 생활지도원 | C12: 김희현 | D12: 14 | E12: 2877000 | F12: =E12*12 -> 34524000 | G12: =E12*0.6*2 -> 3452400 | H12: 30 | I12: =ROUNDDOWN(F12*1/209*1.5*H12,-1) -> 7433390 | K12: =F12+G12+I12+J12 -> 45409790 | L12: =#REF!+120000 -> #REF! | M12: =ROUNDDOWN(L12*2.995%,-1) -> #REF! | N12: =ROUNDDOWN(M12*6.55%,-1) -> #REF! | O12: =ROUNDDOWN(L12*0.045,-1) -> #REF! | P12: =ROUNDDOWN(L12*0.0056,-1) -> #REF! | Q12: =ROUNDDOWN(L12*0.009,-1) -> #REF! | R12: =ROUNDDOWN(K12/12,-1) -> 3784140 | S12: =SUM(M12:R12) -> #REF! | T12: =#REF!+#REF!+S12-#REF! -> #REF! | U12: =#REF!+#REF!+S12 -> #REF!
A13: 8 | B13: 생활지도원 | C13: 현명길 | D13: 11 | E13: 2673000 | F13: =E13*12 -> 32076000 | G13: =E13*0.6*2 -> 3207600 | H13: 30 | I13: =ROUNDDOWN(F13*1/209*1.5*H13,-1) -> 6906310 | J13: =40000*12 -> 480000 | K13: =F13+G13+I13+J13 -> 42669910 | L13: =#REF!+120000 -> #REF! | M13: =ROUNDDOWN(L13*2.995%,-1) -> #REF! | N13: =ROUNDDOWN(M13*6.55%,-1) -> #REF! | O13: =ROUNDDOWN(L13*0.045,-1) -> #REF! | P13: =ROUNDDOWN(L13*0.0056,-1) -> #REF! | Q13: =ROUNDDOWN(L13*0.009,-1) -> #REF! | R13: =ROUNDDOWN(K13/12,-1) -> 3555820 | S13: =SUM(M13:R13) -> #REF! | T13: =#REF!+#REF!+S13-#REF! -> #REF! | U13: =#REF!+#REF!+S13 -> #REF!
A14: 9 | B14: 생활지도원 | C14: 손소영 | D14: 9 | E14: 2496000 | F14: =E14*12 -> 29952000 | G14: =E14*0.6*2 -> 2995200 | H14: 30 | I14: =ROUNDDOWN(F14*1/209*1.5*H14,-1) -> 6448990 | J14: =100000*12 -> 1200000 | K14: =F14+G14+I14+J14 -> 40596190 | L14: =#REF!+120000 -> #REF! | M14: =ROUNDDOWN(L14*2.995%,-1) -> #REF! | N14: =ROUNDDOWN(M14*6.55%,-1) -> #REF! | O14: =ROUNDDOWN(L14*0.045,-1) -> #REF! | P14: =ROUNDDOWN(L14*0.0056,-1) -> #REF! | Q14: =ROUNDDOWN(L14*0.009,-1) -> #REF! | R14: =ROUNDDOWN(K14/12,-1) -> 3383010 | S14: =SUM(M14:R14) -> #REF! | T14: =#REF!+#REF!+S14-#REF! -> #REF! | U14: =#REF!+#REF!+S14 -> #REF!
A15: 10 | B15: 생활지도원 | C15: 김도윤 | D15: 10 | E15: 2588000 | F15: =E15*12 -> 31056000 | G15: =E15*0.6*2 -> 3105600 | H15: 30 | I15: =ROUNDDOWN(F15*1/209*1.5*H15,-1) -> 6686690 | K15: =F15+G15+I15+J15 -> 40848290 | L15: =#REF!+120000 -> #REF! | M15: =ROUNDDOWN(L15*2.995%,-1) -> #REF! | N15: =ROUNDDOWN(M15*6.55%,-1) -> #REF! | O15: =ROUNDDOWN(L15*0.045,-1) -> #REF! | P15: =ROUNDDOWN(L15*0.0056,-1) -> #REF! | Q15: =ROUNDDOWN(L15*0.009,-1) -> #REF! | R15: =ROUNDDOWN(K15/12,-1) -> 3404020 | S15: =SUM(M15:R15) -> #REF! | T15: =#REF!+#REF!+S15-#REF! -> #REF! | U15: =#REF!+#REF!+S15 -> #REF!
A16: 11 | B16: 생활지도원 | C16: 이지환 | D16: 5 | E16: 2148000 | F16: =E16*12 -> 25776000 | G16: =E16*0.6*2 -> 2577600 | H16: 30 | I16: =ROUNDDOWN(F16*1/209*1.5*H16,-1) -> 5549850 | J16: =40000*12 -> 480000 | K16: =F16+G16+I16+J16 -> 34383450 | L16: =#REF!+120000 -> #REF! | M16: =ROUNDDOWN(L16*2.995%,-1) -> #REF! | N16: =ROUNDDOWN(M16*6.55%,-1) -> #REF! | O16: =ROUNDDOWN(L16*0.045,-1) -> #REF! | P16: =ROUNDDOWN(L16*0.0056,-1) -> #REF! | Q16: =ROUNDDOWN(L16*0.009,-1) -> #REF! | R16: =ROUNDDOWN(K16/12,-1) -> 2865280 | S16: =SUM(M16:R16) -> #REF! | T16: =#REF!+#REF!+S16-#REF! -> #REF! | U16: =#REF!+#REF!+S16 -> #REF!
A17: 12 | B17: 조리원 | C17: 이명숙 | D17: 7 | E17: 2113000 | F17: =E17*12 -> 25356000 | G17: =E17*0.6*2 -> 2535600 | H17: 30 | I17: =ROUNDDOWN(F17*1/209*1.5*H17,-1) -> 5459420 | J17: =40000*12 -> 480000 | K17: =F17+G17+I17+J17 -> 33831020 | L17: =#REF!+120000 -> #REF! | M17: =ROUNDDOWN(L17*2.995%,-1) -> #REF! | N17: =ROUNDDOWN(M17*6.55%,-1) -> #REF! | O17: =ROUNDDOWN(L17*0.045,-1) -> #REF! | P17: =ROUNDDOWN(L17*0.0056,-1) -> #REF! | Q17: =ROUNDDOWN(L17*0.009,-1) -> #REF! | R17: =ROUNDDOWN(K17/12,-1) -> 2819250 | S17: =SUM(M17:R17) -> #REF! | T17: =#REF!+#REF!+S17-#REF! -> #REF! | U17: =#REF!+#REF!+S17 -> #REF!
A18: 13 | B18: 생활지도원 | C18: 홍길동 | D18: 10 | E18: 2673000 | F18: =E18*6 -> 16038000 | G18: =E18*0.6 -> 1603800 | H18: 30 | I18: =ROUNDDOWN(F18*1/209*1.5*H18,-1) -> 3453150 | J18: =120000*6 -> 720000 | K18: =F18+G18+I18+J18 -> 21814950
A19: 14 | B19: 생활지도원 | C19: 홍길동1 | D19: 10 | E19: 2673000 | F19: =E19*6 -> 16038000 | G19: =E19*0.6 -> 1603800 | H19: 30 | I19: =ROUNDDOWN(F19*1/209*1.5*H19,-1) -> 3453150 | J19: =120000*6 -> 720000 | K19: =F19+G19+I19+J19 -> 21814950
A20: 15 | B20: 생활지도원 | C20: 홍길동3 | D20: 10 | E20: 2673000 | F20: =E20*6 -> 16038000 | G20: =E20*0.6 -> 1603800 | H20: 30 | I20: =ROUNDDOWN(F20*1/209*1.5*H20,-1) -> 3453150 | J20: =120000*6 -> 720000 | K20: =F20+G20+I20+J20 -> 21814950
A21: 16 | B21: 생활지도원 | C21: 홍길동4 | D21: 10 | E21: 2673000 | F21: =E21*6 -> 16038000 | G21: =E21*0.6 -> 1603800 | H21: 30 | I21: =ROUNDDOWN(F21*1/209*1.5*H21,-1) -> 3453150 | J21: =120000*6 -> 720000 | K21: =F21+G21+I21+J21 -> 21814950

Sheet 사회보험
A1: 2021년 종사자 사회보험 산출내역
A2: 성애원 | S2: (단위:원)
A3: NO | B3: 직책 | C3: 성명 | D3: 호봉 | E3: 기본급 | G3: 명절휴가비 | H3: 시간외수당 | J3: 가족수당 | K3: 총급여 | L3: 표준보수액 | M3: 사 용 자 부 담
H4: 시간 | I4: 지원금
M5: 건강보험 (3.335%) | N5: 장기 요양보험 (10.25%) | O5: 국민연금 (4.5%) | P5: 산재보험 (0.9%) | Q5: 고용보험 (0.8%) | R5: 퇴직적립금 (A/12) | S5: 합계
A6: 계 | E6: =SUM(E7:E22) -> 46961000 | F6: =SUM(F7:F22) -> 499380000 | G6: =SUM(G7:G22) -> 49938000 | H6: =SUM(H7:H22) -> 406 | I6: =SUM(I7:I22) -> 81222790 | J6: =SUM(J7:J22) -> 10560000 | K6: =ROUNDDOWN(SUM(K7:K22),-3) -> 641100000 | L6: =ROUNDDOWN(SUM(L7:L22),-3) -> 641100000 | M6: =SUM(M7:M22) -> 21430000 | N6: =SUM(N7:N22) -> 2630000 | O6: =SUM(O7:O22) -> 29040000 | P6: =SUM(P7:P22) -> 5160000 | Q6: =SUM(Q7:Q22) -> 6710000 | R6: =SUM(R7:R22) -> 53425066 | S6: =ROUNDDOWN(SUM(S7:S22),-3) -> 118395000
A7: 1 | B7: 원 장 | C7: 김문정 | D7: 24 | E7: =급여산출기초1!E6 -> 4887000 | F7: =E7*12 -> 58644000 | G7: =급여산출기초1!G6 -> 5864400 | J7: =100000*12 -> 1200000 | K7: =F7+G7+I7+J7 -> 65708400 | L7: =K7 -> 65708400 | M7: 2080000 | N7: 260000 | O7: 2810000 | P7: 500000 | Q7: 650000 | R7: =L7/12 -> 5475700 | S7: =SUM(M7:R7) -> 11775700
A8: 2 | B8: 자립전담요원 | C8: 윤지희 | D8: 22 | E8: =급여산출기초1!E7 -> 3974000 | F8: =E8*12 -> 47688000 | G8: =급여산출기초1!G7 -> 4768800 | H8: 8 | I8: =급여산출기초1!I7 -> 2738060 | J8: =120000*12 -> 1440000 | K8: =F8+G8+I8+J8 -> 56634860 | L8: =K8 -> 56634860 | M8: 1800000 | N8: 220000 | O8: 2430000 | P8: 440000 | Q8: 560000 | R8: =L8/12 -> 4719571.7 | S8: =SUM(M8:R8) -> 10169572
A9: 3 | B9: 사무원 | C9: 강명수 | D9: 20 | E9: =급여산출기초1!E8 -> 3242000 | F9: =E9*12 -> 38904000 | G9: =급여산출기초1!G8 -> 3890400 | H9: 8 | I9: =급여산출기초1!I8 -> 2233720 | J9: =40000*12 -> 480000 | K9: =F9+G9+I9+J9 -> 45508120 | L9: =K9 -> 45508120 | M9: 1440000 | N9: 180000 | O9: 1950000 | P9: 350000 | Q9: 450000 | R9: =L9/12 -> 3792343.3 | S9: =SUM(M9:R9) -> 8162343.3
A10: 4 | B10: 생활지도원1 | C10: 한재범 | D10: 22 | E10: =급여산출기초1!E9 -> 3340000 | F10: =E10*12 -> 40080000 | G10: =급여산출기초1!G9 -> 4008000 | H10: 30 | I10: =급여산출기초1!I9 -> 8629660 | K10: =F10+G10+I10+J10 -> 52717660 | L10: =K10 -> 52717660 | M10: 1670000 | N10: 200000 | O10: 2250000 | P10: 400000 | Q10: 520000 | R10: =L10/12 -> 4393138.3 | S10: =SUM(M10:R10) -> 9433138.3
A11: 5 | B11: 생활지도원2 | C11: 윤기영 | D11: 19 | E11: =급여산출기초1!E10 -> 3188000 | F11: =E11*12 -> 38256000 | G11: =급여산출기초1!G10 -> 3825600 | H11: 30 | I11: =급여산출기초1!I10 -> 8236930 | J11: 1440000 | K11: =F11+G11+I11+J11 -> 51758530 | L11: =K11 -> 51758530 | M11: 1640000 | N11: 200000 | O11: 2220000 | P11: 400000 | Q11: 510000 | R11: =L11/12 -> 4313210.8 | S11: =SUM(M11:R11) -> 9283210.8
A12: 6 | B12: 생활지도원3 | C12: 김희련 | D12: 12 | E12: =급여산출기초1!E11 -> 2743000 | F12: =E12*12 -> 32916000 | G12: =급여산출기초1!G11 -> 3291600 | H12: 30 | I12: =급여산출기초1!I11 -> 7087170 | J12: 480000 | K12: =F12+G12+I12+J12 -> 43774770 | L12: =K12 -> 43774770 | M12: 1340000 | N12: 160000 | O12: 1810000 | P12: 320000 | Q12: 420000 | R12: =L12/12 -> 3647897.5 | S12: =SUM(M12:R12) -> 7697897.5
A13: 7 | B13: 생활지도원4 | C13: 박지혜 | D13: 14 | E13: =급여산출기초1!E12 -> 2877000 | F13: =E13*12 -> 34524000 | G13: =급여산출기초1!G12 -> 3452400 | H13: 30 | I13: =급여산출기초1!I12 -> 7433390 | K13: =F13+G13+I13+J13 -> 45409790 | L13: =K13 -> 45409790 | M13: 1340000 | N13: 170000 | O13: 1900000 | P13: 340000 | Q13: 440000 | R13: =L13/12 -> 3784149.2 | S13: =SUM(M13:R13) -> 7974149.2
A14: 8 | B14: 생활지도원5 | C14: 권선정 | D14: 11 | E14: =급여산출기초1!E13 -> 2673000 | F14: =E14*12 -> 32076000 | G14: =급여산출기초1!G13 -> 3207600 | H14: 30 | I14: =급여산출기초1!I13 -> 6906310 | J14: =40000*12 -> 480000 | K14: =F14+G14+I14+J14 -> 42669910 | L14: =K14 -> 42669910 | M14: 1300000 | N14: 160000 | O14: 1760000 | P14: 310000 | Q14: 410000 | R14: =L14/12 -> 3555825.8 | S14: =SUM(M14:R14) -> 7495825.8
A15: 9 | B15: 생활지도원6 | C15: 노미아 | D15: 9 | E15: =급여산출기초1!E14 -> 2496000 | F15: =E15*12 -> 29952000 | G15: =급여산출기초1!G14 -> 2995200 | H15: 30 | I15: =급여산출기초1!I14 -> 6448990 | J15: =100000*12 -> 1200000 | K15: =F15+G15+I15+J15 -> 40596190 | L15: =K15 -> 40596190 | M15: 1240000 | N15: 150000 | O15: 1670000 | P15: 300000 | Q15: 390000 | R15: =L15/12 -> 3383015.8 | S15: =SUM(M15:R15) -> 7133015.8
A16: 10 | B16: 생활지도원7 | C16: 조숙 | D16: 10 | E16: =급여산출기초1!E15 -> 2588000 | F16: =E16*12 -> 31056000 | G16: =급여산출기초1!G15 -> 3105600 | H16: 30 | I16: =급여산출기초1!I15 -> 6686690 | K16: =F16+G16+I16+J16 -> 40848290 | L16: =K16 -> 40848290 | M16: 1230000 | N16: 150000 | O16: 1670000 | P16: 300000 | Q16: 380000 | R16: =L16/12 -> 3404024.2 | S16: =SUM(M16:R16) -> 7134024.2
A17: 11 | B17: 생활지도원8 | C17: 김희현 | D17: 5 | E17: =급여산출기초1!E16 -> 2148000 | F17: =E17*12 -> 25776000 | G17: =급여산출기초1!G16 -> 2577600 | H17: 30 | I17: =급여산출기초1!I16 -> 5549850 | J17: =급여산출기초1!J16 -> 480000 | K17: =F17+G17+I17+J17 -> 34383450 | L17: =K17 -> 34383450 | M17: 1050000 | N17: 130000 | O17: 1420000 | P17: 250000 | Q17: 330000 | R17: =L17/12 -> 2865287.5 | S17: =SUM(M17:R17) -> 6045287.5
A18: 12 | B18: 조리원 | C18: 권미정 | D18: 7 | E18: =급여산출기초1!E17 -> 2113000 | F18: =E18*12 -> 25356000 | G18: =급여산출기초1!G17 -> 2535600 | H18: 30 | I18: =급여산출기초1!I17 -> 5459420 | J18: =40000*12 -> 480000 | K18: =F18+G18+I18+J18 -> 33831020 | L18: =K18 -> 33831020 | M18: 1060000 | N18: 130000 | O18: 1430000 | P18: 250000 | Q18: 330000 | R18: =L18/12 -> 2819251.7 | S18: =SUM(M18:R18) -> 6019251.7
A19: 13 | B19: 생활지도원9 | D19: 10 | E19: =급여산출기초1!E18 -> 2673000 | F19: =E19*6 -> 16038000 | G19: =급여산출기초1!G18 -> 1603800 | H19: 30 | I19: =급여산출기초1!I18 -> 3453150 | J19: =120000*6 -> 720000 | K19: =F19+G19+I19+J19 -> 21814950 | L19: =K19 -> 21814950 | M19: 1060000 | N19: 130000 | O19: 1430000 | P19: 250000 | Q19: 330000 | R19: =L19/12 -> 1817912.5 | S19: =SUM(M19:R19) -> 5017912.5
A20: 14 | B20: 생활지도원10 | D20: 10 | E20: =급여산출기초1!E19 -> 2673000 | F20: =E20*6 -> 16038000 | G20: =급여산출기초1!G19 -> 1603800 | H20: 30 | I20: =급여산출기초1!I19 -> 3453150 | J20: =120000*6 -> 720000 | K20: =F20+G20+I20+J20 -> 21814950 | L20: =K20 -> 21814950 | M20: 1060000 | N20: 130000 | O20: 1430000 | P20: 250000 | Q20: 330000 | R20: =L20/12 -> 1817912.5 | S20: =SUM(M20:R20) -> 5017912.5
A21: 15 | B21: 생활지도원11 | D21: 10 | E21: =급여산출기초1!E20 -> 2673000 | F21: =E21*6 -> 16038000 | G21: =급여산출기초1!G20 -> 1603800 | H21: 30 | I21: =급여산출기초1!I20 -> 3453150 | J21: =120000*6 -> 720000 | K21: =F21+G21+I21+J21 -> 21814950 | L21: =K21 -> 21814950 | M21: 1060000 | N21: 130000 | O21: 1430000 | P21: 250000 | Q21: 330000 | R21: =L21/12 -> 1817912.5 | S21: =SUM(M21:R21) -> 5017912.5
A22: 16 | B22: 생활지도원12 | D22: 10 | E22: =급여산출기초1!E21 -> 2673000 | F22: =E22*6 -> 16038000 | G22: =급여산출기초1!G21 -> 1603800 | H22: 30 | I22: =급여산출기초1!I21 -> 3453150 | J22: =120000*6 -> 720000 | K22: =F22+G22+I22+J22 -> 21814950 | L22: =K22 -> 21814950 | M22: 1060000 | N22: 130000 | O22: 1430000 | P22: 250000 | Q22: 330000 | R22: =L22/12 -> 1817912.5 | S22: =SUM(M22:R22) -> 5017912.5

Sheet 임직원보수일람표1
A1: 2021년 임직원 보수일람표
A2: 성 애 원 | M2: (단위:원)
A3: NO | B3: 직책 | C3: 성명 | D3: 호봉 | E3: 기본급 | F3: 기본급계 | G3: 명절위로비 | H3: 가족수당 | I3: 시간외수당 | J3: 제수당계 | K3: 급여계 | L3: 공제액 | M3: 차감지급액
A4: 계 | E4: =SUM(E5:E20) -> 46961000 | F4: =SUM(F5:F20) -> 499380000 | G4: =SUM(G5:G20) -> 49938000 | H4: =SUM(H5:H20) -> 10560000 | I4: =SUM(I5:I20) -> 81222790 | J4: =SUM(J5:J20) -> 141720790 | K4: =ROUNDDOWN(SUM(K5:K20),-3) -> 641100000 | L4: =ROUNDDOWN(SUM(L5:L20),-3) -> 89754000 | M4: =ROUNDDOWN(SUM(M5:M20),-3) -> 551346000
A5: 1 | B5: 원 장 | C5: 김문정 | D5: 24 | E5: =급여산출기초1!E6 -> 4887000 | F5: =E5*12 -> 58644000 | G5: =사회보험!G7 -> 5864400 | H5: =100000*12 -> 1200000 | I5: =급여산출기초1!I6 -> 0 | J5: =SUM(G5:I5) -> 7064400 | K5: =F5+J5 -> 65708400 | L5: =ROUNDDOWN(K5*14%,-1) -> 9199170 | M5: =K5-L5 -> 56509230
A6: 2 | B6: 자립전담요원 | C6: 최연아 | D6: 22 | E6: =급여산출기초1!E7 -> 3974000 | F6: =E6*12 -> 47688000 | G6: =사회보험!G8 -> 4768800 | H6: =120000*12 -> 1440000 | I6: =급여산출기초1!I7 -> 2738060 | J6: =SUM(G6:I6) -> 8946860 | K6: =F6+J6 -> 56634860 | L6: =ROUNDDOWN(K6*14%,-1) -> 7928880 | M6: =K6-L6 -> 48705980
A7: 3 | B7: 사무원 | C7: 조유미 | D7: 20 | E7: =급여산출기초1!E8 -> 3242000 | F7: =E7*12 -> 38904000 | G7: =사회보험!G9 -> 3890400 | H7: =40000*12 -> 480000 | I7: =급여산출기초1!I8 -> 2233720 | J7: =SUM(G7:I7) -> 6604120 | K7: =F7+J7 -> 45508120 | L7: =ROUNDDOWN(K7*14%,-1) -> 6371130 | M7: =K7-L7 -> 39136990
A8: 4 | B8: 생활지도원 | C8: 김영순 | D8: 22 | E8: =급여산출기초1!E9 -> 3340000 | F8: =E8*12 -> 40080000 | G8: =사회보험!G10 -> 4008000 | I8: =급여산출기초1!I9 -> 8629660 | J8: =SUM(G8:I8) -> 12637660 | K8: =F8+J8 -> 52717660 | L8: =ROUNDDOWN(K8*14%,-1) -> 7380470 | M8: =K8-L8 -> 45337190
A9: 5 | B9: 생활지도원 | C9: 강명수 | D9: 19 | E9: =급여산출기초1!E10 -> 3188000 | F9: =E9*12 -> 38256000 | G9: =사회보험!G11 -> 3825600 | H9: 1440000 | I9: =급여산출기초1!I10 -> 8236930 | J9: =SUM(G9:I9) -> 13502530 | K9: =F9+J9 -> 51758530 | L9: =ROUNDDOWN(K9*14%,-1) -> 7246190 | M9: =K9-L9 -> 44512340
A10: 6 | B10: 생활지도원 | C10: 김희련 | D10: 12 | E10: =급여산출기초1!E11 -> 2743000 | F10: =E10*12 -> 32916000 | G10: =사회보험!G12 -> 3291600 | H10: 480000 | I10: =급여산출기초1!I11 -> 7087170 | J10: =SUM(G10:I10) -> 10858770 | K10: =F10+J10 -> 43774770 | L10: =ROUNDDOWN(K10*14%,-1) -> 6128460 | M10: =K10-L10 -> 37646310
A11: 7 | B11: 생활지도원 | C11: 김희현 | D11: 14 | E11: =급여산출기초1!E12 -> 2877000 | F11: =E11*12 -> 34524000 | G11: =사회보험!G13 -> 3452400 | I11: =급여산출기초1!I12 -> 7433390 | J11: =SUM(G11:I11) -> 10885790 | K11: =F11+J11 -> 45409790 | L11: =ROUNDDOWN(K11*14%,-1) -> 6357370 | M11: =K11-L11 -> 39052420
A12: 8 | B12: 생활지도원 | C12: 현명길 | D12: 11 | E12: =급여산출기초1!E13 -> 2673000 | F12: =E12*12 -> 32076000 | G12: =사회보험!G14 -> 3207600 | H12: =40000*12 -> 480000 | I12: =급여산출기초1!I13 -> 6906310 | J12: =SUM(G12:I12) -> 10593910 | K12: =F12+J12 -> 42669910 | L12: =ROUNDDOWN(K12*14%,-1) -> 5973780 | M12: =K12-L12 -> 36696130
A13: 9 | B13: 생활지도원 | C13: 손소영 | D13: 9 | E13: =급여산출기초1!E14 -> 2496000 | F13: =E13*12 -> 29952000 | G13: =사회보험!G15 -> 2995200 | H13: =100000*12 -> 1200000 | I13: =급여산출기초1!I14 -> 6448990 | J13: =SUM(G13:I13) -> 10644190 | K13: =F13+J13 -> 40596190 | L13: =ROUNDDOWN(K13*14%,-1) -> 5683460 | M13: =K13-L13 -> 34912730
A14: 10 | B14: 생활지도원 | C14: 김도윤 | D14: 10 | E14: =급여산출기초1!E15 -> 2588000 | F14: =E14*12 -> 31056000 | G14: =사회보험!G16 -> 3105600 | I14: =급여산출기초1!I15 -> 6686690 | J14: =SUM(G14:I14) -> 9792290 | K14: =F14+J14 -> 40848290 | L14: =ROUNDDOWN(K14*14%,-1) -> 5718760 | M14: =K14-L14 -> 35129530
A15: 11 | B15: 생활지도원 | C15: 이지환 | D15: 5 | E15: =급여산출기초1!E16 -> 2148000 | F15: =E15*12 -> 25776000 | G15: =사회보험!G17 -> 2577600 | H15: =급여산출기초1!J16 -> 480000 | I15: =급여산출기초1!I16 -> 5549850 | J15: =SUM(G15:I15) -> 8607450 | K15: =F15+J15 -> 34383450 | L15: =ROUNDDOWN(K15*14%,-1) -> 4813680 | M15: =K15-L15 -> 29569770
A16: 12 | B16: 조리원 | C16: 이명숙 | D16: 7 | E16: =급여산출기초1!E17 -> 2113000 | F16: =E16*12 -> 25356000 | G16: =사회보험!G18 -> 2535600 | H16: =40000*12 -> 480000 | I16: =급여산출기초1!I17 -> 5459420 | J16: =SUM(G16:I16) -> 8475020 | K16: =F16+J16 -> 33831020 | L16: =ROUNDDOWN(K16*14%,-1) -> 4736340 | M16: =K16-L16 -> 29094680
A17: 13 | B17: 생활지도원 | C17: 홍길동 | D17: 10 | E17: =급여산출기초1!E18 -> 2673000 | F17: =E17*6 -> 16038000 | G17: =E17*0.6*1 -> 1603800 | H17: =120000*6 -> 720000 | I17: =급여산출기초1!I18 -> 3453150 | J17: =SUM(G17:I17) -> 5776950 | K17: =F17+J17 -> 21814950 | L17: =ROUNDDOWN(K17*14%,-1) -> 3054090 | M17: =K17-L17 -> 18760860
A18: 14 | B18: 생활지도원 | C18: 홍길동 | D18: 10 | E18: =급여산출기초1!E19 -> 2673000 | F18: =E18*6 -> 16038000 | G18: =E18*0.6*1 -> 1603800 | H18: =120000*6 -> 720000 | I18: =급여산출기초1!I19 -> 3453150 | J18: =SUM(G18:I18) -> 5776950 | K18: =F18+J18 -> 21814950 | L18: =ROUNDDOWN(K18*14%,-1) -> 3054090 | M18: =K18-L18 -> 18760860
A19: 15 | B19: 생활지도원 | C19: 홍길동 | D19: 10 | E19: =급여산출기초1!E20 -> 2673000 | F19: =E19*6 -> 16038000 | G19: =E19*0.6*1 -> 1603800 | H19: =120000*6 -> 720000 | I19: =급여산출기초1!I20 -> 3453150 | J19: =SUM(G19:I19) -> 5776950 | K19: =F19+J19 -> 21814950 | L19: =ROUNDDOWN(K19*14%,-1) -> 3054090 | M19: =K19-L19 -> 18760860
A20: 16 | B20: 생활지도원 | C20: 홍길동 | D20: 10 | E20: =급여산출기초1!E21 -> 2673000 | F20: =E20*6 -> 16038000 | G20: =E20*0.6*1 -> 1603800 | H20: =120000*6 -> 720000 | I20: =급여산출기초1!I21 -> 3453150 | J20: =SUM(G20:I20) -> 5776950 | K20: =F20+J20 -> 21814950 | L20: =ROUNDDOWN(K20*14%,-1) -> 3054090 | M20: =K20-L20 -> 18760860
G23: 11376000
G24: 720000
G25: 11520000
G26: 3260000
G27: 2000000
G28: 1600000
G29: 1200000
G30: 518000
G31: =SUM(G23:G30) -> 32194000

Sheet 생계비
B1: 2021년 성애원(시설) 경상보조금 생계비(국시비) 산출내역
B2: 성 애 원 | I2: (단위:원)
B3: 구 분 | D3: 기준액 | E3: 지급회수 | F3: 예상 인원 | G3: 예산액 | H3: 산출내역 | I3: 비 고
B4: 주부식비통합 -피복비 -취사연료 포함 | C4: 주부식비 | D4: 254820 | E4: 월 | F4: 30 | G4: =254450*30*12 -> 91602000 | H4: 246,450*30명*12개월=91,602,000원 | I4: 주부식비 1식 2,740원 2,740*93식 월 1인당 254,820원
C5: 피복비 | D5: 11185 | E5: 월 | F5: 30 | G5: =D5*F5*12 -> 4026600 | H5: 11,555*30명*12개월=4,159,800원
C6: 취사연료비 | D6: 2240 | E6: 월 | F6: 30 | G6: =D6*F6*12 -> 806400 | H6: 2,240*30명*12개월=806,400원
B7: 소계 | D7: =SUM(D4:D6) -> 268245 | E7: 월 | G7: =SUM(G4:G6) -> 96435000 | H7: 220,393*30명*12개월=166,617,108
B8: 월동대책비 | D8: 38000 | E8: 연1회 | F8: 30 | G8: =D8*30 -> 1140000 | H8: 38,000원*30명*1회=1,140,000원
B9: 특별위로비(설,추석) | D9: 38500 | E9: 연2회 | F9: 30 | G9: =D9*F9*2 -> 2310000 | H9: 38,500원*30명*2회=2,310,000원
B10: 소계 | G10: =SUM(G8:G9) -> 3450000
B11: 합 계 | G11: =G7+G10 -> 99885000
B12: * 2020년도 기초생활보장 지침 중 시설생계급여 등 지원기준

Sheet 운영비
A1: 2021년 성애원(시설) 경상보조금 관리운영비 산출내역(국시비)
A2: 성 애 원 | E2: (단위:원)
A3: 구 분 | B3: 지급기준 | C3: 예산액 | D3: 산출내역 | E3: 비 고
A4: 3세미만 | B4: 89,237/월 | D4: 명*89,237원*12월 | E4: 30명기준
A5: 3세이상 | B5: 135,000/월 | C5: =135000*30*12 -> 48600000 | D5: 30명*135,000원*12월=48,600,000원
A6: 춘계부식비/월동김장비 | B6: 14,270/년1인당 | C6: =14270*30 -> 428100 | D6: 30명*14,270원*년1회=428,100원
A7: 행사지원비 | B7: 연1회 | C7: =413790+116210+3100000 -> 3630000 | D7: 연 찬 회 : 137,930*3인=413,790원 사생대회 : 11,621*10인=116,210원 축구대회 : 100,000*10인=1,000,000원 체육대회 : 70,000*30인=2,100,000원 | E7: 전년도 준함
A8: 종사자복지포인트 | B8: 100,000/년1회 | C8: 1600000 | D8: 16명*100,000원*년1회=1,600,000원 | E8: 16명기준
A9: 소 계 | C9: =SUM(C4:C7) -> 52658100
A11: 2021년 성애원(시설) 관리운영비 산출내역(시비)
A12: 성 애 원 | E12: (단위:원)
A13: 구 분 | B13: 지급기준 | C13: 예산액 | D13: 산출내역 | E13: 비 고
A14: 영아위생대 | B14: 22,500/월1인당 | D14: 3세미만 명*22,500원*12월
A15: 아동용돈(고) | B15: 38,000/월1인당 | C15: =38000*15*12 -> 6840000 | D15: 고등학생15명*38,000원*12월=5,016,000원 | E15: 15명
A16: 아동용돈(중) | B16: 26,000/월1인당 | C16: =26000*13*12 -> 4056000 | D16: 중학생 13명*26,000원*12월=5,928,000원 | E16: 13명
A17: 아동용돈(초등) | B17: 20,000/월1인당 | C17: =20000*2*12 -> 480000 | D17: 초등학생 2명*20,000원*12월=1,120,000원 | E17: 2명
A18: 하계수련비 | B18: 24,000/년1인당 | C18: =24000*30 -> 720000 | D18: 3세이상 30명*24,000원*년1회=720,000원 | E18: 30명
A19: 교통비 | B19: 1,600/일1인당,240일 | C19: =1600*240*30 -> 11520000 | D19: 30명*1,600원*240일=11,520,000원 | E19: 30명
A20: 수학여행비 | B20: 85,000/년1인당 | C20: =10*120000 -> 1200000 | D20: 중2학년 3명*120,000원=360,000원 고2학년 7명*120,000원=840,000원 | E20: 10명
A21: 학습보조비(고등) | B21: 120,000/년1인당 | C21: =120000*15 -> 1800000 | D21: 고등학생 15명*120,000원*년1회=1,800,000원 | E21: 15명
A22: 학습보조비(중등) | B22: 100,000/년1인당 | C22: =13*100000 -> 1300000 | D22: 중 학 생 13명*100,000원*년1회=1,300,000원 | E22: 13명
A23: 학습보조비(초등) | B23: 80,000/년1인당 | C23: =80000*2 -> 160000 | D23: 초등학생 2명*80,000원*년1회=160,000원 | E23: 2명
A24: 환경개선비 | B24: 4,570,000/3년마다
A25: 방역비 | B25: 지자체예산 | C25: 518000 | D25: 전년도 예산 기준
A26: 안전관리비 | B26: 2,000,000/년1회 | C26: 2000000
A27: 소 계 | C27: =SUM(C14:C26) -> 30594000
A28: 합 계 | C28: =C9+C27 -> 83252100
