Workbook

Sheet 세입부
A1: 2023년도 성애원(시설) 2차 추경 예산(안)
A3: 세 입 부 | H3: (단위:천원)
A4: 과 목 | D4: 예산액 | F4: 비 교 | H4: 산 출 기 초
A5: 관 | B5: 항 | C5: 목 | D5: 1차추경 | E5: 2차추경 | F5: 증 | G5: 감
A6: 합 계 | D6: =D7+D12+D16+D20+D23 -> 1292740 | E6: =E7+E12+E16+E20+E23 -> 1232540 | G6: =D6-E6 -> 60200 | H6: 본예산대비 0.466% 감액
A7: 보조금수입 | D7: =D8 -> 1041281 | E7: =E8 -> 964301 | G7: =D7-E7 -> 76980
B8: 보조금수입 | D8: =D9+D10 -> 1041281 | E8: =E9+E10 -> 964301 | G8: =D8-E8 -> 76980
C9: 국고보조금 | D9: 1010861 | E9: 933776 | G9: =D9-E9 -> 77085 | H9: 생계비 105,587,380원 인건비 771,467,550원 운영비 47,900,160원 기본운영비 7,836,000원 난방비 600,000원(1,2월 한시적) 춘계부식비 385,290원 계 933,776,380원
C10: 시도보조금 | D10: 30420 | E10: 30525 | F10: =E10-D10 -> 105 | H10: 아동용돈 10,416,000원 수련활동비 600,000원 교통비 8,064,000원 학습보조비 2,120,000원 수학여행비 0원 안전관리비 2,000,000원 종사자복지포인트 1,500,000원 환경개선비 3,525,000원 행사지원금 2,300,000원 계 30,525,000원
C11: 기타보조금 | G11: =D11-E11 -> 0
A12: 후원금수입 | D12: =D13 -> 124500 | E12: =E13 -> 145000
B13: 후원금수입 | D13: =D14+D15 -> 124500 | E13: =E14+E15 -> 145000
C14: 지정후원금 | D14: 62000 | E14: 74510 | F14: =E14-D14 -> 12510 | H14: 개인결연(개인후원,어린이재단,디딤씨앗) 아동연합회 경유 지정후원금 지역사회 지정후원금
C15: 비지정후원금 | D15: 62500 | E15: 70490 | F15: =E15-D15 -> 7990
A16: 전입금 | D16: =D17 -> 5000 | E16: =E17 -> 5000
B17: 전입금 | D17: =D18+D19 -> 5000 | E17: =E18+E19 -> 5000
C18: 법인전입금 | D18: 3000 | E18: 3000 | H18: 퇴직연금수수료 등
C19: 법인전입금 (후원금) | D19: 2000 | E19: 2000
A20: 이월금 | D20: =D21 -> 107179 | E20: =E21 -> 107179
B21: 이월금 | D21: =D22 -> 107179 | E21: =E22 -> 107179
C22: 전년도이월금 | D22: 107179 | E22: 107179 | H22: 비지정후원금 106,754,808원 지정후원금 424,633원
A23: 잡수입 | D23: =D24 -> 14780 | E23: =E24 -> 11060
B24: 잡수입 | D24: =D25+D26+D27 -> 14780 | E24: =E25+E26+E27 -> 11060
C25: 기타예금 이자수입 | D25: 600 | E25: 600
C26: 종사자급식비 | D26: 13680 | E26: 9960 | G26: =D26-E26 -> 3720 | H26: 종사자급식비(생활지도원) 10명*53,000*12월 6,360,000원 종사자급식비(사무실) 4명*60,000원*12월 3,600,000원 계 9,960,000원
C27: 기타잡수입 | D27: 500 | E27: 500 | H27: 실습생급식비 2*30,000*2회 120,000원 실습비 2명*70,000*2회 280,000원 기타 100,000원 계 500,000원

Sheet 세출부
A1: 2023년도 성애원(시설) 2차 추경 예산(안)
A3: 세 출 부 | H3: (단위 : 천원)
A4: 과 목 | D4: 예 산 액 | F4: 비 교 | H4: 산 출 기 초
A5: 관 | B5: 항 | C5: 목 | D5: 1차추경 | E5: 2차추경 | F5: 증 | G5: 감
A6: 합 계 | D6: =D7+D25+D30+D57+D60 -> 1292740 | E6: =E7+E25+E30+E57+E60 -> 1232540 | G6: =D6-E6 -> 60200 | H6: 본예산대비 0.466% 감액
A7: 사무비 | D7: =D8+D14+D17 -> 923246 | E7: =E8+E14+E17 -> 848248 | G7: =D7-E7 -> 74998
B8: 인건비 | D8: =SUM(D9:D13) -> 848907 | E8: =SUM(E9:E13) -> 773909 | G8: =D8-E8 -> 74998
C9: 급 여 | D9: 557866 | E9: 507863 | G9: =D9-E9 -> 50003 | H9: 기본급 507,863,100원
C10: 제 수 당 | D10: 155651 | E10: 142134 | G10: =D10-E10 -> 13517 | H10: 명절휴가비 51,483,300원 시간외수당 82,110,740원 가족수당 8,540,000원 계 142,134,040원
C11: 퇴직금및 퇴직적립금 | D11: 59460 | E11: 55743 | G11: =D11-E11 -> 3717 | H11: 퇴직금및퇴직적립금 55,742,750원
C12: 사회보험 부담비용 | D12: 73488 | E12: 65727 | G12: =D12-E12 -> 7761 | H12: 국민건강보험 23,042,470원 장기요양보험 2,954,130원 국민연금보험 27,749,940원 산재보험 5,240,490원 고용보험 6,740,630원 계 65,727,660원
C13: 기타후생경비 | D13: 2442 | E13: 2442 | H13: 명절선물구입 16명*10,000*2회= 320,000 직원워크샵 14명*15,000*1회= 210,000 공로패제작 2명*66,000 = 132,000 생일축하금 16명*30,000 = 480,000 포상선물비 2명*50,000 = 100,000 퇴직연금수수료(전입금) 1,200,000 계 2,442,000
B14: 업무추진비 | D14: =SUM(D15:D16) -> 3674 | E14: =SUM(E15:E16) -> 3674
C15: 기관운영비 | D15: 2914 | E15: 2914 | H15: 후원자 감사패 66,000원*8개= 528,000 후원자 감사선물 900,000원*2회= 1,800,000 기타 기관운영비 586,000 계 2,914,000
C16: 회 의 비 | D16: 760 | E16: 760 | H16: 시설운영위원회의비 100,000*4분기= 400,000 사례회의비 20,000원*12월= 240,000 후원자간담회비 30,000원*4분기= 120,000 계 760,000
B17: 운영비 | D17: =SUM(D18:D24) -> 70665 | E17: =SUM(E18:E24) -> 70665 | G17: 100
C18: 여 비 | D18: 3844 | E18: 3844 | H18: 직원교육비 84,000*16명=1,344,000 직원출장비 100,000*16월=1,600,000 시설장 세미나비 500,000 사무국장 세미나비 400,000 계 3,844,000
C19: 수용비및 수수료 | D19: 18440 | E19: 18440 | H19: 사무용품비 250,000*12월= 3,000,000 인쇄비 200,000* 4월= 800,000 집기구입비 100,000* 6월= 600,000 공고료 50,000*12월= 600,000 수수료 50,000*12월= 600,000 등기료 50,000*12월= 600,000 운송비 50,000*12월= 600,000 통행료 50,000*12월= 600,000 주차료 50,000*12월= 600,000 A/S비 50,000*12월= 600,000 신문대금 30,000*12월= 360,000 사무기기임대료 297,000*12월= 3,564,000 정수기 렌탈료 180,000*12월= 2,160,000 기타 3,756,000 계 18,440,000
C20: 공공요금 | D20: 22560 | E20: 22560 | H20: 전화요금 150,000*12월= 1,800,000 전기요금 700,000*12월= 8,400,000 상하수도요금 500,000*12월= 6,000,000 인터넷및키폰요금 150,000*12월= 1,800,000 TV사용료 150,000*12월= 1,800,000 우편요금 30,000*12월= 360,000 쓰레기봉투구입 100,000*12월= 1,200,000 납부필증 100,000*12월= 1,200,000 계 22,560,000
C21: 제세공과금 | D21: 9770 | E21: 9770 | H21: 신원보증보험 15,000*2명= 30,000 상해보험(아동+종사자+여행자) 400,000 화재보험 500,000 자동차보험(스타렉스3164) 700,000 자동차보험(스타렉스8394) 700,000 자동차보험(모닝9214) 600,000 자동차보험(스파크6742) 600,000 자동차보험(모닝9782) 600,000 영업배상책임보험 600,000 자동차세 800,000 환경개선부담금 400,000 아동연합회비960,000*4분기 3,840,000 계 9,770,000
C22: 차 량 비 | D22: 13060 | E22: 13060 | H22: 차량유류대 516,667*12월= 6,200,000 차량정비유지비 400,000*12월= 3,432,000 차량소모품비 400,000*12월= 3,428,000 계 13,060,000
C23: 종사자복지포인트 | D23: 1500 | E23: 1500 | G23: =D23-E23 -> 0 | H23: 복지포인트 15명*100,000원
C24: 기타운영비 | D24: 1491 | E24: 1491 | H24: 기관홍보용 달력제작 2,215*200부=443,000 기관홍보용 선물제작 5,000*150개=600,000 기타 운영경비 448,000 계 1,491,000
A25: 재산조성비 | D25: =SUM(D27:D29) -> 40800 | E25: =SUM(E27:E29) -> 40800 | F25: =E25-D25 -> 0
B26: 시설비 | D26: =D27+D28+D29 -> 40800 | E26: =E27+E28+E29 -> 40800 | F26: =E26-D26 -> 0
C27: 시설비 | D27: 15625 | E27: 15625 | F27: =E27-D27 -> 0 | H27: 시설비 12,100,000원(건물유지보수) 환경개선비 3,525,000원
C28: 자산취득비 | D28: 9215 | E28: 9215 | H28: 각종비품구입
C29: 시설장비유지비 | D29: 15960 | E29: 15960 | H29: 건물유지비용 500,000*12월=6,000,000 전기안전관리비 88,000*12월=1,056,000 소방안전관리비 143,000*12월=1,716,000 승강기안전관리비 99,000*12월=1,188,000 장비유지비용 500,000*12월= 6,000,000 계 15,960,000
A30: 사업비 | D30: =D31+D38+D47 -> 317732 | E30: =E31+E38+E47 -> 323724 | F30: =E30-D30 -> 5992
B31: 운영비 | D31: =SUM(D32:D37) -> 209716 | E31: =SUM(E32:E37) -> 205468 | G31: =D31-E31 -> 4248
C32: 생 계 비 -생계비 -춘계부식/김장비 -월동대책비 -특별위로비 | D32: 117848 | E32: 112670 | G32: =D32-E32 -> 5178 | H32: 아동급식비 270,266*28명*12개월=90,809,380 종사자급식비 12명*69,000원*12월= 6,156,000 종사자급식비 5명*59,000원*12월 = 3,600,000 실습생급식비 2명*30,000*2회= 120,000 춘계부식,김장비14,270원*31명*1회= 385,290 월동대책비 40,000*26명*1회= 1,040,000 특별위로비 50,000*26명*2회 = 2,650,000 후원금 7,908,401 계 112,670,584
C33: 수용기관경비 -수용기관경비 -아동용돈 -하계수련비 | D33: 48146 | E33: 47906 | G33: =D33-E33 -> 240 | H33: 아동필요용품 10,000*30명*12월= 3,600,000 아동핸드폰요금 15,000원*30명*12월=5,400,000 아동용돈 28명기준 10,416,000 아동용돈(후원금)75,556*30명*12월=27,200,000 수련활동비 30,000*20명 = 600,000 기타 690,000 계 47,906,000
C34: 피 복 비 | D34: 19430 | E34: 20600 | F34: =E34-D34 -> 1170 | H34: 피복비 30,000*28명*12월 = 10,080,000 후원금 29,223*30명*12월 = 10,520,280 계 20,600,280
C35: 의 료 비 | D35: 6000 | E35: 6000 | H35: 진료비 및 약제비 50,000*12월=2,218,000 입원비 250,000*2명= 500,000 수술비(포경수술 등) 250,000*2명= 500,000 약품구입 25,000*12월= 300,000 CT 및 MRI 촬영 600,000 안경수선및제작비 50,000*4명*12월=1,882,000 계 6,000,000
C36: 연 료 비 | D36: 18292 | E36: 18292 | F36: =E36-D36 -> 0 | H36: 취사연료비 3,000*28명*12월= 1,008,000 종사자급식비 1,000*17명*12월= 204,000 후원금,이자 351,000 심야전기 1,344,160*12월= 16,129,920 난방비 300,000원*2월= 600,000 계 18,292,920
C37: 방역비 | D37: 0 | E37: 0
B38: 교육비 | D38: =SUM(D39:D46) -> 35173 | E38: =SUM(E39:E46) -> 32403 | G38: =D38-E38 -> 2770
C39: 학용품비 | D39: 1080 | E39: 1080 | H39: 학용품구입 3,000*30명*12월= 1,080,000
C40: 도서구입비 | D40: 1850 | E40: 1850 | H40: 중등학생부교재비 25명*50,000*년1회 1,250,000 초등부교재비 4명*50,000*년1회 200,000 기타도서구입비 100,000*4분기= 400,000 계 1,850,000
C41: 교 통 비 | D41: 13440 | E41: 13440 | H41: 중1,2,3학년 1,600*240일 11,520,000 아동교통비 1,920,000 계 13,440,000
C42: 학습지원비 | D42: 4140 | E42: 3320 | G42: =D42-E42 -> 820 | H42: 학습보조비 고14명*120,000*년1회 1,680,000 중2명*10000*년1회 200,000 초3명*80,000*년1회 240,000 학원비 1,200,000 계 3,320,000
C43: 수학여행비 | D43: 1950 | E43: 0 | G43: =D43-E43 -> 1950 | H43: 교육청 전액 지원
C44: 교 복 비 | D44: 6600 | E44: 6600 | H44: 교복비 300,000*15명*2회= 6,600,000
C45: 이미용비 | D45: 5000 | E45: 5000 | H45: 아동이미용비 월300,000*12월=3,600,000 아동목욕비 16명*7,000*12월= 1,400,000 계 5,000,000
C46: 기타교육비 | D46: 1113 | E46: 1113 | H46: 학습재료 등 31,809*35명= 1,113,315
B47: 사업비 | C47: 소계 | D47: =SUM(D48:D56) -> 72843 | E47: =SUM(E48:E56) -> 85853
C48: 프로그램 사업비 | D48: 4096 | E48: 4096 | H48: 아동 30명*5,662*12월= 2,038,320 생일파티 30명*55,000= 1,650,000 인솔자프로그램사업비 17,000*4*6=408,000 계 4,096,320
C49: 문화체험 사업비 | D49: 5040 | E49: 5040 | H49: 문화체험비 30명*14,000*12월=5,040,000
C50: 예체능 프로그램 | D50: 1141 | E50: 1141 | H50: 예체능 95,083*12월= 1,141,000
C51: 정서지원 프로그램 | D51: 1366 | E51: 1366 | H51: 행동개선프로그램 30,000*10명= 300,000 치료프로그램 70,000*5명= 350,000 기타정서지원프로그램 71,600원*10명=716,000 계 1,366,000
C52: 바우처 프로그램 | D52: 1200 | E52: 1200 | H52: 바우처지원비 월100,000*12월=1,200,000
C53: 의무교육 프로그램 | D53: 500 | E53: 500 | H53: 교통안전,재난대비,약물오남용 실종예방,성폭력예방
C54: 아동개인결연 프로그램 | D54: 55000 | E54: 67510 | F54: =E54-D54 -> 12510 | H54: 개인결연금 26명 67,510,000
C55: 치료재활사업비 | D55: 600 | E55: 600 | H55: 치료기관 직접 지원으로 사업내용변경 진단검사비 300,000*2명 = 600,000 계 600,000
C56: 행사지원비 | D56: 3900 | E56: 4400 | F56: =E56-D56 -> 500 | H56: 연합회행사지원비 2,300,000 어린이날행사비 30명*10,000원=300,000 성탄파티 30명*10,000원=300,000 수련활동비 30명*50,000원=1,500,000 계 4,400,000
A57: 잡지출 | D57: =D58 -> 1000 | E57: =E58 -> 1000
B58: 잡지출 | D58: =D59 -> 1000 | E58: =E59 -> 1000
C59: 잡지출 | D59: 1000 | E59: 1000 | H59: 잡지출
A60: 예비비 | D60: =D61 -> 9962 | E60: =E61 -> 18768 | F60: =E60-D60 -> 8806
B61: 예비비 | D61: =D62 -> 9962 | E61: =E62 -> 18768 | F61: =E61-D61 -> 8806
C62: 예비비 | D62: 9962 | E62: 18768 | F62: =E62-D62 -> 8806

Sheet 급여산출기초1
A1: 2023년 종사자 인건비 산출내역
A2: 성애원 | K2: (단위:원) | U2: 성애원
A3: NO | B3: 직책 | C3: 성명 | D3: 호봉 | E3: 기본급 | G3: 명절휴가비 | H3: 시간외수당 | J3: 가족수당 | K3: 합계 | L3: 표준보수월액
H4: 시간 | I4: 지원금 | M4: 건강보험 | N4: 장기 요양보험 | O4: 국민연금 | P4: 산재보험 | Q4: 고용보험 | R4: 퇴직적립금 | S4: 계(C)
E5: =SUM(E6:E20) -> 44064400 | F5: =SUM(F6:F20) -> 507863100 | G5: =SUM(G6:G20) -> 51483300 | H5: =SUM(H6:H20) -> 376 | I5: =SUM(I6:I20) -> 82110740 | J5: =SUM(J6:J20) -> 8540000 | K5: =SUM(K6:K20) -> 649997140 | L5: =SUM(L6:L20) -> #REF! | ... U5: =SUM(U6:U20) -> #REF!
A6: 1 | B6: 원 장 | C6: 김문정 | D6: 26 | E6: =사회보험!E7 -> 5038700 | F6: =E6*12 -> 60464400 | G6: =E6*0.6*2 -> 6046440 | J6: =100000*12 -> 1200000 | K6: =F6+G6+I6+J6 -> 67710840 | L6: =#REF!+120000 -> #REF! | M6: =ROUNDDOWN(L6*2.995%,-1) -> #REF! | N6: =ROUNDDOWN(M6*6.55%,-1) -> #REF! | O6: =ROUNDDOWN(L6*0.045,-1) -> #REF! | P6: =ROUNDDOWN(L6*0.0056,-1) -> #REF! | Q6: =ROUNDDOWN(L6*0.009,-1) -> #REF! | R6: =ROUNDDOWN(K6/12,-1) -> 5642570 | S6: =SUM(M6:R6) -> #REF! | T6: =#REF!+#REF!+S6-#REF! -> #REF! | U6: =#REF!+#REF!+S6 -> #REF!
A7: 2 | B7: 자립전담요원 | C7: 최연아 | D7: 24 | E7: =사회보험!E8 -> 4120800 | F7: =E7*12 -> 49449600 | G7: =E7*0.6*2 -> 4944960 | H7: 8 | I7: =ROUNDDOWN(F7*1/209*1.5*H7,-1) -> 2839210 | J7: =100000*12 -> 1200000 | K7: =F7+G7+I7+J7 -> 58433770 | L7: =#REF!+120000 -> #REF! | M7: =ROUNDDOWN(L7*2.995%,-1) -> #REF! | N7: =ROUNDDOWN(M7*6.55%,-1) -> #REF! | O7: =ROUNDDOWN(L7*0.045,-1) -> #REF! | P7: =ROUNDDOWN(L7*0.0056,-1) -> #REF! | Q7: =ROUNDDOWN(L7*0.009,-1) -> #REF! | R7: =ROUNDDOWN(K7/12,-1) -> 4869480 | S7: =SUM(M7:R7) -> #REF! | T7: =#REF!+#REF!+S7-#REF! -> #REF! | U7: =#REF!+#REF!+S7 -> #REF!
A8: 3 | B8: 사무원 | C8: 조유미 | D8: 22 | E8: =사회보험!E9 -> 3383700 | F8: =E8*12 -> 40604400 | G8: =E8*0.6*2 -> 4060440 | H8: 8 | I8: =ROUNDDOWN(F8*1/209*1.5*H8,-1) -> 2331350 | J8: =40000*12 -> 480000 | K8: =F8+G8+I8+J8 -> 47476190
A9: 4 | B9: 생활지도원 | C9: 강명수 | D9: 21 | E9: =사회보험!E10 -> 3334000 | F9: =E9*12 -> 40008000 | G9: =E9*0.6*2 -> 4000800 | H9: 30 | I9: =ROUNDDOWN(F9*1/209*1.5*H9,-1) -> 8614160 | J9: =120000*12 -> 1440000 | K9: =F9+G9+I9+J9 -> 54062960 | L9: =#REF!+120000 -> #REF! | M9: =ROUNDDOWN(L9*2.995%,-1) -> #REF! | N9: =ROUNDDOWN(M9*6.55%,-1) -> #REF! | O9: =ROUNDDOWN(L9*0.045,-1) -> #REF! | P9: =ROUNDDOWN(L9*0.0056,-1) -> #REF! | Q9: =ROUNDDOWN(L9*0.009,-1) -> #REF! | R9: =ROUNDDOWN(K9/12,-1) -> 4505240 | S9: =SUM(M9:R9) -> #REF! | T9: =#REF!+#REF!+S9-#REF! -> #REF! | U9: =#REF!+#REF!+S9 -> #REF!
A10: 5 | B10: 생활지도원 | C10: 김희련 | D10: 14 | E10: =사회보험!E11 -> 2918900 | F10: =E10*12 -> 35026800 | G10: =E10*0.6*2 -> 3502680 | H10: 30 | I10: =ROUNDDOWN(F10*1/209*1.5*H10,-1) -> 7541650 | J10: =40000*12 -> 480000 | K10: =F10+G10+I10+J10 -> 46551130 | L10: =#REF!+120000 -> #REF! | M10: =ROUNDDOWN(L10*2.995%,-1) -> #REF! | N10: =ROUNDDOWN(M10*6.55%,-1) -> #REF! | O10: =ROUNDDOWN(L10*0.045,-1) -> #REF! | P10: =ROUNDDOWN(L10*0.0056,-1) -> #REF! | Q10: =ROUNDDOWN(L10*0.009,-1) -> #REF! | R10: =ROUNDDOWN(K10/12,-1) -> 3879260 | S10: =SUM(M10:R10) -> #REF! | T10: =#REF!+#REF!+S10-#REF! -> #REF! | U10: =#REF!+#REF!+S10 -> #REF!
A11: 6 | B11: 생활지도원 | C11: 김희현 | D11: 16 | E11: =사회보험!E12 -> 3045600 | F11: =E11*12 -> 36547200 | G11: =E11*0.6*2 -> 3654720 | H11: 30 | I11: =ROUNDDOWN(F11*1/209*1.5*H11,-1) -> 7869010 | K11: =F11+G11+I11+J11 -> 48070930 | L11: =#REF!+120000 -> #REF! | M11: =ROUNDDOWN(L11*2.995%,-1) -> #REF! | N11: =ROUNDDOWN(M11*6.55%,-1) -> #REF! | O11: =ROUNDDOWN(L11*0.045,-1) -> #REF! | P11: =ROUNDDOWN(L11*0.0056,-1) -> #REF! | Q11: =ROUNDDOWN(L11*0.009,-1) -> #REF! | R11: =ROUNDDOWN(K11/12,-1) -> 4005910 | S11: =SUM(M11:R11) -> #REF! | T11: =#REF!+#REF!+S11-#REF! -> #REF! | U11: =#REF!+#REF!+S11 -> #REF!
A12: 7 | B12: 생활지도원 | C12: 현명길 | D12: 13 | E12: =사회보험!E13 -> 2860200 | F12: =E12*12 -> 34322400 | G12: =E12*0.6*2 -> 3432240 | H12: 30 | I12: =ROUNDDOWN(F12*1/209*1.5*H12,-1) -> 7389990 | J12: =60000*12 -> 720000 | K12: =F12+G12+I12+J12 -> 45864630 | L12: =#REF!+120000 -> #REF! | M12: =ROUNDDOWN(L12*2.995%,-1) -> #REF! | N12: =ROUNDDOWN(M12*6.55%,-1) -> #REF! | O12: =ROUNDDOWN(L12*0.045,-1) -> #REF! | P12: =ROUNDDOWN(L12*0.0056,-1) -> #REF! | Q12: =ROUNDDOWN(L12*0.009,-1) -> #REF! | R12: =ROUNDDOWN(K12/12,-1) -> 3822050 | S12: =SUM(M12:R12) -> #REF! | T12: =#REF!+#REF!+S12-#REF! -> #REF! | U12: =#REF!+#REF!+S12 -> #REF!
A13: 8 | B13: 생활지도원 | C13: 손소영 | D13: 11 | E13: =사회보험!E14 -> 2742900 | F13: =E13*12 -> 32914800 | G13: =E13*0.6*2 -> 3291480 | H13: 30 | I13: =ROUNDDOWN(F13*1/209*1.5*H13,-1) -> 7086910 | J13: =40000*12 -> 480000 | K13: =F13+G13+I13+J13 -> 43773190 | L13: =#REF!+120000 -> #REF! | M13: =ROUNDDOWN(L13*2.995%,-1) -> #REF! | N13: =ROUNDDOWN(M13*6.55%,-1) -> #REF! | O13: =ROUNDDOWN(L13*0.045,-1) -> #REF! | P13: =ROUNDDOWN(L13*0.0056,-1) -> #REF! | Q13: =ROUNDDOWN(L13*0.009,-1) -> #REF! | R13: =ROUNDDOWN(K13/12,-1) -> 3647760 | S13: =SUM(M13:R13) -> #REF! | T13: =#REF!+#REF!+S13-#REF! -> #REF! | U13: =#REF!+#REF!+S13 -> #REF!
A14: 9 | B14: 생활지도원 | C14: 김도윤 | D14: 12 | E14: =사회보험!E15 -> 2802800 | F14: =E14*12 -> 33633600 | G14: =E14*0.6*2 -> 3363360 | H14: 30 | I14: =ROUNDDOWN(F14*1/209*1.5*H14,-1) -> 7241680 | K14: =F14+G14+I14+J14 -> 44238640 | L14: =#REF!+120000 -> #REF! | M14: =ROUNDDOWN(L14*2.995%,-1) -> #REF! | N14: =ROUNDDOWN(M14*6.55%,-1) -> #REF! | O14: =ROUNDDOWN(L14*0.045,-1) -> #REF! | P14: =ROUNDDOWN(L14*0.0056,-1) -> #REF! | Q14: =ROUNDDOWN(L14*0.009,-1) -> #REF! | R14: =ROUNDDOWN(K14/12,-1) -> 3686550 | S14: =SUM(M14:R14) -> #REF! | T14: =#REF!+#REF!+S14-#REF! -> #REF! | U14: =#REF!+#REF!+S14 -> #REF!
A15: 10 | B15: 생활지도원 | C15: 이지환 | D15: 7 | E15: =사회보험!E16 -> 2323300 | F15: =E15*3 -> 6969900 | G15: =E15*0.6 -> 1393980 | H15: 30 | I15: =ROUNDDOWN(F15*1/209*1.5*H15,-1) -> 1500690 | J15: =140000 -> 140000 | K15: =F15+G15+I15+J15 -> 10004570 | L15: =#REF!+120000 -> #REF! | M15: =ROUNDDOWN(L15*2.995%,-1) -> #REF! | N15: =ROUNDDOWN(M15*6.55%,-1) -> #REF! | O15: =ROUNDDOWN(L15*0.045,-1) -> #REF! | P15: =ROUNDDOWN(L15*0.0056,-1) -> #REF! | Q15: =ROUNDDOWN(L15*0.009,-1) -> #REF! | R15: =ROUNDDOWN(K15/12,-1) -> 833710 | S15: =SUM(M15:R15) -> #REF! | T15: =#REF!+#REF!+S15-#REF! -> #REF! | U15: =#REF!+#REF!+S15 -> #REF!
A16: 11 | B16: 생활지도원 | C16: 김소영 | D16: 7 | E16: =사회보험!E17 -> 2410000 | F16: =E16*12 -> 28920000 | G16: =E16*0.6*2 -> 2892000 | H16: 30 | I16: =ROUNDDOWN(F16*1/209*1.5*H16,-1) -> 6226790 | J16: =80000*12 -> 960000 | K16: =F16+G16+I16+J16 -> 38998790
A17: 12 | B17: 생활지도원 | C17: 정정덕 | D17: 4 | E17: =사회보험!E18 -> 2206900 | F17: =E17*12 -> 26482800 | G17: =E17*0.6*2 -> 2648280 | H17: 30 | I17: =ROUNDDOWN(F17*1/209*1.5*H17,-1) -> 5702030 | J17: =40000*12 -> 480000 | K17: =F17+G17+I17+J17 -> 35313110
A18: 13 | B18: 생활지도원 | C18: 정다솔 | D18: 5 | E18: =사회보험!E19 -> 2265300 | F18: =E18*12 -> 27183600 | G18: =E18*0.6*2 -> 2718360 | H18: 30 | I18: =ROUNDDOWN(F18*1/209*1.5*H18,-1) -> 5852920 | J18: =40000*12 -> 480000 | K18: =F18+G18+I18+J18 -> 36234880
A19: 14 | B19: 생활지도원 | C19: 김상철 | D19: 6 | E19: =사회보험!E20 -> 2323300 | F19: =E19*12 -> 27879600 | G19: =E19*0.6*2 -> 2787960 | H19: 30 | I19: =ROUNDDOWN(F19*1/209*1.5*H19,-1) -> 6002780 | J19: 0 | K19: =F19+G19+I19+J19 -> 36670340
A20: 15 | B20: 조리원 | C20: 이하윤 | D20: 9 | E20: =사회보험!E21 -> 2288000 | F20: =E20*12 -> 27456000 | G20: =E20*0.6*2 -> 2745600 | H20: 30 | I20: =ROUNDDOWN(F20*1/209*1.5*H20,-1) -> 5911570 | J20: =40000*12 -> 480000 | K20: =F20+G20+I20+J20 -> 36593170 | L20: =#REF!+120000 -> #REF! | M20: =ROUNDDOWN(L20*2.995%,-1) -> #REF! | N20: =ROUNDDOWN(M20*6.55%,-1) -> #REF! | O20: =ROUNDDOWN(L20*0.045,-1) -> #REF! | P20: =ROUNDDOWN(L20*0.0056,-1) -> #REF! | Q20: =ROUNDDOWN(L20*0.009,-1) -> #REF! | R20: =ROUNDDOWN(K20/12,-1) -> 3049430 | S20: =SUM(M20:R20) -> #REF! | T20: =#REF!+#REF!+S20-#REF! -> #REF! | U20: =#REF!+#REF!+S20 -> #REF!

Sheet 사회보험
A1: 2023년 종사자 사회보험 산출내역
A2: 성애원 | Q2: =M6+N6+O6+P6+Q6 -> 65727640 | R2: =Q2+R6 -> 121470390 | S2: (단위:원)
A3: NO | B3: 직책 | C3: 성명 | D3: 호봉 | E3: 기본급 | G3: 명절휴가비 | H3: 시간외수당 | J3: 가족수당 | K3: 총급여 | L3: 표준보수액 | M3: 사 용 자 부 담
H4: 시간 | I4: 지원금
E5: 12 | M5: 건강보험 (3.545%) | N5: 장기 요양보험 (10.25%) | O5: 국민연금 (4.5%) | P5: 산재보험 (0.9%) | Q5: 고용보험 (1.05%) | R5: 퇴직적립금 (A/12) | S5: 합계
A6: 계 | E6: =SUM(E7:E21)/12 -> 3672033.3 | F6: =SUM(F7:F21) -> 507863100 | G6: =SUM(G7:G21) -> 51483300 | H6: =SUM(H7:H20) -> 346 | I6: =SUM(I7:I21) -> 82110740 | J6: =SUM(J7:J21) -> 8540000 | K6: =SUM(K7:K21) -> 649997140 | L6: =SUM(L7:L21) -> 649997140 | M6: =SUM(M7:M21) -> 23042460 | N6: =SUM(N7:N21) -> 2954120 | O6: =SUM(O7:O21) -> 27749940 | P6: =SUM(P7:P21) -> 5240490 | ... S6: =SUM(S7:S21) -> 121470390
A7: 1 | B7: 원 장 | C7: 김문정 | D7: =급여산출기초1!D6 -> 26 | E7: 5038700 | F7: =E7*12 -> 60464400 | G7: =급여산출기초1!G6 -> 6046440 | J7: =급여산출기초1!J6 -> 1200000 | K7: =F7+G7+I7+J7 -> 67710840 | L7: =K7 -> 67710840 | M7: =ROUNDUP(L7*0.03545,-1) -> 2400350 | N7: =ROUNDUP(M7*12.82%,-1) -> 307730 | O7: =ROUNDUP(L7*0.045,-1)-99990 -> 2947000 | Q7: 100130 | R7: =ROUNDUP(L7/12,-1) -> 5642570 | S7: =SUM(M7:R7) -> 11397780
A8: 2 | B8: 자립전담요원 | C8: 윤지희 | D8: =급여산출기초1!D7 -> 24 | E8: 4120800 | F8: =E8*12 -> 49449600 | G8: =급여산출기초1!G7 -> 4944960 | H8: 8 | I8: =급여산출기초1!I7 -> 2839210 | J8: =급여산출기초1!J7 -> 1200000 | K8: =F8+G8+I8+J8 -> 58433770 | L8: =K8 -> 58433770 | M8: =ROUNDUP(L8*0.03545,-1) -> 2071480 | N8: =ROUNDUP(M8*12.82%,-1) -> 265570 | O8: =ROUNDUP(L8*0.045,-1)-100000 -> 2529520 | P8: =ROUNDUP(L8*0.009,-1) -> 525910 | Q8: =ROUNDDOWN(L8*0.009,-1)+100000 -> 625900 | R8: =ROUNDUP(L8/12,-1) -> 4869490 | S8: =SUM(M8:R8) -> 10887870
A9: 3 | B9: 사무원 | C9: 강명수 | D9: =급여산출기초1!D8 -> 22 | E9: 3383700 | F9: =E9*12 -> 40604400 | G9: =급여산출기초1!G8 -> 4060440 | H9: 8 | I9: =급여산출기초1!I8 -> 2331350 | J9: =급여산출기초1!J8 -> 480000 | K9: =F9+G9+I9+J9 -> 47476190 | L9: =K9 -> 47476190 | M9: =ROUNDUP(L9*0.03545,-1) -> 1683040 | N9: =ROUNDUP(M9*12.82%,-1) -> 215770 | O9: =ROUNDUP(L9*0.045,-1)-100000 -> 2036430 | P9: =ROUNDUP(L9*0.009,-1) -> 427290 | Q9: =ROUNDDOWN(L9*0.009,-1)+100000 -> 527280 | R9: =ROUNDUP(L9/12,-1) -> 3956350 | S9: =SUM(M9:R9) -> 8846160
A10: 4 | B10: 생활지도원1 | C10: 윤기영 | D10: =급여산출기초1!D9 -> 21 | E10: 3334000 | F10: =E10*12 -> 40008000 | G10: =급여산출기초1!G9 -> 4000800 | H10: 30 | I10: =급여산출기초1!I9 -> 8614160 | J10: =급여산출기초1!J9 -> 1440000 | K10: =F10+G10+I10+J10 -> 54062960 | L10: =K10 -> 54062960 | M10: =ROUNDUP(L10*0.03545,-1) -> 1916540 | N10: =ROUNDUP(M10*12.82%,-1) -> 245710 | O10: =ROUNDUP(L10*0.045,-1)-100000 -> 2332840 | P10: =ROUNDUP(L10*0.009,-1) -> 486570 | Q10: =ROUNDDOWN(L10*0.009,-1)+100000 -> 586560 | R10: =ROUNDUP(L10/12,-1) -> 4505250 | S10: =SUM(M10:R10) -> 10073470
A11: 5 | B11: 생활지도원2 | C11: 김희련 | D11: =급여산출기초1!D10 -> 14 | E11: 2918900 | F11: =E11*12 -> 35026800 | G11: =급여산출기초1!G10 -> 3502680 | H11: 30 | I11: =급여산출기초1!I10 -> 7541650 | J11: =급여산출기초1!J10 -> 480000 | K11: =F11+G11+I11+J11 -> 46551130 | L11: =K11 -> 46551130 | M11: =ROUNDUP(L11*0.03545,-1) -> 1650240 | N11: =ROUNDUP(M11*12.82%,-1) -> 211570 | O11: =ROUNDUP(L11*0.045,-1)-100000 -> 1994810 | P11: =ROUNDUP(L11*0.009,-1) -> 418970 | Q11: =ROUNDDOWN(L11*0.009,-1)+100000 -> 518960 | R11: =ROUNDUP(L11/12,-1) -> 3879270 | S11: =SUM(M11:R11) -> 8673820
A12: 6 | B12: 생활지도원3 | C12: 박지혜 | D12: =급여산출기초1!D11 -> 16 | E12: 3045600 | F12: =E12*12 -> 36547200 | G12: =급여산출기초1!G11 -> 3654720 | H12: 30 | I12: =급여산출기초1!I11 -> 7869010 | J12: =급여산출기초1!J11 -> 0 | K12: =F12+G12+I12+J12 -> 48070930 | L12: =K12 -> 48070930 | M12: =ROUNDUP(L12*0.03545,-1) -> 1704120 | N12: =ROUNDUP(M12*12.82%,-1) -> 218470 | O12: =ROUNDUP(L12*0.045,-1)-100000 -> 2063200 | P12: =ROUNDUP(L12*0.009,-1) -> 432640 | Q12: =ROUNDDOWN(L12*0.009,-1)+100000 -> 532630 | R12: =ROUNDUP(L12/12,-1) -> 4005920 | S12: =SUM(M12:R12) -> 8956980
A13: 7 | B13: 생활지도원4 | C13: 권선정 | D13: =급여산출기초1!D12 -> 13 | E13: 2860200 | F13: =E13*12 -> 34322400 | G13: =급여산출기초1!G12 -> 3432240 | H13: 30 | I13: =급여산출기초1!I12 -> 7389990 | J13: =급여산출기초1!J12 -> 720000 | K13: =F13+G13+I13+J13 -> 45864630 | L13: =K13 -> 45864630 | M13: =ROUNDUP(L13*0.03545,-1) -> 1625910 | N13: =ROUNDUP(M13*12.82%,-1) -> 208450 | O13: =ROUNDUP(L13*0.045,-1)-100000 -> 1963910 | P13: =ROUNDUP(L13*0.009,-1) -> 412790 | Q13: =ROUNDDOWN(L13*0.009,-1)+100000 -> 512780 | R13: =ROUNDUP(L13/12,-1) -> 3822060 | S13: =SUM(M13:R13) -> 8545900
A14: 8 | B14: 생활지도원5 | C14: 노미아 | D14: =급여산출기초1!D13 -> 11 | E14: 2742900 | F14: =E14*12 -> 32914800 | G14: =급여산출기초1!G13 -> 3291480 | H14: 30 | I14: =급여산출기초1!I13 -> 7086910 | J14: =급여산출기초1!J13 -> 480000 | K14: =F14+G14+I14+J14 -> 43773190 | L14: =K14 -> 43773190 | M14: =ROUNDUP(L14*0.03545,-1) -> 1551760 | N14: =ROUNDUP(M14*12.82%,-1) -> 198940 | O14: =ROUNDUP(L14*0.045,-1)-100000 -> 1869800 | P14: =ROUNDUP(L14*0.009,-1) -> 393960 | Q14: =ROUNDDOWN(L14*0.009,-1)+100000 -> 493950 | R14: =ROUNDUP(L14/12,-1) -> 3647770 | S14: =SUM(M14:R14) -> 8156180
A15: 9 | B15: 생활지도원6 | C15: 조숙 | D15: =급여산출기초1!D14 -> 12 | E15: 2802800 | F15: =E15*12 -> 33633600 | G15: =급여산출기초1!G14 -> 3363360 | H15: 30 | I15: =급여산출기초1!I14 -> 7241680 | J15: =급여산출기초1!J14 -> 0 | K15: =F15+G15+I15+J15 -> 44238640 | L15: =K15 -> 44238640 | M15: =ROUNDUP(L15*0.03545,-1) -> 1568260 | N15: =ROUNDUP(M15*12.82%,-1) -> 201060 | O15: =ROUNDUP(L15*0.045,-1)-100000 -> 1890740 | P15: =ROUNDUP(L15*0.009,-1)-150 -> 398000 | Q15: =ROUNDDOWN(L15*0.009,-1)+100000 -> 498140 | R15: =ROUNDUP(L15/12,-1) -> 3686560 | S15: =SUM(M15:R15) -> 8242760
A16: 10 | B16: 생활지도원7 | C16: 김희현 | D16: =급여산출기초1!D15 -> 7 | E16: 2323300 | F16: =E16*3 -> 6969900 | G16: =급여산출기초1!G15 -> 1393980 | H16: 30 | I16: =급여산출기초1!I15 -> 1500690 | J16: =급여산출기초1!J15 -> 140000 | K16: =F16+G16+I16+J16 -> 10004570 | L16: =K16 -> 10004570 | M16: =ROUNDUP(L16*0.03545,-1) -> 354670 | N16: =ROUNDUP(M16*12.82%,-1) -> 45470 | O16: =ROUNDUP(L16*0.045,-1)-100000 -> 350210 | P16: =ROUNDUP(L16*0.009,-1) -> 90050 | Q16: =ROUNDDOWN(L16*0.009,-1)+100000 -> 190040 | R16: 2409960 | S16: =SUM(M16:R16) -> 3440400
A17: 11 | B17: 생활지도원8 | D17: 6 | E17: 2410000 | F17: =E17*12 -> 28920000 | G17: =급여산출기초1!G16 -> 2892000 | H17: 30 | I17: =급여산출기초1!I16 -> 6226790 | J17: =급여산출기초1!J16 -> 960000 | K17: =F17+G17+I17+J17 -> 38998790 | L17: =K17 -> 38998790 | M17: =ROUNDUP(L17*0.03545,-1) -> 1382510 | N17: =ROUNDUP(M17*12.82%,-1) -> 177240 | O17: =ROUNDUP(L17*0.045,-1)-100000 -> 1654950 | P17: =ROUNDUP(L17*0.009,-1) -> 350990 | Q17: =ROUNDDOWN(L17*0.009,-1)+100000 -> 450980 | R17: =ROUNDUP(L17/12,-1) -> 3249900 | S17: =SUM(M17:R17) -> 7266570
A18: 12 | B18: 생활지도원9 | D18: 4 | E18: 2206900 | F18: =E18*12 -> 26482800 | G18: =급여산출기초1!G17 -> 2648280 | H18: 30 | I18: =급여산출기초1!I17 -> 5702030 | J18: =급여산출기초1!J17 -> 480000 | K18: =F18+G18+I18+J18 -> 35313110 | L18: =K18 -> 35313110 | M18: =ROUNDUP(L18*0.03545,-1) -> 1251850 | N18: =ROUNDUP(M18*12.82%,-1) -> 160490 | O18: =ROUNDUP(L18*0.045,-1)-100000 -> 1489090 | P18: =ROUNDUP(L18*0.009,-1) -> 317820 | Q18: =ROUNDDOWN(L18*0.009,-1)+100000 -> 417810 | R18: =ROUNDUP(L18/12,-1) -> 2942760 | S18: =SUM(M18:R18) -> 6579820
A19: 13 | B19: 생활지도원10 | D19: 5 | E19: 2265300 | F19: =E19*12 -> 27183600 | G19: =급여산출기초1!G18 -> 2718360 | H19: 30 | I19: =급여산출기초1!I18 -> 5852920 | J19: =급여산출기초1!J18 -> 480000 | K19: =F19+G19+I19+J19 -> 36234880 | L19: =K19 -> 36234880 | M19: =ROUNDUP(L19*0.03545,-1) -> 1284530 | N19: =ROUNDUP(M19*12.82%,-1) -> 164680 | O19: =ROUNDUP(L19*0.045,-1)-100000 -> 1530570 | P19: =ROUNDUP(L19*0.009,-1) -> 326120 | Q19: =ROUNDDOWN(L19*0.009,-1)+100000 -> 426110 | R19: =ROUNDUP(L19/12,-1) -> 3019580 | S19: =SUM(M19:R19) -> 6751590
A20: 14 | B20: 생활지도원11 | D20: =급여산출기초1!D17 -> 4 | E20: 2323300 | F20: =E20*12 -> 27879600 | G20: =급여산출기초1!G19 -> 2787960 | H20: 30 | I20: =급여산출기초1!I19 -> 6002780 | J20: =급여산출기초1!J19 -> 0 | K20: =F20+G20+I20+J20 -> 36670340 | L20: =K20 -> 36670340 | M20: =ROUNDUP(L20*0.03545,-1) -> 1299970 | N20: =ROUNDUP(M20*12.82%,-1) -> 166660 | O20: =ROUNDUP(L20*0.045,-1)-100000 -> 1550170 | P20: =ROUNDUP(L20*0.009,-1) -> 330040 | Q20: =ROUNDDOWN(L20*0.009,-1)+100000 -> 430030 | R20: =ROUNDUP(L20/12,-1) -> 3055870 | S20: =SUM(M20:R20) -> 6832740
A21: 15 | B21: 조리원 | C21: 권미정 | D21: =급여산출기초1!D20 -> 9 | E21: 2288000 | F21: =E21*12 -> 27456000 | G21: =급여산출기초1!G20 -> 2745600 | H21: 30 | I21: =급여산출기초1!I20 -> 5911570 | J21: =급여산출기초1!J20 -> 480000 | K21: =F21+G21+I21+J21 -> 36593170 | L21: =K21 -> 36593170 | M21: =ROUNDUP(L21*0.03545,-1) -> 1297230 | N21: =ROUNDUP(M21*12.82%,-1) -> 166310 | O21: =ROUNDUP(L21*0.045,-1)-100000 -> 1546700 | P21: =ROUNDUP(L21*0.009,-1) -> 329340 | Q21: =ROUNDDOWN(L21*0.009,-1)+100000 -> 429330 | R21: =ROUNDUP(L21/12,-1) -> 3049440 | S21: =SUM(M21:R21) -> 6818350

Sheet 임직원보수일람표1
A1: 2023년 임직원 보수일람표
A2: 성 애 원 | M2: (단위:원)
A3: NO | B3: 직책 | C3: 성명 | D3: 호봉 | E3: 기본급 | F3: 기본급계 | G3: 명절위로비 | H3: 가족수당 | I3: 시간외수당 | J3: 제수당계 | K3: 급여계 | L3: 공제액 | M3: 차감지급액
A4: 계 | E4: =SUM(E5:E19) -> 44064400 | F4: =SUM(F5:F19) -> 507863100 | G4: =SUM(G5:G19) -> 51483300 | H4: =SUM(H5:H19) -> 8540000 | I4: =SUM(I5:I19) -> 82110740 | J4: =SUM(J5:J19) -> 142134040 | K4: =SUM(K5:K19) -> 649997140 | L4: =SUM(L5:L19) -> 65727640 | M4: =SUM(M5:M19) -> 584269500
A5: 1 | B5: 원 장 | C5: 김문정 | D5: =급여산출기초1!D6 -> 26 | E5: =급여산출기초1!E6 -> 5038700 | F5: =E5*12 -> 60464400 | G5: =급여산출기초1!G6 -> 6046440 | H5: =급여산출기초1!J6 -> 1200000 | I5: =급여산출기초1!I6 -> 0 | J5: =SUM(G5:I5) -> 7246440 | K5: =F5+J5 -> 67710840 | L5: =사회보험!M7+사회보험!N7+사회보험!O7+사회보험!P7+사회보험!Q7 -> 5755210 | M5: =K5-L5 -> 61955630
A6: 2 | B6: 자립전담요원 | C6: 최연아 | D6: =급여산출기초1!D7 -> 24 | E6: =급여산출기초1!E7 -> 4120800 | F6: =E6*12 -> 49449600 | G6: =급여산출기초1!G7 -> 4944960 | H6: =급여산출기초1!J7 -> 1200000 | I6: =급여산출기초1!I7 -> 2839210 | J6: =SUM(G6:I6) -> 8984170 | K6: =F6+J6 -> 58433770 | L6: =사회보험!M8+사회보험!N8+사회보험!O8+사회보험!P8+사회보험!Q8 -> 6018380 | M6: =K6-L6 -> 52415390
A7: 3 | B7: 사무원 | C7: 조유미 | D7: =급여산출기초1!D8 -> 22 | E7: =급여산출기초1!E8 -> 3383700 | F7: =E7*12 -> 40604400 | G7: =급여산출기초1!G8 -> 4060440 | H7: =급여산출기초1!J8 -> 480000 | I7: =급여산출기초1!I8 -> 2331350 | J7: =SUM(G7:I7) -> 6871790 | K7: =F7+J7 -> 47476190 | L7: =사회보험!M9+사회보험!N9+사회보험!O9+사회보험!P9+사회보험!Q9 -> 4889810 | M7: =K7-L7 -> 42586380
A8: 4 | B8: 생활지도원 | C8: 강명수 | D8: =급여산출기초1!D9 -> 21 | E8: =급여산출기초1!E9 -> 3334000 | F8: =E8*12 -> 40008000 | G8: =급여산출기초1!G9 -> 4000800 | H8: =급여산출기초1!J9 -> 1440000 | I8: =급여산출기초1!I9 -> 8614160 | J8: =SUM(G8:I8) -> 14054960 | K8: =F8+J8 -> 54062960 | L8: =사회보험!M10+사회보험!N10+사회보험!O10+사회보험!P10+사회보험!Q10 -> 5568220 | M8: =K8-L8 -> 48494740
A9: 5 | B9: 생활지도원 | C9: 김희련 | D9: =급여산출기초1!D10 -> 14 | E9: =급여산출기초1!E10 -> 2918900 | F9: =E9*12 -> 35026800 | G9: =급여산출기초1!G10 -> 3502680 | H9: =급여산출기초1!J10 -> 480000 | I9: =급여산출기초1!I10 -> 7541650 | J9: =SUM(G9:I9) -> 11524330 | K9: =F9+J9 -> 46551130 | L9: =사회보험!M11+사회보험!N11+사회보험!O11+사회보험!P11+사회보험!Q11 -> 4794550 | M9: =K9-L9 -> 41756580
A10: 6 | B10: 생활지도원 | C10: 김희현 | D10: =급여산출기초1!D11 -> 16 | E10: =급여산출기초1!E11 -> 3045600 | F10: =E10*12 -> 36547200 | G10: =급여산출기초1!G11 -> 3654720 | H10: =급여산출기초1!J11 -> 0 | I10: =급여산출기초1!I11 -> 7869010 | J10: =SUM(G10:I10) -> 11523730 | K10: =F10+J10 -> 48070930 | L10: =사회보험!M12+사회보험!N12+사회보험!O12+사회보험!P12+사회보험!Q12 -> 4951060 | M10: =K10-L10 -> 43119870
A11: 7 | B11: 생활지도원 | C11: 현명길 | D11: =급여산출기초1!D12 -> 13 | E11: =급여산출기초1!E12 -> 2860200 | F11: =E11*12 -> 34322400 | G11: =급여산출기초1!G12 -> 3432240 | H11: =급여산출기초1!J12 -> 720000 | I11: =급여산출기초1!I12 -> 7389990 | J11: =SUM(G11:I11) -> 11542230 | K11: =F11+J11 -> 45864630 | L11: =사회보험!M13+사회보험!N13+사회보험!O13+사회보험!P13+사회보험!Q13 -> 4723840 | M11: =K11-L11 -> 41140790
A12: 8 | B12: 생활지도원 | C12: 손소영 | D12: =급여산출기초1!D13 -> 11 | E12: =급여산출기초1!E13 -> 2742900 | F12: =E12*12 -> 32914800 | G12: =급여산출기초1!G13 -> 3291480 | H12: =급여산출기초1!J13 -> 480000 | I12: =급여산출기초1!I13 -> 7086910 | J12: =SUM(G12:I12) -> 10858390 | K12: =F12+J12 -> 43773190 | L12: =사회보험!M14+사회보험!N14+사회보험!O14+사회보험!P14+사회보험!Q14 -> 4508410 | M12: =K12-L12 -> 39264780
A13: 9 | B13: 생활지도원 | C13: 김도윤 | D13: =급여산출기초1!D14 -> 12 | E13: =급여산출기초1!E14 -> 2802800 | F13: =E13*12 -> 33633600 | G13: =급여산출기초1!G14 -> 3363360 | H13: =급여산출기초1!J14 -> 0 | I13: =급여산출기초1!I14 -> 7241680 | J13: =SUM(G13:I13) -> 10605040 | K13: =F13+J13 -> 44238640 | L13: =사회보험!M15+사회보험!N15+사회보험!O15+사회보험!P15+사회보험!Q15 -> 4556200 | M13: =K13-L13 -> 39682440
A14: 10 | B14: 생활지도원 | C14: 이지환 | D14: =급여산출기초1!D15 -> 7 | E14: =급여산출기초1!E15 -> 2323300 | F14: =E14*3 -> 6969900 | G14: =급여산출기초1!G15 -> 1393980 | H14: =급여산출기초1!J15 -> 140000 | I14: =급여산출기초1!I15 -> 1500690 | J14: =SUM(G14:I14) -> 3034670 | K14: =F14+J14 -> 10004570 | L14: =사회보험!M16+사회보험!N16+사회보험!O16+사회보험!P16+사회보험!Q16 -> 1030440 | M14: =K14-L14 -> 8974130
A15: 11 | B15: 생활지도원 | C15: 김소영 | D15: =급여산출기초1!D16 -> 7 | E15: =급여산출기초1!E16 -> 2410000 | F15: =E15*12 -> 28920000 | G15: =급여산출기초1!G16 -> 2892000 | H15: =급여산출기초1!J16 -> 960000 | I15: =급여산출기초1!I16 -> 6226790 | J15: =SUM(G15:I15) -> 10078790 | K15: =F15+J15 -> 38998790 | L15: =사회보험!M17+사회보험!N17+사회보험!O17+사회보험!P17+사회보험!Q17 -> 4016670 | M15: =K15-L15 -> 34982120
A16: 12 | B16: 생활지도원 | C16: 정정덕 | D16: =급여산출기초1!D17 -> 4 | E16: =급여산출기초1!E17 -> 2206900 | F16: =E16*12 -> 26482800 | G16: =급여산출기초1!G17 -> 2648280 | H16: =급여산출기초1!J17 -> 480000 | I16: =급여산출기초1!I17 -> 5702030 | J16: =SUM(G16:I16) -> 8830310 | K16: =F16+J16 -> 35313110 | L16: =사회보험!M20+사회보험!N20+사회보험!O20+사회보험!P20+사회보험!Q20 -> 3776870 | M16: =K16-L16 -> 31536240
A17: 13 | B17: 생활지도원 | C17: 정다솔 | D17: =급여산출기초1!D18 -> 5 | E17: =급여산출기초1!E18 -> 2265300 | F17: =E17*12 -> 27183600 | G17: =급여산출기초1!G18 -> 2718360 | H17: =급여산출기초1!J18 -> 480000 | I17: =급여산출기초1!I18 -> 5852920 | J17: =SUM(G17:I17) -> 9051280 | K17: =F17+J17 -> 36234880 | L17: =사회보험!M18+사회보험!N18+사회보험!O18+사회보험!P18+사회보험!Q18 -> 3637060 | M17: =K17-L17 -> 32597820
A18: 14 | B18: 생활지도원 | C18: 김상철 | D18: =급여산출기초1!D19 -> 6 | E18: =급여산출기초1!E19 -> 2323300 | F18: =E18*12 -> 27879600 | G18: =급여산출기초1!G19 -> 2787960 | H18: =급여산출기초1!J19 -> 0 | I18: =급여산출기초1!I19 -> 6002780 | J18: =SUM(G18:I18) -> 8790740 | K18: =F18+J18 -> 36670340 | L18: =사회보험!M19+사회보험!N19+사회보험!O19+사회보험!P19+사회보험!Q19 -> 3732010 | M18: =K18-L18 -> 32938330
A19: 16 | B19: 조리원 | C19: 이하윤 | D19: =급여산출기초1!D20 -> 9 | E19: =급여산출기초1!E20 -> 2288000 | F19: =E19*12 -> 27456000 | G19: =급여산출기초1!G20 -> 2745600 | H19: =급여산출기초1!J20 -> 480000 | I19: =급여산출기초1!I20 -> 5911570 | J19: =SUM(G19:I19) -> 9137170 | K19: =F19+J19 -> 36593170 | L19: =사회보험!M21+사회보험!N21+사회보험!O21+사회보험!P21+사회보험!Q21 -> 3768910 | M19: =K19-L19 -> 32824260

Sheet 생계비
B1: 2023년 성애원(시설) 경상보조금 생계비(국시비) 산출내역
B2: 성 애 원 | I2: (단위:원)
B3: 구 분 | D3: 기준액 | E3: 지급회수 | F3: 예상 인원 | G3: 예산액 | H3: 산출내역 | I3: 비 고
B4: 주부식비통합 -피복비 -취사연료 포함 | C4: 주부식비 | D4: 270266 | E4: 월 | F4: 28 | G4: =ROUNDUP(D4*F4*12,-1) -> 90809380 | H4: 270,2660*28명*12개월=90,809,376 | I4: 주부식비 1식 3,000원 월 1인당 270,266원
C5: 피복비 | D5: 30000 | E5: 월 | F5: 28 | G5: =D5*F5*12 -> 10080000 | H5: 30,000*28명*12개월=7,812,000원
C6: 취사연료비 | D6: 3000 | E6: 월 | F6: 28 | G6: =D6*F6*12 -> 1008000 | H6: 3,000*28명*12개월1,008,000원
B7: 소계 | D7: =SUM(D4:D6) -> 303266 | E7: 월 | G7: =SUM(G4:G6) -> 101897380 | H7: 300,000*28명*12개월=100,800,000원
B8: 월동대책비 | D8: 40000 | E8: 연1회 | F8: 26 | G8: =D8*F8 -> 1040000 | H8: 38,000원*26명*1회=1,120,000원
B9: 특별위로비(설,추석) | D9: 50000 | E9: 연2회 | F9: 26 | G9: =D9*F9*2+50000 -> 2650000 | H9: 50000원*53명+50,0000=2,800,000원 | I9: 설날:28명 추석:25명
B10: 소계 | G10: =SUM(G8:G9) -> 3690000
B11: 합 계 | G11: =G7+G10 -> 105587380
B12: * 2023년도 기초생활보장 지침 중 시설생계급여 등 지원기준

Sheet 운영비
A1: 2023년 성애원(시설) 경상보조금 관리운영비 산출내역(국시비)
A2: 성 애 원 | E2: (단위:원)
A3: 구 분 | B3: 지급기준 | C3: 예산액 | D3: 산출내역 | E3: 비 고
A4: 3세이상 | B4: 142,560/월 | C4: =142560*28*12 -> 47900160 | D4: 28명*142,560원*12월=47,900,160원 | E4: 28명
A5: 기본운영비 | B5: 653,000/월 | C5: =653000*12 -> 7836000 | D5: 653,000원*12월 | E5: 28명
A6: 춘계부식비/월동김장비 | B6: 14,270/년1인당 | C6: 385290 | D6: 28명*14,270원*년1회=428,100원 | E6: 28명
A7: 행사지원비 | B7: 연1회 | C7: 2300000 | D7: 연 찬 회 : 400,000원 사생대회 : 100,000원 축구,계주대회 : 800,000원 자립체험 : 1,000,000원
A8: 한시적난방비지원 | B8: 1,2월 | C8: 600000 | D8: 300,000원*2월
A9: 소 계 | C9: =SUM(C4:C8) -> 59021450
A11: 2023년 성애원(시설) 관리운영비 산출내역(시비)
A12: 성 애 원 | E12: (단위:원)
A13: 구 분 | B13: 지급기준 | C13: 예산액 | D13: 산출내역 | E13: 비 고
A14: 영아위생대 | B14: 22,500/월1인당 | C14: 0 | D14: 3세미만 명*22,500원*12월
A15: 아동용돈(고) | B15: 40,000/월1인당 | C15: =40000*16*12 -> 7680000 | D15: 고등학생16명*40,000원*12월=7,680,000원 | E15: 16명
A16: 아동용돈(중) | B16: 28,000/월1인당 | C16: =28000*5*12 -> 1680000 | D16: 중학생 5명*28,000원*12월=3,024,000원 | E16: 5명
A17: 아동용돈(초등) | B17: 22,000/월1인당 | C17: =22000*4*12 -> 1056000 | D17: 초등학생 7명*22,000원*12월=1,056,000원 | E17: 7명
A18: 하계수련비 | B18: 30,000/년1인당 | C18: 600000 | D18: 3세이상 26명*30,000원*년1회=840,000원 | E18: 26명
A19: 교통비 | B19: 1,600/일1인당,240일 | C19: =1600*240*21 -> 8064000 | D19: 21명*1,600원*240일=11,520,000원 | E19: 21명
A20: 수학여행비 | B20: 85,000/년1인당 | C20: 0 | D20: 교육청, 해당 학교에서 지원
A21: 학습보조비(고등) | B21: 120,000/년1인당 | C21: =120000*14 -> 1680000 | D21: 고등학생 14명*120,000원*년1회=1,920,000원 | E21: 14명
A22: 학습보조비(중등) | B22: 100,000/년1인당 | C22: =2*100000 -> 200000 | D22: 중 학 생 2명*100,000원*년1회=500,000원 | E22: 2명
A23: 학습보조비(초등) | B23: 80,000/년1인당 | C23: 240000 | D23: 초등학생 3명*80,000원*년1회=560,000원 | E23: 3명
A24: 환경개선비 | B24: 3,252,000/4년마다 | C24: 3525000 | D24: 4년 마다 환경개선비 지급
A25: 종사자복지포인트 | B25: 100,000/년1회 | C25: 1500000 | D25: 15명*100,000원*년1회=1,500,000원 | E25: 15명기준
A26: 안전관리비 | B26: 2,000,000/년1회 | C26: 2000000
A27: 소 계 | C27: =SUM(C14:C26) -> 28225000
A28: 합 계 | C28: =C9+C27 -> 87246450
