Workbook

Sheet 세입부
A1: 2024년도 성애원(시설) 제2차 세입·세출 추가경정 예산(안)
A3: 세 입 부 | H3: (단위:천원)
A4: 과 목 | D4: 예산액 | F4: 비 교 | H4: 산 출 기 초
A5: 관 | B5: 항 | C5: 목 | D5: 1차추경 | E5: 2차추경 | F5: 증 | G5: 감
A6: 합 계 | D6: =D7+D12+D16+D20+D23 -> 1275951 | E6: =E7+E12+E16+E20+E23 -> 1263075 | G6: =D6-E6 -> 12876 | H6: 1차 추경예산 대비 1% 감액
A7: 보조금수입 | D7: =D8 -> 991851 | E7: =E8 -> 969520 | G7: =D7-E7 -> 22331
B8: 보조금수입 | D8: =D9+D10 -> 991851 | E8: =E9+E10 -> 969520 | G8: =D8-E8 -> 22331
C9: 국고보조금 | D9: 969171 | E9: 949439 | G9: =D9-E9 -> 19732 | H9: 생계비 109,783,050 인건비 783,520,200 운영비 47,900,160 기본 운영비 7,836,000 춘계부식비/월동김장비 399,560 계 949,438,970
C10: 시도보조금 | D10: 22680 | E10: 20081 | G10: =D10-E10 -> 2599 | H10: 아동용돈 7,713,550 하계수련비 480,000 교통비 4,544,000 학습보조비 1,660,000 안전관리비 2,000,000 행사지원비 2,300,000 종사자복지포인트 1,383,330 계 20,080,880
C11: 기타보조금 | G11: =D11-E11 -> 0
A12: 후원금수입 | D12: =D13 -> 145000 | E12: =E13 -> 155100 | F12: 10100
B13: 후원금수입 | D13: =D14+D15 -> 145000 | E13: =E14+E15 -> 155100 | F13: 10100
C14: 지정후원금 | D14: 74510 | E14: 93510 | F14: 19000 | H14: 개인결연(개인후원,어린이재단,디딤씨앗) 아동연합회 경유 지정후원금 지역사회 지정후원금
C15: 비지정후원금 | D15: 70490 | E15: 61590 | G15: =D15-E15 -> 8900
A16: 전입금 | D16: =D17 -> 3000 | E16: =E17 -> 3000
B17: 전입금 | D17: =D18+D19 -> 3000 | E17: =E18+E19 -> 3000
C18: 법인전입금 | D18: 1000 | G18: =D18-E18 -> 1000
C19: 법인전입금 (후원금) | D19: 2000 | E19: 3000 | F19: 1000
A20: 이월금 | D20: =D21 -> 123820 | E20: =E21 -> 123820
B21: 이월금 | D21: =D22 -> 123820 | E21: =E22 -> 123820
C22: 전년도이월금 | D22: 123820 | E22: 123820 | H22: 비지정후원금 120,394,164 지정후원금 2,686,327 온누리상품권 740,020 계 123,820,511
A23: 잡수입 | D23: =D24 -> 12280 | E23: =E24 -> 11635 | G23: =D23-E23 -> 645
B24: 잡수입 | D24: =D25+D26+D27 -> 12280 | E24: =E25+E26+E27 -> 11635 | G24: =D24-E24 -> 645
C25: 기타예금 이자수입 | D25: 600 | E25: 5 | G25: =D25-E25 -> 595
C26: 종사자급식비 | D26: 10080 | E26: 11180 | F26: 1100 | H26: 종사자급식비(생활지도원) 10명*67,170*12월=8,060,000 종사자급식비(사무실/주방) 4명*60,000원*12월=3,120,000 계 11,180,000
C27: 기타잡수입 | D27: 1600 | E27: 450 | G27: =D27-E27 -> 1150 | H27: 실습생 급식비 3명*30,000*2회=180,000 기간제 급식비 270,000 계 450,000

Sheet 세출부
A1: 2024년도 성애원(시설) 제2차 세입·세출 추가경정 예산(안)
A3: 세 출 부 | H3: (단위 : 천원)
A4: 과 목 | D4: 예 산 액 | F4: 비 교 | H4: 산 출 기 초
A5: 관 | B5: 항 | C5: 목 | D5: 1차추경 | E5: 2차추경 | F5: 증 | G5: 감
A6: 합 계 | D6: =D7+D25+D30+D56+D59 -> 1275951 | E6: =E7+E25+E30+E56+E59 -> 1263075 | G6: =D6-E6 -> 12876 | H6: 1차 추경예산 대비 1% 감액
A7: 사무비 | D7: =D8+D15+D18 -> 869672 | E7: =E8+E15+E18 -> 861241 | G7: =D7-E7 -> 8431
B8: 인건비 | D8: =SUM(D9:D14) -> 799732 | E8: =SUM(E9:E14) -> 787246 | G8: =D8-E8 -> 12486
C9: 급 여 | D9: 523110 | E9: 515672 | G9: =D9-E9 -> 7438 | H9: 기본급 515,672,300
C10: 제 수 당 | D10: 145016 | E10: 142790 | G10: =D10-E10 -> 2226 | H10: 명절휴가비 52,075,620 시간외수당 83,113,610 가족수당 7,600,000 계 142,789,230
C11: 종사자복지포인트 | D11: 1400 | E11: 1383 | G11: =D11-E11 -> 17 | H11: 복지포인트 13명*100,000 1명*383,330 계 1,383,330
C12: 퇴직금및 퇴직적립금 | D12: 55677 | E12: 57204 | F12: 1527 | H12: 퇴직금및퇴직적립금 57,203,550
C13: 사회보험 부담비용 | D13: 72187 | E13: 67855 | G13: =D13-E13 -> 4332 | H13: 국민건강보험 23,338,080 장기요양보험 3,022,680 국민연금보험 28,665,520 산재보험 5,967,320 고용보험 6,861,520 계 67,855,120
C14: 기타후생경비 | D14: 2342 | E14: 2342 | H14: 명절선물구입 14명*10,000*2회= 280,000 직원워크샵 14명*15,000*1회= 210,000 공로패제작 2명*66,000 = 132,000 생일축하금 14명*30,000 = 420,000 포상선물비 2명*50,000 = 100,000 퇴직연금수수료(전입금) 1,200,000 계 2,342,000
B15: 업무추진비 | D15: =SUM(D16:D17) -> 3575 | E15: =SUM(E16:E17) -> 2845 | G15: =D15-E15 -> 730
C16: 기관운영비 | D16: 2815 | E16: 2815 | H16: 후원자 감사패 66,000원*2개= 132,000 후원자 감사선물 500,000원*2회= 1,000,000 기타 기관운영비 1,683,000 계 2,815,000
C17: 회 의 비 | D17: 760 | E17: 30 | G17: =D17-E17 -> 730 | H17: 후원자간담회비 30,000원
B18: 운영비 | D18: =SUM(D19:D24) -> 66365 | E18: =SUM(E19:E24) -> 71150 | F18: 4785
C19: 여 비 | D19: 1380 | E19: 1790 | F19: 410 | H19: 직원교육비 20,000*14명=280,000 직원출장비 100,000* 2명=200,000 시설장 세미나비 910,000 사무국장 세미나비 400,000 계 1,790,000
C20: 수용비및 수수료 | D20: 18680 | E20: 22639 | F20: 3959 | H20: 사무용품비 250,000*12월= 3,000,000 인쇄비 200,000* 4월= 800,000 집기구입비 100,000* 6월= 600,000 공고료 50,000*12월= 600,000 수수료 50,000*12월= 600,000 등기료 50,000*12월= 600,000 운송비 50,000*12월= 600,000 통행료 50,000*12월= 600,000 주차료 50,000*12월= 600,000 A/S비 50,000*12월= 600,000 신문대금 30,000*12월= 360,000 사무기기임대료 297,000*12월= 3,564,000 정수기 렌탈료 200,000*12월= 2,400,000 기타 7,715,670 계 22,639,670
C21: 공공요금 | D21: 22184 | E21: 22600 | F21: 416 | H21: 전화요금 150,000*12월= 1,800,000 전기요금 768,666*12월= 9,224,000 상하수도요금 500,000*12월= 6,415,660 인터넷및키폰요금 150,000*12월= 1,800,000 TV사용료 50,000*12월= 600,000 우편요금 30,000*12월= 360,000 쓰레기봉투구입 100,000*12월= 1,200,000 납부필증 100,000*12월= 1,200,000 계 22,599,660
C22: 제세공과금 | D22: 9770 | E22: 9770 | H22: 신원보증보험 15,000*2명= 30,000 상해보험(아동+종사자+여행자) 400,000 화재보험 500,000 자동차보험(스타렉스3164) 700,000 자동차보험(스타렉스8394) 700,000 자동차보험(모닝9214) 600,000 자동차보험(스파크6742) 600,000 자동차보험(모닝9782) 600,000 영업배상책임보험 600,000 자동차세 800,000 환경개선부담금 400,000 아동연합회비960,000*4분기 3,840,000 계 9,770,000
C23: 차 량 비 | D23: 12860 | E23: 12860 | H23: 차량유류대 500000*12월= 6,000,000 차량정비유지비 400,000*12월= 3,432,000 차량소모품비 400,000*12월= 3,428,000 계 12,860,000
C24: 기타운영비 | D24: 1491 | E24: 1491 | H24: 기관홍보용 달력제작 2,215*200부=443,000 기관홍보용 선물제작 5,000*150개=600,000 기타 운영경비 448,000 계 1,491,000
A25: 재산조성비 | D25: =SUM(D27:D29) -> 40800 | E25: =SUM(E27:E29) -> 40073 | G25: =D25-E25 -> 727
B26: 시설비 | D26: =D27+D28+D29 -> 40800 | E26: =E27+E28+E29 -> 40073 | G26: =D26-E26 -> 727
C27: 시설비 | D27: 15625 | E27: 15625 | H27: 시설비 (건물유지보수)
C28: 자산취득비 | D28: 9215 | E28: 12415 | F28: 3200 | H28: 각종비품구입
C29: 시설장비유지비 | D29: 15960 | E29: 12033 | G29: =D29-E29 -> 3927 | H29: 건물유지비용 500,000*12월=6,000,000 전기안전관리비 88,000*12월=1,056,000 소방안전관리비 143,000*12월=1,716,000 승강기안전관리비 99,000*12월=1,188,000 장비유지비용 2,072,900 계 12,032,900
A30: 사업비 | D30: =D31+D37+D46 -> 346671 | E30: =E31+E37+E46 -> 342953 | G30: =D30-E30 -> 3718
B31: 운영비 | D31: =SUM(D32:D36) -> 223667 | E31: =SUM(E32:E36) -> 216605 | G31: =D31-E31 -> 7062
C32: 생 계 비 -생계비 -춘계부식/김장비 -월동대책비 -특별위로비 | D32: 130379 | E32: 108477 | G32: =D32-E32 -> 21902 | H32: 아동급식비 300,000*28명*12월= 88,210,890 종사자급식비14명*68,300원*12월= 11,467,000 춘계부식,김장비14,270원*28명*1회= 399,560 월동대책비 40,000*25명*1회= 1,000,000 특별위로비 50,000*28명*1회 = 1,400,000 후원금 6,000,000 계 108,477,450
C33: 수용기관경비 -수용기관경비 -아동용돈 -하계수련비 | D33: 48146 | E33: 68003 | F33: 19587 | H33: 아동필요용품 10,715*28명*12월= 3,600,000 아동핸드폰요금 16,071원*28명*12월=5,400,000 아동용돈 16명기준 7,713,550 아동용돈(후원금)80,950*28명*12월=49,034,725 수련활동비 30,000*16명 = 480,000 기타 1,775,000 계 68,003,275
C34: 피 복 비 | D34: 21237 | E34: 20064 | G34: =D34-E34 -> 1173 | H34: 피복비 53,700*28명*12월 = 18,043,200 후원금 29,223*30명*12월 = 2,020,280 계 20,063,480
C35: 의 료 비 | D35: 6000 | E35: 8000 | F35: 2000 | H35: 진료비 및 약제비 50,000*12월=2,218,000 약품구입 25,000*12월= 300,000 안경수선및제작비 50,000*4명*12월=1,082,000 치아교정비 4,400,000 계 8,000,000
C36: 연 료 비 | D36: 17905 | E36: 12061 | G36: =D36-E36 -> 5844 | H36: 취사연료비 3,360*28명*12월= 1,128,960 종사자급식비 1,000*14명*12월= 168,000 심야전기 1,344,160*12월= 10,764,121 계 12,061,081
B37: 교육비 | D37: =SUM(D38:D45) -> 37151 | E37: =SUM(E38:E45) -> 33495 | G37: =D37-E37 -> 3656
C38: 학용품비 | D38: 1008 | E38: 1008 | G38: =D38-E38 -> 0 | H38: 학용품구입 3,000*28명*12월= 1,008,000
C39: 도서구입비 | D39: 1850 | E39: 1850 | G39: =D39-E39 -> 0 | H39: 중등학생부교재비 25명*50,000*년1회 1,250,000 초등부교재비 4명*50,000*년1회 200,000 기타도서구입비 100,000*4분기= 400,000 계 1,850,000
C40: 교 통 비 | D40: 13440 | E40: 10224 | G40: =D40-E40 -> 3216 | H40: 중,고등학생 1,600*240일 4,544,000 아동교통비 5,680,000 계 10,224,000
C41: 학습지원비 | D41: 8140 | E41: 9200 | F41: 1060 | H41: 학습보조비 고10명*120,000*년1회 1,200,000 중3명*100,000*년1회 300,000 초2명*80,000*년1회 160,000 학원비 7,540,000 계 9,200,000
C42: 수학여행비 | D42: 0 | E42: 0 | H42: 교육청 전액 지원
C43: 교 복 비 | D43: 6600 | E43: 6600 | H43: 교복비 300,000*15명*2회= 6,600,000
C44: 이미용비 | D44: 5000 | E44: 3500 | G44: =D44-E44 -> 1500 | H44: 아동이미용비 월175,000*12월=2,100,000 아동목욕비 16명*7,000*12월= 1,400,000 계 3,500,000
C45: 기타교육비 | D45: 1113 | E45: 1113 | H45: 학습재료 등 31,809*35명= 1,113,315
B46: 사업비 | C46: 소계 | D46: =SUM(D47:D55) -> 85853 | E46: =SUM(E47:E55) -> 92853 | F46: 7000
C47: 프로그램 사업비 | D47: 4096 | E47: 4096 | H47: 아동 30명*5,662*12월= 2,038,320 생일파티 30명*55,000= 1,650,000 인솔자프로그램사업비 17,000*4*6=408,000 계 4,096,320
C48: 문화체험 사업비 | D48: 5040 | E48: 5040 | H48: 문화체험비 30명*14,000*12월=5,040,000
C49: 예체능 프로그램 | D49: 1141 | E49: 1141 | H49: 예체능 95,083*12월= 1,141,000
C50: 정서지원 프로그램 | D50: 1366 | E50: 1366 | H50: 행동개선프로그램 30,000*10명= 300,000 치료프로그램 70,000*5명= 350,000 기타정서지원프로그램 71,600원*10명=716,000 계 1,366,000
C51: 바우처 프로그램 | D51: 1200 | E51: 1200 | H51: 바우처지원비 월100,000*12월=1,200,000
C52: 의무교육 프로그램 | D52: 500 | E52: 500 | H52: 교통안전,재난대비,약물오남용 실종예방,성폭력예방
C53: 아동개인결연 프로그램 | D53: 67510 | E53: 74510 | F53: 7000 | H53: 개인결연금 26명 67,510,000
C54: 치료재활사업비 | D54: 600 | E54: 600 | H54: 치료기관 직접 지원으로 사업내용변경 진단검사비 300,000*2명 = 600,000 계 600,000
C55: 행사지원비 | D55: 4400 | E55: 4400 | H55: 연합회행사지원비 2,300,000 어린이날행사비 30명*10,000원= 300,000 성탄파티 30명*10,000원= 300,000 수련활동비 30명*50,000원= 1,500,000 계 4,400,000
A56: 잡지출 | D56: =D57 -> 3808 | E56: =E57 -> 3808
B57: 잡지출 | D57: =D58 -> 3808 | E57: =E58 -> 3808
C58: 잡지출 | D58: 3808 | E58: 3808 | H58: 잡지출
A59: 예비비 | D59: =D60 -> 15000 | E59: =E60 -> 15000
B60: 예비비 | D60: =D61 -> 15000 | E60: =E61 -> 15000
C61: 예비비 | D61: 15000 | E61: 15000

Sheet 급여산출기초1
B1: 2024년 종사자 인건비 산출내역
B2: 성애원 | L2: (단위:원)
B3: NO | C3: 직책 | D3: 성명 | E3: 호봉 | F3: 기본급 | H3: 명절휴가비 | I3: 시간외수당 | K3: 가족수당 | L3: 합계
I4: 시간 | J4: 지원금
F5: =SUM(F6:F19) -> 43592500 | G5: =SUM(G6:G19) -> 515672300 | H5: =SUM(H6:H19) -> 52075620 | I5: =SUM(I6:I19) -> 346 | J5: =SUM(J6:J19) -> 83113610 | K5: =SUM(K6:K19) -> 7600000 | L5: =SUM(L6:L19) -> 658461530
B6: 1 | C6: 원 장 | D6: 김문정 | E6: =사회보험!D7 -> 27 | F6: 5208000 | G6: =F6*12-540000 -> 61956000 | H6: 6197520 | K6: =40000*12 -> 480000 | L6: =G6+H6+J6+K6 -> 68633520
B7: 2 | C7: 자립전담요원 | D7: 최연아 | E7: =사회보험!D8 -> 25 | F7: 4269800 | G7: =F7*12-500000-97700 -> 50639900 | H7: =5096160+100000-7160 -> 5189000 | I7: 8 | J7: =ROUNDDOWN(G7*1/209*1.5*I7,-1) -> 2907550 | K7: =40000*12 -> 480000 | L7: =G7+H7+J7+K7 -> 59216450
B8: 3 | C8: 사무원 | D8: 조유미 | E8: =사회보험!D9 -> 23 | F8: 3514800 | G8: =F8*12-500000 -> 41677600 | H8: 4189800 | I8: 8 | J8: =ROUNDDOWN(G8*1/209*1.5*I8,-1) -> 2392970 | K8: =40000*12 -> 480000 | L8: =G8+H8+J8+K8 -> 48740370
B9: 4 | C9: 생활지도원 | D9: 강명수 | E9: =사회보험!D10 -> 22 | F9: 3468200 | G9: =F9*12-500000 -> 41118400 | H9: =4131300+100000 -> 4231300 | I9: 30 | J9: =ROUNDDOWN(G9*1/209*1.5*I9,-1) -> 8853240 | K9: =140000*12 -> 1680000 | L9: =G9+H9+J9+K9 -> 55882940
B10: 5 | C10: 생활지도원 | D10: 김희련 | E10: =사회보험!D11 -> 15 | F10: 3054000 | G10: =F10*12-500000 -> 36148000 | H10: =3590160 -> 3590160 | I10: 30 | J10: =ROUNDDOWN(G10*1/209*1.5*I10,-1) -> 7783060 | K10: 400000 | L10: =G10+H10+J10+K10 -> 47921220
B11: 6 | C11: 생활지도원 | D11: 김희현 | E11: =사회보험!D12 -> 17 | F11: 3477800 | G11: =F11*12-500000 -> 41233600 | H11: =4133460 -> 4133460 | I11: 30 | J11: =ROUNDDOWN(G11*1/209*1.5*I11,-1) -> 8878040 | K11: 0 | L11: =G11+H11+J11+K11 -> 54245100
B12: 7 | C12: 생활지도원 | D12: 현명길 | E12: =사회보험!D13 -> 14 | F12: 2991800 | G12: =F12*12-500000 -> 35401600 | H12: =3554100+22680 -> 3576780 | I12: 30 | J12: =ROUNDDOWN(G12*1/209*1.5*I12,-1) -> 7622350 | K12: =70000*12 -> 840000 | L12: =G12+H12+J12+K12 -> 47440730
B13: 8 | C13: 생활지도원 | D13: 손소영 | E13: =사회보험!D14 -> 12 | F13: 2872800 | G13: =F13*12-400000 -> 34073600 | H13: 3410520 | I13: 30 | J13: =ROUNDDOWN(G13*1/209*1.5*I13,-1) -> 7336420 | K13: =40000*12 -> 480000 | L13: =G13+H13+J13+K13 -> 45300540
B14: 9 | C14: 생활지도원 | D14: 김도윤 | E14: =사회보험!D15 -> 13 | F14: 2931700 | G14: =F14*12-400000 -> 34780400 | H14: 3447360 | I14: 30 | J14: =ROUNDDOWN(G14*1/209*1.5*I14,-1) -> 7488600 | K14: 0 | L14: =G14+H14+J14+K14 -> 45716360
B15: 10 | C15: 생활지도원 | D15: 김소영 | E15: =사회보험!D16 -> 7 | F15: 2470200 | G15: =F15*12-40000 -> 29602400 | H15: 3081480 | I15: 30 | J15: =ROUNDDOWN(G15*1/209*1.5*I15,-1) -> 6373720 | K15: =100000*12 -> 1200000 | L15: =G15+H15+J15+K15 -> 40257600
B16: 11 | C16: 생활지도원 | D16: 김상철 | E16: =사회보험!D17 -> 7 | F16: 2470200 | G16: =F16*12-400000 -> 29242400 | H16: 2910900 | I16: 30 | J16: =ROUNDDOWN(G16*1/209*1.5*I16,-1) -> 6296210 | K16: =40000*12 -> 480000 | L16: =G16+H16+J16+K16 -> 38929510
B17: 12 | C17: 생활지도원 | D17: 정다솔 | E17: =사회보험!D18 -> 5 | F17: 2321900 | G17: =F17*12-200000 -> 27662800 | H17: 2821920 | I17: 30 | J17: =ROUNDDOWN(G17*1/209*1.5*I17,-1) -> 5956100 | K17: =40000*12 -> 480000 | L17: =G17+H17+J17+K17 -> 36920820
B18: 13 | C18: 생활지도원 | D18: 정정덕 | E18: =사회보험!D19 -> 6 | F18: 2381300 | G18: =F18*12-200000 -> 28375600 | H18: 2750340 | I18: 30 | J18: =ROUNDDOWN(G18*1/209*1.5*I18,-1) -> 6109570 | K18: 0 | L18: =G18+H18+J18+K18 -> 37235510
B19: 14 | C19: 조리원 | D19: 한민정 | E19: 4 | F19: 2160000 | G19: =F19*11 -> 23760000 | H19: =2*1272540 -> 2545080 | I19: 30 | J19: =ROUNDDOWN(G19*1/209*1.5*I19,-1) -> 5115780 | K19: =60000*10 -> 600000 | L19: =G19+H19+J19+K19 -> 32020860

Sheet 사회보험
A1: 2024년 종사자 사회보험 산출내역
A2: 성애원 | S2: (단위:원)
A3: NO | B3: 직책 | C3: 성명 | D3: 호봉 | E3: 기본급 | G3: 명절휴가비 | H3: 시간외수당 | J3: 가족수당 | K3: 총급여 | L3: 표준보수액 | M3: 사 용 자 부 담
H4: 시간 | I4: 지원금
E5: 월 | F5: 년 | M5: 건강보험 (3.545%) | N5: 장기 요양보험 (10.25%) | O5: 국민연금 (4.5%) | P5: 산재보험 (0.9%) | Q5: 고용보험 (1.05%) | R5: 퇴직적립금 (A/12) | S5: 합계
A6: 계 | E6: =SUM(E7:E20) -> 43592500 | F6: =SUM(F7:F20) -> 515672300 | G6: =SUM(G7:G20) -> 52075620 | H6: =SUM(H7:H20) -> 346 | I6: =SUM(I7:I20) -> 83113610 | J6: =SUM(J7:J20) -> 7600000 | K6: =SUM(K7:K20) -> 658461530 | L6: =SUM(L7:L20) -> 658461530 | ... S6: =SUM(S7:S20) -> 125058670
A7: 1 | B7: 원 장 | C7: =급여산출기초1!D6 -> 김문정 | D7: 27 | E7: =급여산출기초1!F6 -> 5208000 | F7: =급여산출기초1!G6 -> 61956000 | G7: =급여산출기초1!H6 -> 6197520 | J7: =급여산출기초1!K6 -> 480000 | K7: =F7+G7+I7+J7 -> 68633520 | L7: =K7 -> 68633520 | M7: =ROUNDUP(L7*0.04,-1)-200000 -> 2545350 | N7: =ROUNDUP(M7*12.82%,-1)+30660 -> 356980 | O7: =ROUNDUP(L7*0.045,-1)+334690 -> 3423200 | R7: =ROUNDUP(L7/12,-1)+300000 -> 6019460 | S7: =SUM(M7:R7) -> 12344990
A8: 2 | B8: 자립전담요원 | C8: =급여산출기초1!D7 -> 최연아 | D8: 25 | E8: =급여산출기초1!F7 -> 4269800 | F8: =급여산출기초1!G7 -> 50639900 | G8: =급여산출기초1!H7 -> 5189000 | H8: 8 | I8: =급여산출기초1!J7 -> 2907550 | J8: =급여산출기초1!K7 -> 480000 | K8: =F8+G8+I8+J8 -> 59216450 | L8: =K8 -> 59216450 | M8: =ROUNDUP(L8*0.04,-1)-200000-45000 -> 2123660 | N8: =ROUNDUP(M8*12.82%,-1) -> 272260 | O8: =ROUNDUP(L8*0.045,-1)-100000 -> 2564750 | P8: =ROUNDUP(L8*0.01,-1)+68980 -> 661150 | Q8: =ROUNDDOWN(L8*0.009,-1)+150000+62080 -> 745020 | R8: =ROUNDUP(L8/12,-1)+400000 -> 5334710 | S8: =SUM(M8:R8) -> 11701550
A9: 3 | B9: 사무원 | C9: =급여산출기초1!D8 -> 조유미 | D9: 23 | E9: =급여산출기초1!F8 -> 3514800 | F9: =급여산출기초1!G8 -> 41677600 | G9: =급여산출기초1!H8 -> 4189800 | H9: 8 | I9: =급여산출기초1!J8 -> 2392970 | J9: =급여산출기초1!K8 -> 480000 | K9: =F9+G9+I9+J9 -> 48740370 | L9: =K9 -> 48740370 | M9: =ROUNDUP(L9*0.04,-1)-200000 -> 1749620 | N9: =ROUNDUP(M9*12.82%,-1) -> 224310 | O9: =ROUNDUP(L9*0.045,-1)-100000 -> 2093320 | P9: =ROUNDUP(L9*0.01,-1) -> 487410 | Q9: =ROUNDDOWN(L9*0.009,-1)+100000 -> 538660 | R9: =ROUNDUP(L9/12,-1)+200000+11880 -> 4273580 | S9: =SUM(M9:R9) -> 9366900
A10: 4 | B10: 생활지도원1 | C10: =급여산출기초1!D9 -> 강명수 | D10: 22 | E10: =급여산출기초1!F9 -> 3468200 | F10: =급여산출기초1!G9 -> 41118400 | G10: =급여산출기초1!H9 -> 4231300 | H10: 30 | I10: =급여산출기초1!J9 -> 8853240 | J10: =급여산출기초1!K9 -> 1680000 | K10: =F10+G10+I10+J10 -> 55882940 | L10: =K10 -> 55882940 | M10: =ROUNDUP(L10*0.04,-1)-200000 -> 2035320 | N10: =ROUNDUP(M10*12.82%,-1) -> 260930 | O10: =ROUNDUP(L10*0.045,-1)-100000 -> 2414740 | P10: =ROUNDUP(L10*0.01,-1) -> 558830 | Q10: =ROUNDDOWN(L10*0.009,-1)+150000-8930 -> 644010 | R10: =ROUNDUP(L10/12,-1)+200000 -> 4856920 | S10: =SUM(M10:R10) -> 10770750
A11: 5 | B11: 생활지도원2 | C11: =급여산출기초1!D10 -> 김희련 | D11: 15 | E11: =급여산출기초1!F10 -> 3054000 | F11: =급여산출기초1!G10 -> 36148000 | G11: =급여산출기초1!H10 -> 3590160 | H11: 30 | I11: =급여산출기초1!J10 -> 7783060 | J11: =급여산출기초1!K10 -> 400000 | K11: =F11+G11+I11+J11 -> 47921220 | L11: =K11 -> 47921220 | M11: =ROUNDUP(L11*0.04,-1)-200000 -> 1716850 | N11: =ROUNDUP(M11*12.82%,-1) -> 220110 | O11: =ROUNDUP(L11*0.045,-1)-100000 -> 2056460 | P11: =ROUNDUP(L11*0.01,-1) -> 479220 | Q11: =ROUNDDOWN(L11*0.009,-1)+150000 -> 581290 | R11: =ROUNDUP(L11/12,-1)+300000 -> 4293440 | S11: =SUM(M11:R11) -> 9347370
A12: 6 | B12: 생활지도원3 | C12: =급여산출기초1!D11 -> 김희현 | D12: 17 | E12: =급여산출기초1!F11 -> 3477800 | F12: =급여산출기초1!G11 -> 41233600 | G12: =급여산출기초1!H11 -> 4133460 | H12: 30 | I12: =급여산출기초1!J11 -> 8878040 | J12: =급여산출기초1!K11 -> 0 | K12: =F12+G12+I12+J12 -> 54245100 | L12: =K12 -> 54245100 | M12: =ROUNDUP(L12*0.04,-1)-200000 -> 1969810 | N12: =ROUNDUP(M12*12.82%,-1) -> 252530 | O12: =ROUNDUP(L12*0.045,-1)-100000 -> 2341030 | P12: =ROUNDUP(L12*0.01,-1) -> 542460 | Q12: =ROUNDDOWN(L12*0.009,-1)+150000 -> 638200 | R12: =ROUNDUP(L12/12,-1)+100000+19820 -> 4640250 | S12: =SUM(M12:R12) -> 10384280
A13: 7 | B13: 생활지도원4 | C13: =급여산출기초1!D12 -> 현명길 | D13: 14 | E13: =급여산출기초1!F12 -> 2991800 | F13: =급여산출기초1!G12 -> 35401600 | G13: =급여산출기초1!H12 -> 3576780 | H13: 30 | I13: =급여산출기초1!J12 -> 7622350 | J13: =급여산출기초1!K12 -> 840000 | K13: =F13+G13+I13+J13 -> 47440730 | L13: =K13 -> 47440730 | M13: =ROUNDUP(L13*0.04,-1)-200000 -> 1697630 | N13: =ROUNDUP(M13*12.82%,-1) -> 217640 | O13: =ROUNDUP(L13*0.045,-1)-100000 -> 2034840 | P13: =ROUNDUP(L13*0.01,-1) -> 474410 | Q13: =ROUNDDOWN(L13*0.009,-1)+100000 -> 526960 | R13: =ROUNDUP(L13/12,-1)+100000 -> 4053400 | S13: =SUM(M13:R13) -> 9004880
A14: 8 | B14: 생활지도원5 | C14: =급여산출기초1!D13 -> 손소영 | D14: 12 | E14: =급여산출기초1!F13 -> 2872800 | F14: =급여산출기초1!G13 -> 34073600 | G14: =급여산출기초1!H13 -> 3410520 | H14: 30 | I14: =급여산출기초1!J13 -> 7336420 | J14: =급여산출기초1!K13 -> 480000 | K14: =F14+G14+I14+J14 -> 45300540 | L14: =K14 -> 45300540 | M14: =ROUNDUP(L14*0.04,-1)-200000+22510 -> 1634540 | N14: =ROUNDUP(M14*12.82%,-1) -> 209550 | O14: =ROUNDUP(L14*0.045,-1)-100000 -> 1938530 | P14: =ROUNDUP(L14*0.01,-1) -> 453010 | Q14: =ROUNDDOWN(L14*0.009,-1)+100000 -> 507700 | R14: =ROUNDUP(L14/12,-1)+100000 -> 3875050 | S14: =SUM(M14:R14) -> 8618380
A15: 9 | B15: 생활지도원6 | C15: =급여산출기초1!D14 -> 김도윤 | D15: 13 | E15: =급여산출기초1!F14 -> 2931700 | F15: =급여산출기초1!G14 -> 34780400 | G15: =급여산출기초1!H14 -> 3447360 | H15: 30 | I15: =급여산출기초1!J14 -> 7488600 | J15: =급여산출기초1!K14 -> 0 | K15: =F15+G15+I15+J15 -> 45716360 | L15: =K15 -> 45716360 | M15: =ROUNDUP(L15*0.04,-1)-200000 -> 1628660 | N15: =ROUNDUP(M15*12.82%,-1) -> 208800 | O15: =ROUNDUP(L15*0.045,-1)-100000 -> 1957240 | P15: =ROUNDUP(L15*0.01,-1) -> 457170 | Q15: =ROUNDDOWN(L15*0.009,-1)+100000 -> 511440 | R15: =ROUNDUP(L15/12,-1)+100000 -> 3909700 | S15: =SUM(M15:R15) -> 8673010
A16: 10 | B16: 생활지도원8 | C16: =급여산출기초1!D15 -> 김소영 | D16: 7 | E16: =급여산출기초1!F15 -> 2470200 | F16: =급여산출기초1!G15 -> 29602400 | G16: =급여산출기초1!H15 -> 3081480 | H16: 30 | I16: =급여산출기초1!J15 -> 6373720 | J16: =급여산출기초1!K15 -> 1200000 | K16: =F16+G16+I16+J16 -> 40257600 | L16: =K16 -> 40257600 | M16: =ROUNDUP(L16*0.04,-1)-200000 -> 1410310 | N16: =ROUNDUP(M16*12.82%,-1) -> 180810 | O16: =ROUNDUP(L16*0.045,-1)-100000 -> 1711600 | P16: =ROUNDUP(L16*0.01,-1) -> 402580 | Q16: =ROUNDDOWN(L16*0.009,-1)+100000 -> 462310 | R16: =ROUNDUP(L16/12,-1)+100000 -> 3454800 | S16: =SUM(M16:R16) -> 7622410
A17: 11 | B17: 생활지도원9 | C17: =급여산출기초1!D16 -> 김상철 | D17: 7 | E17: =급여산출기초1!F16 -> 2470200 | F17: =급여산출기초1!G16 -> 29242400 | G17: =급여산출기초1!H16 -> 2910900 | H17: 30 | I17: =급여산출기초1!J16 -> 6296210 | J17: 480000 | K17: =F17+G17+I17+J17 -> 38929510 | L17: =K17 -> 38929510 | M17: =ROUNDUP(L17*0.04,-1)-200000 -> 1357190 | N17: =ROUNDUP(M17*12.82%,-1) -> 174000 | O17: =ROUNDUP(L17*0.045,-1)-100000 -> 1651830 | P17: =ROUNDUP(L17*0.01,-1) -> 389300 | Q17: =ROUNDDOWN(L17*0.009,-1)+100000 -> 450360 | R17: =ROUNDUP(L17/12,-1)+100000 -> 3344130 | S17: =SUM(M17:R17) -> 7366810
A18: 12 | B18: 생활지도원10 | C18: =급여산출기초1!D17 -> 정다솔 | D18: 5 | E18: =급여산출기초1!F17 -> 2321900 | F18: =급여산출기초1!G17 -> 27662800 | G18: =급여산출기초1!H17 -> 2821920 | H18: 30 | I18: =급여산출기초1!J17 -> 5956100 | J18: =급여산출기초1!K17 -> 480000 | K18: =F18+G18+I18+J18 -> 36920820 | L18: =K18 -> 36920820 | M18: =ROUNDUP(L18*0.04,-1)-200000 -> 1276840 | N18: =ROUNDUP(M18*12.82%,-1) -> 163700 | O18: =ROUNDUP(L18*0.045,-1)-100000 -> 1561440 | P18: =ROUNDUP(L18*0.01,-1) -> 369210 | Q18: =ROUNDDOWN(L18*0.009,-1)+100000 -> 432280 | R18: =ROUNDUP(L18/12,-1)+100000 -> 3176740 | S18: =SUM(M18:R18) -> 6980210
A19: 13 | B19: 생활지도원11 | C19: =급여산출기초1!D18 -> 정정덕 | D19: 6 | E19: =급여산출기초1!F18 -> 2381300 | F19: =급여산출기초1!G18 -> 28375600 | G19: =급여산출기초1!H18 -> 2750340 | H19: 30 | I19: =급여산출기초1!J18 -> 6109570 | J19: =급여산출기초1!K18 -> 0 | K19: =F19+G19+I19+J19 -> 37235510 | L19: =K19 -> 37235510 | M19: =ROUNDUP(L19*0.04,-1)-200000-77970 -> 1211460 | N19: =ROUNDUP(M19*12.82%,-1) -> 155310 | O19: =ROUNDUP(L19*0.045,-1)-100000 -> 1575600 | P19: =ROUNDUP(L19*0.01,-1) -> 372360 | Q19: =ROUNDDOWN(L19*0.009,-1)+100000 -> 435110 | R19: =ROUNDUP(L19/12,-1)+100000 -> 3202960 | S19: =SUM(M19:R19) -> 6952800
A20: 14 | B20: 조리원 | C20: =급여산출기초1!D19 -> 한민정 | D20: 4 | E20: =급여산출기초1!F19 -> 2160000 | F20: =급여산출기초1!G19 -> 23760000 | G20: =급여산출기초1!H19 -> 2545080 | H20: 30 | I20: =급여산출기초1!J19 -> 5115780 | J20: =급여산출기초1!K19 -> 600000 | K20: =F20+G20+I20+J20 -> 32020860 | L20: =K20 -> 32020860 | M20: =ROUNDUP(L20*0.04,-1)-300000 -> 980840 | N20: =ROUNDUP(M20*12.82%,-1) -> 125750 | O20: =ROUNDUP(L20*0.045,-1)-100000 -> 1340940 | P20: =ROUNDUP(L20*0.01,-1) -> 320210 | Q20: =ROUNDDOWN(L20*0.009,-1)+100000 -> 388180 | R20: =ROUNDUP(L20/12,-1)+100000 -> 2768410 | S20: =SUM(M20:R20) -> 5924330

Sheet 임직원보수일람표1
A1: 2024년 임직원 보수일람표
A2: 성 애 원 | M2: (단위:원)
A3: NO | B3: 직책 | C3: 성명 | D3: 호봉 | E3: 기본급 | F3: 기본급계 | G3: 명절위로비 | H3: 가족수당 | I3: 시간외수당 | J3: 제수당계 | K3: 급여계 | L3: 공제액 | M3: 차감지급액
A4: 계 | E4: =SUM(E5:E18) -> 43592500 | F4: =SUM(F5:F18) -> 515672300 | G4: =SUM(G5:G18) -> 52075620 | H4: =SUM(H5:H18) -> 7600000 | I4: =SUM(I5:I18) -> 83113610 | J4: =SUM(J5:J18) -> 142789230 | K4: =SUM(K5:K18) -> 658461530 | L4: =SUM(L5:L18) -> 67855120 | M4: =SUM(M5:M18) -> 590606410
A5: 1 | B5: 원 장 | C5: 김문정 | D5: =급여산출기초1!E6 -> 27 | E5: =급여산출기초1!F6 -> 5208000 | F5: =급여산출기초1!G6 -> 61956000 | G5: =급여산출기초1!H6 -> 6197520 | H5: =급여산출기초1!K6 -> 480000 | J5: =SUM(G5:I5) -> 6677520 | K5: =F5+J5 -> 68633520 | L5: =사회보험!M7+사회보험!N7+사회보험!O7+사회보험!P7+사회보험!Q7 -> 6325530 | M5: =K5-L5 -> 62307990
A6: 2 | B6: 자립전담요원 | C6: 최연아 | D6: =급여산출기초1!E7 -> 25 | E6: =급여산출기초1!F7 -> 4269800 | F6: =급여산출기초1!G7 -> 50639900 | G6: =급여산출기초1!H7 -> 5189000 | H6: =급여산출기초1!K7 -> 480000 | I6: =급여산출기초1!J7 -> 2907550 | J6: =SUM(G6:I6) -> 8576550 | K6: =F6+J6 -> 59216450 | L6: =사회보험!M8+사회보험!N8+사회보험!O8+사회보험!P8+사회보험!Q8 -> 6366840 | M6: =K6-L6 -> 52849610
A7: 3 | B7: 사무원 | C7: 조유미 | D7: =급여산출기초1!E8 -> 23 | E7: =급여산출기초1!F8 -> 3514800 | F7: =급여산출기초1!G8 -> 41677600 | G7: =급여산출기초1!H8 -> 4189800 | H7: =급여산출기초1!K8 -> 480000 | I7: =급여산출기초1!J8 -> 2392970 | J7: =SUM(G7:I7) -> 7062770 | K7: =F7+J7 -> 48740370 | L7: =사회보험!M9+사회보험!N9+사회보험!O9+사회보험!P9+사회보험!Q9 -> 5093320 | M7: =K7-L7 -> 43647050
A8: 4 | B8: 생활지도원 | C8: 강명수 | D8: =급여산출기초1!E9 -> 22 | E8: =급여산출기초1!F9 -> 3468200 | F8: =급여산출기초1!G9 -> 41118400 | G8: =급여산출기초1!H9 -> 4231300 | H8: =급여산출기초1!K9 -> 1680000 | I8: =급여산출기초1!J9 -> 8853240 | J8: =SUM(G8:I8) -> 14764540 | K8: =F8+J8 -> 55882940 | L8: =사회보험!M10+사회보험!N10+사회보험!O10+사회보험!P10+사회보험!Q10 -> 5913830 | M8: =K8-L8 -> 49969110
A9: 5 | B9: 생활지도원 | C9: 김희련 | D9: =급여산출기초1!E10 -> 15 | E9: =급여산출기초1!F10 -> 3054000 | F9: =급여산출기초1!G10 -> 36148000 | G9: =급여산출기초1!H10 -> 3590160 | H9: =급여산출기초1!K10 -> 400000 | I9: =급여산출기초1!J10 -> 7783060 | J9: =SUM(G9:I9) -> 11773220 | K9: =F9+J9 -> 47921220 | L9: =사회보험!M11+사회보험!N11+사회보험!O11+사회보험!P11+사회보험!Q11 -> 5053930 | M9: =K9-L9 -> 42867290
A10: 6 | B10: 생활지도원 | C10: 김희현 | D10: =급여산출기초1!E11 -> 17 | E10: =급여산출기초1!F11 -> 3477800 | F10: =급여산출기초1!G11 -> 41233600 | G10: =급여산출기초1!H11 -> 4133460 | H10: =급여산출기초1!K11 -> 0 | I10: =급여산출기초1!J11 -> 8878040 | J10: =SUM(G10:I10) -> 13011500 | K10: =F10+J10 -> 54245100 | L10: =사회보험!M12+사회보험!N12+사회보험!O12+사회보험!P12+사회보험!Q12 -> 5744030 | M10: =K10-L10 -> 48501070
A11: 7 | B11: 생활지도원 | C11: 현명길 | D11: =급여산출기초1!E12 -> 14 | E11: =급여산출기초1!F12 -> 2991800 | F11: =급여산출기초1!G12 -> 35401600 | G11: =급여산출기초1!H12 -> 3576780 | H11: =급여산출기초1!K12 -> 840000 | I11: =급여산출기초1!J12 -> 7622350 | J11: =SUM(G11:I11) -> 12039130 | K11: =F11+J11 -> 47440730 | L11: =사회보험!M13+사회보험!N13+사회보험!O13+사회보험!P13+사회보험!Q13 -> 4951480 | M11: =K11-L11 -> 42489250
A12: 8 | B12: 생활지도원 | C12: 손소영 | D12: =급여산출기초1!E13 -> 12 | E12: =급여산출기초1!F13 -> 2872800 | F12: =급여산출기초1!G13 -> 34073600 | G12: =급여산출기초1!H13 -> 3410520 | H12: =급여산출기초1!K13 -> 480000 | I12: =급여산출기초1!J13 -> 7336420 | J12: =SUM(G12:I12) -> 11226940 | K12: =F12+J12 -> 45300540 | L12: =사회보험!M14+사회보험!N14+사회보험!O14+사회보험!P14+사회보험!Q14 -> 4743330 | M12: =K12-L12 -> 40557210
A13: 9 | B13: 생활지도원 | C13: 김도윤 | D13: =급여산출기초1!E14 -> 13 | E13: =급여산출기초1!F14 -> 2931700 | F13: =급여산출기초1!G14 -> 34780400 | G13: =급여산출기초1!H14 -> 3447360 | H13: =급여산출기초1!K14 -> 0 | I13: =급여산출기초1!J14 -> 7488600 | J13: =SUM(G13:I13) -> 10935960 | K13: =F13+J13 -> 45716360 | L13: =사회보험!M15+사회보험!N15+사회보험!O15+사회보험!P15+사회보험!Q15 -> 4763310 | M13: =K13-L13 -> 40953050
A14: 10 | B14: 생활지도원 | C14: 김소영 | D14: =급여산출기초1!E15 -> 7 | E14: =급여산출기초1!F15 -> 2470200 | F14: =급여산출기초1!G15 -> 29602400 | G14: =급여산출기초1!H15 -> 3081480 | H14: =급여산출기초1!K15 -> 1200000 | I14: =급여산출기초1!J15 -> 6373720 | J14: =SUM(G14:I14) -> 10655200 | K14: =F14+J14 -> 40257600 | L14: =사회보험!M16+사회보험!N16+사회보험!O16+사회보험!P16+사회보험!Q16 -> 4167610 | M14: =K14-L14 -> 36089990
A15: 11 | B15: 생활지도원 | C15: 김상철 | D15: =급여산출기초1!E16 -> 7 | E15: =급여산출기초1!F16 -> 2470200 | F15: =급여산출기초1!G16 -> 29242400 | G15: =급여산출기초1!H16 -> 2910900 | H15: =급여산출기초1!K16 -> 480000 | I15: =급여산출기초1!J16 -> 6296210 | J15: =SUM(G15:I15) -> 9687110 | K15: =F15+J15 -> 38929510 | L15: =사회보험!M17+사회보험!N17+사회보험!O17+사회보험!P17+사회보험!Q17 -> 4022680 | M15: =K15-L15 -> 34906830
A16: 12 | B16: 생활지도원 | C16: 정다솔 | D16: =급여산출기초1!E17 -> 5 | E16: =급여산출기초1!F17 -> 2321900 | F16: =급여산출기초1!G17 -> 27662800 | G16: =급여산출기초1!H17 -> 2821920 | H16: =급여산출기초1!K17 -> 480000 | I16: =급여산출기초1!J17 -> 5956100 | J16: =SUM(G16:I16) -> 9258020 | K16: =F16+J16 -> 36920820 | L16: =사회보험!M18+사회보험!N18+사회보험!O18+사회보험!P18+사회보험!Q18 -> 3803470 | M16: =K16-L16 -> 33117350
A17: 13 | B17: 생활지도원 | C17: 정정덕 | D17: =급여산출기초1!E18 -> 6 | E17: =급여산출기초1!F18 -> 2381300 | F17: =급여산출기초1!G18 -> 28375600 | G17: =급여산출기초1!H18 -> 2750340 | H17: =급여산출기초1!K18 -> 0 | I17: =급여산출기초1!J18 -> 6109570 | J17: =SUM(G17:I17) -> 8859910 | K17: =F17+J17 -> 37235510 | L17: =사회보험!M19+사회보험!N19+사회보험!O19+사회보험!P19+사회보험!Q19 -> 3749840 | M17: =K17-L17 -> 33485670
A18: 14 | B18: 조리원 | C18: 한민정 | D18: =급여산출기초1!E19 -> 4 | E18: =급여산출기초1!F19 -> 2160000 | F18: =급여산출기초1!G19 -> 23760000 | G18: =급여산출기초1!H19 -> 2545080 | H18: =급여산출기초1!K19 -> 600000 | I18: =급여산출기초1!J19 -> 5115780 | J18: =SUM(G18:I18) -> 8260860 | K18: =F18+J18 -> 32020860 | L18: =사회보험!M20+사회보험!N20+사회보험!O20+사회보험!P20+사회보험!Q20 -> 3155920 | M18: =K18-L18 -> 28864940

Sheet 생계비
A1: 2024년 성애원(시설) 제2차 추가경정예산 경상보조금 생계비(국시비) 산출내역
A2: 성 애 원 | H2: (단위:원)
A3: 구 분 | C3: 기준액 | D3: 지급회수 | E3: 예상 인원 | F3: 예산액 | G3: 산출내역 | H3: 비 고
A4: 주부식비통합 -피복비 -취사연료 포함 | B4: 주부식비 | C4: 277835 | D4: 월 | E4: 28 | F4: =C4*E4*12-5141670 -> 88210890 | G4: 277,835*28명*12월=93,352,560 장기입원자1년차감액2,570,835*2명 =5,141,670
B5: 피복비 | C5: 53700 | D5: 월 | E5: 28 | F5: =C5*E5*12 -> 18043200 | G5: 53,700*28명*12월=18,043,200원
B6: 취사연료비 | C6: 3360 | D6: 월 | E6: 28 | F6: =C6*E6*12 -> 1128960 | G6: 3,360*28명*12월=1,128,960 =1,128,960
A7: 소계 | C7: =SUM(C4:C6) -> 334895 | D7: 월 | F7: =SUM(F4:F6) -> 107383050
A8: 월동대책비 | C8: 40000 | D8: 연1회 | E8: 25 | F8: =C8*E8*1 -> 1000000 | G8: 40,000원*25명*1회=1,000,000
A9: 특별위로비(설,추석) | C9: 50000 | D9: 연1회 | E9: 28 | F9: =C9*E9 -> 1400000 | G9: 50,000원*28명*1회=1,400,000
A10: 소계 | F10: =SUM(F8:F9) -> 2400000
A11: 합 계 | F11: =F7+F10 -> 109783050
A12: * 2024년도 기초생활보장 지침 중 시설생계급여 등 지원기준

Sheet 운영비
A1: 2024년 성애원(시설) 제2차 추가경정예산 관리운영비 산출내역(국시비)
A2: 성 애 원 | E2: (단위:원)
A3: 구 분 | B3: 지급기준 | C3: 예산액 | D3: 산출내역 | E3: 비 고
A4: 운영비 | B4: 142,560/월 | C4: =28*142560*12 -> 47900160 | D4: 28명*142,560원*12월=47,900,160 | E4: 3세이상 28명
A5: 기본운영비 | B5: 653,000/월 | C5: =653000*12 -> 7836000 | D5: 653,000원*12월=7,836,000
A6: 춘계부식비/월동김장비 | B6: 14,270/년1인당 | C6: =28*14270*1 -> 399560 | D6: 28명*14,270원*년1회=399,560 | E6: 28명
A7: 행사지원비 | B7: 연1회 | C7: =400000+100000+800000+1000000 -> 2300000 | D7: 연 찬 회 : 400,000 사생대회 : 100,000 축구,계주대회 : 800,000 자립체험 : 1,000,000 계 2,300,000
A8: 소 계 | C8: =SUM(C4:C7) -> 58435720
A9: 2024년 성애원(시설) 제2차 추가경정예산 관리운영비 산출내역(시비)
A10: 성 애 원 | E10: (단위:원)
A11: 구 분 | B11: 지급기준 | C11: 예산액 | D11: 산출내역 | E11: 비 고
A12: 아동용돈 | B12: 고 43,000/월1인당 중 30,000/월1인당 초 22,000/월1인당 | C12: 7713550 | D12: 고 11명*43,000원*12월=5,160,000 중 3명*30,000원*12월=1,080,000 초 2명*22,000원*12월= 528,000 학년변경 = 429,550 계 7,713,550 | E12: 고 11명 중 3명 초 2명
A13: 하계수련비 | B13: 30,000/년1인당 | C13: 480000 | D13: 3세이상 16명*30,000*년1회=480,000 | E13: 16명
A14: 교통비 | B14: 1,600/일1인당,240일 | C14: 4544000 | D14: 12명*32,000*12월-64,000=4,544,000 | E14: 12명
A15: 수학여행비 | B15: 85,000/년1인당 | D15: 교육청, 해당 학교에서 지원
A16: 학습보조비 | B16: 고 120,000/년1인당 중 100,000/년1인당 초 80,000/년1인당 | C16: 1780000 | D16: 고 11명*120,000원*년1회=1,320,000 중 3명*100,000원*년1회= 300,000 초 2명 *80,000원*년1회= 160,000 계 1,780,000 | E16: 고 11명 중 3명 초 2명
A17: 환경개선비 | B17: 3,252,000/4년마다 | D17: 4년 마다 환경개선비 지급 | E17: 2023년수령
A18: 안전관리비 | B18: 2,000,000/년1회 | C18: 2000000
A19: 종사자복지포인트 | B19: 100,000/년1회 | C19: =14*100000-16670 -> 1383330 | D19: 14명*100,000-16,670=1,383,330 | E19: 14명
A20: 소 계 | C20: =SUM(C12:C19) -> 17900880
A21: 합 계 | C21: =C8+C20 -> 76336600
