Workbook

Sheet 세입부
A1: 2025년도 성애원(시설) 세입·세출 예산(안)
A3: 세 입 부 | H3: (단위:천원)
A4: 과 목 | D4: 예 산 액 | F4: 비 교 | H4: 산 출 기 초
A5: 관 | B5: 항 | C5: 목 | D5: 2차추경 | E5: 본예산 | F5: 증 | G5: 감
A6: 합 계 | D6: =D7+D12+D16+D20+D23 -> 1263075 | E6: =E7+E12+E16+E20+E23 -> 1337698 | F6: =E6-D6 -> 74623 | H6: 전년도 예산 대비 5.9% 증액
A7: 보조금수입 | D7: =D8 -> 969520 | E7: =E8 -> 1039363 | F7: =E7-D7 -> 69843
B8: 보조금수입 | D8: =D9+D10 -> 969520 | E8: =E9+E10 -> 1039363 | F8: =E8-D8 -> 69843
C9: 국고보조금 | D9: 949439 | E9: 1019165 | F9: =E9-D9 -> 69726 | H9: 생계비 100,818,330 인건비 862,210,990 운영비 47,900,160 기본 운영비 7,836,000 춘계부식비/월동김장비 399,560 계 1,019,165,040
C10: 시도보조금 | D10: 20081 | E10: 20198 | F10: =E10-D10 -> 117 | H10: 아동용돈 7,713,550 하계수련비 480,000 교통비 4,544,000 학습보조비 1,660,000 안전관리비 2,000,000 행사지원비 2,300,000 종사자복지포인트 1,500,000 계 20,197,550
C11: 기타보조금 | F11: =E11-D11 -> 0 | G11: =D11-E11 -> 0
A12: 후원금수입 | D12: =D13 -> 155100 | E12: =E13 -> 155100
B13: 후원금수입 | D13: =D14+D15 -> 155100 | E13: =E14+E15 -> 155100
C14: 지정후원금 | D14: 93510 | E14: 93510 | H14: 개인결연(개인후원,어린이재단,디딤씨앗) 아동연합회 경유 지정후원금 지역사회 지정후원금
C15: 비지정후원금 | D15: 61590 | E15: 61590
A16: 전입금 | D16: =D17 -> 3000 | E16: =E17 -> 3000
B17: 전입금 | D17: =D18+D19 -> 3000 | E17: =E18+E19 -> 3000
C18: 법인전입금 | D18: 0 | E18: 1000 | F18: =E18-D18 -> 1000
C19: 법인전입금 (후원금) | D19: 3000 | E19: 2000 | G19: =D19-E19 -> 1000
A20: 이월금 | D20: =D21 -> 123820 | E20: =E21 -> 123820
B21: 이월금 | D21: =D22 -> 123820 | E21: =E22 -> 123820
C22: 전년도이월금 | D22: 123820 | E22: 123820 | H22: 비지정후원금 120,394,164 지정후원금 2,686,327 온누리상품권 740,020 계 123,820,511원
A23: 잡수입 | D23: =D24 -> 11635 | E23: =E24 -> 16415 | F23: =E23-D23 -> 4780
B24: 잡수입 | D24: =D25+D26+D27 -> 11635 | E24: =E25+E26+E27 -> 16415 | F24: =E24-D24 -> 4780
C25: 기타예금 이자수입 | D25: 5 | E25: 5
C26: 종사자급식비 | D26: 11180 | E26: 15960 | F26: =E26-D26 -> 4780 | H26: 종사자급식비(생활지도원)12,600,000 종사자급식비(사무실/주방) 4명*70,000원*12월=3,360,000 계 15,960,000원
C27: 기타잡수입 | D27: 450 | E27: 450 | H27: 실습생 급식비 3명*30,000*2회=180,000 기간제 급식비 270,000 계 450,000원

Sheet 세출부
A1: 2025년도 성애원(시설) 세입·세출 예산(안)
A3: 세 출 부 | H3: (단위 : 천원)
A4: 과 목 | D4: 예 산 액 | F4: 비 교 | H4: 산 출 기 초
A5: 관 | B5: 항 | C5: 목 | D5: 2차추경 | E5: 본예산 | F5: 증 | G5: 감
A6: 합 계 | D6: =D7+D25+D30+D56+D59 -> 1263075 | E6: =E7+E25+E30+E56+E59 -> 1337698 | F6: =E6-D6 -> 74623 | H6: 전년도 예산 대비 5.9% 증액
A7: 사무비 | D7: =D8+D15+D18 -> 861241 | E7: =E8+E15+E18 -> 940049 | F7: =E7-D7 -> 78808
B8: 인건비 | D8: =SUM(D9:D14) -> 787246 | E8: =SUM(E9:E14) -> 866053 | F8: =E8-D8 -> 78807
C9: 급 여 | D9: 515672 | E9: 564648 | F9: =E9-D9 -> 48976 | H9: 기본급 564,648,000
C10: 제 수 당 | D10: 142790 | E10: 158157 | F10: =E10-D10 -> 15367 | H10: 명절휴가비 56,065,520 시간외수당 92,691,640 가족수당 9,400,000 계 158,157,160
C11: 종사자복지포인트 | D11: 1383 | E11: 1500 | F11: =E11-D11 -> 117 | H11: 복지포인트 15명*100,000
C12: 퇴직금및 퇴직적립금 | D12: 57204 | E12: 60234 | F12: =E12-D12 -> 3030 | H12: 퇴직금및퇴직적립금 60,234,000
C13: 사회보험 부담비용 | D13: 67855 | E13: 79172 | F13: =E13-D13 -> 11317 | H13: 국민건강보험 28,912,300 장기요양보험 3,706,630 국민연금보험 32,526,310 산재보험 6,524,140 고용보험 7,502,620 계 79,172,000
C14: 기타후생경비 | D14: 2342 | E14: 2342 | H14: 명절선물구입 14명*10,000*2회= 280,000 직원워크샵 14명*15,000*1회= 210,000 공로패제작 2명*66,000 = 132,000 생일축하금 14명*30,000 = 420,000 포상선물비 2명*50,000 = 100,000 퇴직연금수수료(전입금) 1,200,000 계 2,342,000
B15: 업무추진비 | D15: =SUM(D16:D17) -> 2845 | E15: =SUM(E16:E17) -> 2845
C16: 기관운영비 | D16: 2815 | E16: 2815 | H16: 후원자 감사패 66,000원*2개= 132,000 후원자 감사선물 500,000원*2회= 1,000,000 기타 기관운영비 1,683,000 계 2,815,000
C17: 회 의 비 | D17: 30 | E17: 30 | H17: 후원자간담회비 30,000원
B18: 운영비 | D18: =SUM(D19:D24) -> 71150 | E18: =SUM(E19:E24) -> 71151 | F18: =E18-D18 -> 1
C19: 여 비 | D19: 1790 | E19: 1790 | H19: 직원교육비 20,000*14명=280,000 직원출장비 100,000* 2명=200,000 시설장 세미나비 910,000 사무국장 세미나비 400,000 계 1,790,000
C20: 수용비및 수수료 | D20: 22639 | E20: 22640 | F20: =E20-D20 -> 1 | H20: 사무용품비 250,000*12월= 3,000,000 인쇄비 200,000* 4월= 800,000 집기구입비 100,000* 6월= 600,000 공고료 50,000*12월= 600,000 수수료 50,000*12월= 600,000 등기료 50,000*12월= 600,000 운송비 50,000*12월= 600,000 통행료 50,000*12월= 600,000 주차료 50,000*12월= 600,000 A/S비 50,000*12월= 600,000 신문대금 30,000*12월= 360,000 사무기기임대료 297,000*12월= 3,564,000 정수기 렌탈료 200,000*12월= 2,400,000 기타 7,715,670 계 22,639,670
C21: 공공요금 | D21: 22600 | E21: 22600 | H21: 전화요금 150,000*12월= 1,800,000 전기요금 768,666*12월= 9,224,000 상하수도요금 500,000*12월= 6,415,660 인터넷및키폰요금 150,000*12월= 1,800,000 TV사용료 50,000*12월= 600,000 우편요금 30,000*12월= 360,000 쓰레기봉투구입 100,000*12월= 1,200,000 납부필증 100,000*12월= 1,200,000 계 22,599,660
C22: 제세공과금 | D22: 9770 | E22: 9770 | H22: 신원보증보험 15,000*2명= 30,000 상해보험(아동+종사자+여행자) 400,000 화재보험 500,000 자동차보험(스타렉스3164) 700,000 자동차보험(스타렉스8394) 700,000 자동차보험(모닝9214) 600,000 자동차보험(스파크6742) 600,000 자동차보험(모닝9782) 600,000 영업배상책임보험 600,000 자동차세 800,000 환경개선부담금 400,000 아동연합회비960,000*4분기 3,840,000 계 9,770,000
C23: 차 량 비 | D23: 12860 | E23: 12860 | H23: 차량유류대 500000*12월= 6,000,000 차량정비유지비 400,000*12월= 3,432,000 차량소모품비 400,000*12월= 3,428,000 계 12,860,000
C24: 기타운영비 | D24: 1491 | E24: 1491 | H24: 기관홍보용 달력제작 2,215*200부=443,000 기관홍보용 선물제작 5,000*150개=600,000 기타 운영경비 448,000 계 1,491,000
A25: 재산조성비 | D25: =SUM(D27:D29) -> 40073 | E25: =SUM(E27:E29) -> 40073
B26: 시설비 | D26: =D27+D28+D29 -> 40073 | E26: =E27+E28+E29 -> 40073
C27: 시설비 | D27: 15625 | E27: 15625 | H27: 시설비 (건물유지보수)
C28: 자산취득비 | D28: 12415 | E28: 12415 | H28: 각종비품구입
C29: 시설장비유지비 | D29: 12033 | E29: 12033 | H29: 건물유지비용 500,000*12월=6,000,000 전기안전관리비 88,000*12월=1,056,000 소방안전관리비 143,000*12월=1,716,000 승강기안전관리비 99,000*12월=1,188,000 장비유지비용 2,072,900 계 12,032,900
A30: 사업비 | D30: =D31+D37+D46 -> 342953 | E30: =E31+E37+E46 -> 338768 | G30: 4185
B31: 운영비 | D31: =SUM(D32:D36) -> 216605 | E31: =SUM(E32:E36) -> 212420 | G31: 4185
C32: 생 계 비 -생계비 -춘계부식/김장비 -월동대책비 -특별위로비 | D32: 108477 | E32: 106335 | G32: 2142 | H32: 아동급식비 300,000*28명*12월= 82,740,250 종사자급식비15명*70,000원*12월= 16,235,000 춘계부식,김장비14,270원*28명*1회= 399,560 월동대책비 40,000*24명*1회= 960,000 후원금 6,000,000 계 106,334,640
C33: 수용기관경비 -수용기관경비 -아동용돈 -하계수련비 | D33: 68003 | E33: 68003 | H33: 아동필요용품 10,715*28명*12월= 3,600,000 아동핸드폰요금 16,071원*28명*12월=5,400,000 아동용돈 16명기준 7,713,550 아동용돈(후원금)80,950*28명*12월=49,034,725 수련활동비 30,000*16명 = 480,000 기타 2,465,000 계 68,003,275
C34: 피 복 비 | D34: 20064 | E34: 18130 | G34: 1934 | H34: 피복비 31,895*28명*12월 = 16,110,080 후원금 29,223*30명*12월 = 2,020,280 계 18,130,360
C35: 의 료 비 | D35: 8000 | E35: 8000 | H35: 진료비 및 약제비 50,000*12월=2,218,000 약품구입 25,000*12월= 300,000 안경수선및제작비 50,000*4명*12월=1,082,000 치아교정비 4,400,000 계 8,000,000
C36: 연 료 비 | D36: 12061 | E36: 11952 | G36: 109 | H36: 취사연료비 3,000*28명*12월= 1,008,000 종사자급식비 1,000*14명*12월= 180,000 심야전기 1,344,160*12월= 10,764,121 계 11,952,121
B37: 교육비 | D37: =SUM(D38:D45) -> 33495 | E37: =SUM(E38:E45) -> 33495
C38: 학용품비 | D38: 1008 | E38: 1008 | H38: 학용품구입 3,000*28명*12월= 1,008,000
C39: 도서구입비 | D39: 1850 | E39: 1850 | H39: 중등학생부교재비 25명*50,000*년1회 1,250,000 초등부교재비 4명*50,000*년1회 200,000 기타도서구입비 100,000*4분기= 400,000 계 1,850,000
C40: 교 통 비 | D40: 10224 | E40: 10224 | H40: 중,고등학생 1,600*240일 4,544,000 아동교통비 5,680,000 계 10,224,000
C41: 학습지원비 | D41: 9200 | E41: 9200 | H41: 학습보조비 고10명*120,000*년1회 1,200,000 중3명*100,000*년1회 300,000 초2명*80,000*년1회 160,000 학원비 7,540,000 계 9,200,000
...

Sheet 급여산출기초1
A1: 2025년 종사자 인건비 산출내역
A2: 성애원 | K2: (단위:원)
A3: NO | B3: 직책 | C3: 성명 | D3: 호봉 | E3: 기본급 | G3: 명절휴가비 | H3: 시간외수당 | J3: 가족수당 | K3: 합계
H4: 시간 | I4: 지원금
E5: =SUM(E6:E20) -> 47054000 | F5: =SUM(F6:F20) -> 564648000 | G5: =SUM(G6:G20) -> 56065520 | H5: =SUM(H6:H20) -> 376 | I5: =SUM(I6:I20) -> 92691640 | J5: =SUM(J6:J20) -> 9400000 | K5: =SUM(K6:K20) -> 722805160
A6: 1 | B6: 원 장 | C6: 김문정 | D6: 28 | E6: 5310000 | F6: =E6*12 -> 63720000 | G6: 6197520 | J6: =40000*12 -> 480000 | K6: =F6+G6+I6+J6 -> 70397520
A7: 2 | B7: 자립전담요원 | C7: 최연아 | D7: 26 | E7: 4390000 | F7: =E7*12 -> 52680000 | G7: =5096160+100000-7160 -> 5189000 | H7: 8 | I7: =ROUNDDOWN(F7*1/209*1.5*H7,-1) -> 3024680 | J7: =40000*12 -> 480000 | K7: =F7+G7+I7+J7 -> 61373680
A8: 3 | B8: 사무원 | C8: 조유미 | D8: 24 | E8: 3613000 | F8: =E8*12 -> 43356000 | G8: 4189800 | H8: 8 | I8: =ROUNDDOWN(F8*1/209*1.5*H8,-1) -> 2489330 | J8: =40000*12 -> 480000 | K8: =F8+G8+I8+J8 -> 50515130
A9: 4 | B9: 생활지도원 | C9: 강명수 | D9: 23 | E9: 3566000 | F9: =E9*12 -> 42792000 | G9: =E9*0.6*2 -> 4279200 | H9: 30 | I9: =ROUNDDOWN(F9*1/209*1.5*H9,-1) -> 9213580 | J9: =140000*12 -> 1680000 | K9: =F9+G9+I9+J9 -> 57964780
A10: 5 | B10: 생활지도원 | C10: 김희련 | D10: 16 | E10: 3076000 | F10: =E10*12 -> 36912000 | G10: =E10*0.6*2 -> 3691200 | H10: 30 | I10: =ROUNDDOWN(F10*1/209*1.5*H10,-1) -> 7947550 | J10: 400000 | K10: =F10+G10+I10+J10 -> 48950750
A11: 6 | B11: 생활지도원 | C11: 김희현 | D11: 18 | E11: 3507000 | F11: =E11*12 -> 42084000 | G11: =E11*0.6*2 -> 4208400 | H11: 30 | I11: =ROUNDDOWN(F11*1/209*1.5*H11,-1) -> 9061140 | J11: 0 | K11: =F11+G11+I11+J11 -> 55353540
A12: 7 | B12: 생활지도원 | C12: 현명길 | D12: 15 | E12: 3014000 | F12: =E12*12 -> 36168000 | G12: =E12*0.6*2 -> 3616800 | H12: 30 | I12: =ROUNDDOWN(F12*1/209*1.5*H12,-1) -> 7787360 | J12: =70000*12 -> 840000 | K12: =F12+G12+I12+J12 -> 48412160
A13: 8 | B13: 생활지도원 | C13: 손소영 | D13: 13 | E13: 2953000 | F13: =E13*12 -> 35436000 | G13: =E13*0.6*2 -> 3543600 | H13: 30 | I13: =ROUNDDOWN(F13*1/209*1.5*H13,-1) -> 7629760 | J13: =40000*12 -> 480000 | K13: =F13+G13+I13+J13 -> 47089360
A14: 9 | B14: 생활지도원 | C14: 김도윤 | D14: =사회보험!D15 -> 13 | E14: 2953000 | F14: =E14*12 -> 35436000 | G14: =E14*0.6*2 -> 3543600 | H14: 30 | I14: =ROUNDDOWN(F14*1/209*1.5*H14,-1) -> 7629760 | J14: 0 | K14: =F14+G14+I14+J14 -> 46609360
A15: 10 | B15: 생활지도원 | C15: 이지환 | D15: 7 | E15: 2539000 | F15: =E15*12 -> 30468000 | G15: =E15*0.6*2 -> 3046800 | H15: 30 | I15: =ROUNDDOWN(F15*1/209*1.5*H15,-1) -> 6560090 | J15: =140000*12 -> 1680000 | K15: =F15+G15+I15+J15 -> 41754890
A16: 11 | B16: 생활지도원 | C16: 김소영 | D16: 8 | E16: 2640000 | F16: =E16*12 -> 31680000 | G16: =E16*0.6*2 -> 3168000 | H16: 30 | I16: =ROUNDDOWN(F16*1/209*1.5*H16,-1) -> 6821050 | J16: =100000*12 -> 1200000 | K16: =F16+G16+I16+J16 -> 42869050
A17: 12 | B17: 생활지도원 | C17: 김상철 | D17: 7 | E17: 2539000 | F17: =E17*12 -> 30468000 | G17: =E17*0.6*2 -> 3046800 | H17: 30 | I17: =ROUNDDOWN(F17*1/209*1.5*H17,-1) -> 6560090 | J17: =40000*12 -> 480000 | K17: =F17+G17+I17+J17 -> 40554890
A18: 13 | B18: 생활지도원 | C18: 정다솔 | D18: 6 | E18: 2387000 | F18: =E18*12 -> 28644000 | G18: =E18*0.6*2 -> 2864400 | H18: 30 | I18: =ROUNDDOWN(F18*1/209*1.5*H18,-1) -> 6167360 | J18: =40000*12 -> 480000 | K18: =F18+G18+I18+J18 -> 38155760
A19: 14 | B19: 생활지도원 | C19: 정정덕 | D19: =사회보험!D20 -> 6 | E19: 2387000 | F19: =E19*12 -> 28644000 | G19: =E19*0.6*2 -> 2864400 | H19: 30 | I19: =ROUNDDOWN(F19*1/209*1.5*H19,-1) -> 6167360 | J19: 0 | K19: =F19+G19+I19+J19 -> 37675760
A20: 15 | B20: 조리원 | C20: 한민정 | D20: 4 | E20: 2180000 | F20: =E20*12 -> 26160000 | G20: =E20*0.6*2 -> 2616000 | H20: 30 | I20: =ROUNDDOWN(F20*1/209*1.5*H20,-1) -> 5632530 | J20: =60000*12 -> 720000 | K20: =F20+G20+I20+J20 -> 35128530

Sheet 사회보험
A1: 2025년 종사자 사회보험 산출내역
A2: 성애원 | S2: (단위:원)
A3: NO | B3: 직책 | C3: 성명 | D3: 호봉 | E3: 기본급 | G3: 명절휴가비 | H3: 시간외수당 | J3: 가족수당 | K3: 총급여 | L3: 표준보수액 | M3: 사 용 자 부 담
H4: 시간 | I4: 지원금
E5: 월 | F5: 년 | M5: 건강보험 (3.545%) | N5: 장기 요양보험 (10.25%) | O5: 국민연금 (4.5%) | P5: 산재보험 (0.9%) | Q5: 고용보험 (1.15%) | R5: 퇴직적립금 (A/12) | S5: 합계
A6: 계 | E6: =SUM(E7:E21) -> 47054000 | F6: =SUM(F7:F21) -> 564648000 | G6: =SUM(G7:G21) -> 56065520 | H6: =SUM(H7:H21) -> 376 | I6: =SUM(I7:I21) -> 92691640 | J6: =SUM(J7:J21) -> 9400000 | K6: =SUM(K7:K21) -> 722805160 | L6: =SUM(L7:L21) -> 722805160 | ... S6: =SUM(S7:S21) -> 139405830
A7: 1 | B7: 원 장 | C7: =급여산출기초1!C6 -> 김문정 | D7: 27 | E7: =급여산출기초1!E6 -> 5310000 | F7: =급여산출기초1!F6 -> 63720000 | G7: =급여산출기초1!G6 -> 6197520 | J7: =급여산출기초1!J6 -> 480000 | K7: =F7+G7+I7+J7 -> 70397520 | L7: =K7 -> 70397520 | M7: =ROUNDUP(L7*0.04,-1) -> 2815910 | N7: =ROUNDUP(M7*12.82%,-1) -> 361000 | O7: =ROUNDUP(L7*0.045,-1) -> 3167890 | R7: =ROUNDUP(L7/12,-1) -> 5866460 | S7: =SUM(M7:R7) -> 12211260
A8: 2 | B8: 자립전담요원 | C8: =급여산출기초1!C7 -> 최연아 | D8: 25 | E8: =급여산출기초1!E7 -> 4390000 | F8: =급여산출기초1!F7 -> 52680000 | G8: =급여산출기초1!G7 -> 5189000 | H8: 8 | I8: =급여산출기초1!I7 -> 3024680 | J8: =급여산출기초1!J7 -> 480000 | K8: =F8+G8+I8+J8 -> 61373680 | L8: =K8 -> 61373680 | M8: =ROUNDUP(L8*0.04,-1) -> 2454950 | N8: =ROUNDUP(M8*12.82%,-1) -> 314730 | O8: =ROUNDUP(L8*0.045,-1) -> 2761820 | P8: =ROUNDUP(L8*0.01,-1) -> 613740 | Q8: =ROUNDDOWN(L8*0.0115,-1) -> 705790 | R8: =ROUNDUP(L8/12,-1) -> 5114480 | S8: =SUM(M8:R8) -> 11965510
A9: 3 | B9: 사무원 | C9: =급여산출기초1!C8 -> 조유미 | D9: 23 | E9: =급여산출기초1!E8 -> 3613000 | F9: =급여산출기초1!F8 -> 43356000 | G9: =급여산출기초1!G8 -> 4189800 | H9: 8 | I9: =급여산출기초1!I8 -> 2489330 | J9: =급여산출기초1!J8 -> 480000 | K9: =F9+G9+I9+J9 -> 50515130 | L9: =K9 -> 50515130 | M9: =ROUNDUP(L9*0.04,-1) -> 2020610 | N9: =ROUNDUP(M9*12.82%,-1) -> 259050 | O9: =ROUNDUP(L9*0.045,-1) -> 2273190 | P9: =ROUNDUP(L9*0.01,-1) -> 505160 | Q9: =ROUNDDOWN(L9*0.0115,-1) -> 580920 | R9: =ROUNDUP(L9/12,-1) -> 4209600 | S9: =SUM(M9:R9) -> 9848530
A10: 4 | B10: 생활지도원1 | C10: =급여산출기초1!C9 -> 강명수 | D10: 22 | E10: =급여산출기초1!E9 -> 3566000 | F10: =급여산출기초1!F9 -> 42792000 | G10: =급여산출기초1!G9 -> 4279200 | H10: 30 | I10: =급여산출기초1!I9 -> 9213580 | J10: =급여산출기초1!J9 -> 1680000 | K10: =F10+G10+I10+J10 -> 57964780 | L10: =K10 -> 57964780 | M10: =ROUNDUP(L10*0.04,-1) -> 2318600 | N10: =ROUNDUP(M10*12.82%,-1) -> 297250 | O10: =ROUNDUP(L10*0.045,-1) -> 2608420 | P10: =ROUNDUP(L10*0.01,-1) -> 579650 | Q10: =ROUNDDOWN(L10*0.0115,-1) -> 666590 | R10: =ROUNDUP(L10/12,-1) -> 4830400 | S10: =SUM(M10:R10) -> 11300910
A11: 5 | B11: 생활지도원2 | C11: =급여산출기초1!C10 -> 김희련 | D11: 15 | E11: =급여산출기초1!E10 -> 3076000 | F11: =급여산출기초1!F10 -> 36912000 | G11: =급여산출기초1!G10 -> 3691200 | H11: 30 | I11: =급여산출기초1!I10 -> 7947550 | J11: =급여산출기초1!J10 -> 400000 | K11: =F11+G11+I11+J11 -> 48950750 | L11: =K11 -> 48950750 | M11: =ROUNDUP(L11*0.04,-1) -> 1958030 | N11: =ROUNDUP(M11*12.82%,-1) -> 251020 | O11: =ROUNDUP(L11*0.045,-1) -> 2202790 | P11: =ROUNDUP(L11*0.01,-1) -> 489510 | Q11: =ROUNDDOWN(L11*0.0115,-1) -> 562930 | R11: =ROUNDUP(L11/12,-1) -> 4079230 | S11: =SUM(M11:R11) -> 9543510
A12: 6 | B12: 생활지도원3 | C12: =급여산출기초1!C11 -> 김희현 | D12: 17 | E12: =급여산출기초1!E11 -> 3507000 | F12: =급여산출기초1!F11 -> 42084000 | G12: =급여산출기초1!G11 -> 4208400 | H12: 30 | I12: =급여산출기초1!I11 -> 9061140 | J12: =급여산출기초1!J11 -> 0 | K12: =F12+G12+I12+J12 -> 55353540 | L12: =K12 -> 55353540 | M12: =ROUNDUP(L12*0.04,-1) -> 2214150 | N12: =ROUNDUP(M12*12.82%,-1) -> 283860 | O12: =ROUNDUP(L12*0.045,-1) -> 2490910 | P12: =ROUNDUP(L12*0.01,-1) -> 553540 | Q12: =ROUNDDOWN(L12*0.0115,-1) -> 636560 | R12: =ROUNDUP(L12/12,-1) -> 4612800 | S12: =SUM(M12:R12) -> 10791820
A13: 7 | B13: 생활지도원4 | C13: =급여산출기초1!C12 -> 현명길 | D13: 14 | E13: =급여산출기초1!E12 -> 3014000 | F13: =급여산출기초1!F12 -> 36168000 | G13: =급여산출기초1!G12 -> 3616800 | H13: 30 | I13: =급여산출기초1!I12 -> 7787360 | J13: =급여산출기초1!J12 -> 840000 | K13: =F13+G13+I13+J13 -> 48412160 | L13: =K13 -> 48412160 | M13: =ROUNDUP(L13*0.04,-1) -> 1936490 | N13: =ROUNDUP(M13*12.82%,-1) -> 248260 | O13: =ROUNDUP(L13*0.045,-1) -> 2178550 | P13: =ROUNDUP(L13*0.01,-1) -> 484130 | Q13: =ROUNDDOWN(L13*0.0115,-1) -> 556730 | R13: =ROUNDUP(L13/12,-1) -> 4034350 | S13: =SUM(M13:R13) -> 9438510
A14: 8 | B14: 생활지도원5 | C14: =급여산출기초1!C13 -> 손소영 | D14: 12 | E14: =급여산출기초1!E13 -> 2953000 | F14: =급여산출기초1!F13 -> 35436000 | G14: =급여산출기초1!G13 -> 3543600 | H14: 30 | I14: =급여산출기초1!I13 -> 7629760 | J14: =급여산출기초1!J13 -> 480000 | K14: =F14+G14+I14+J14 -> 47089360 | L14: =K14 -> 47089360 | M14: =ROUNDUP(L14*0.04,-1) -> 1883580 | N14: =ROUNDUP(M14*12.82%,-1) -> 241480 | O14: =ROUNDUP(L14*0.045,-1) -> 2119030 | P14: =ROUNDUP(L14*0.01,-1) -> 470900 | Q14: =ROUNDDOWN(L14*0.0115,-1) -> 541520 | R14: =ROUNDUP(L14/12,-1) -> 3924120 | S14: =SUM(M14:R14) -> 9180630
A15: 9 | B15: 생활지도원6 | C15: =급여산출기초1!C14 -> 김도윤 | D15: 13 | E15: =급여산출기초1!E14 -> 2953000 | F15: =급여산출기초1!F14 -> 35436000 | G15: =급여산출기초1!G14 -> 3543600 | H15: 30 | I15: =급여산출기초1!I14 -> 7629760 | J15: =급여산출기초1!J14 -> 0 | K15: =F15+G15+I15+J15 -> 46609360 | L15: =K15 -> 46609360 | M15: =ROUNDUP(L15*0.04,-1) -> 1864380 | N15: =ROUNDUP(M15*12.82%,-1) -> 239020 | O15: =ROUNDUP(L15*0.045,-1) -> 2097430 | P15: =ROUNDUP(L15*0.01,-1) -> 466100 | Q15: =ROUNDDOWN(L15*0.0115,-1) -> 536000 | R15: =ROUNDUP(L15/12,-1) -> 3884120 | S15: =SUM(M15:R15) -> 9087050
A16: 10 | B16: 생활지도원7 | C16: 이지환 | D16: 7 | E16: =급여산출기초1!E15 -> 2539000 | F16: =급여산출기초1!F15 -> 30468000 | G16: =급여산출기초1!G15 -> 3046800 | H16: 30 | I16: =급여산출기초1!I15 -> 6560090 | J16: =급여산출기초1!J15 -> 1680000 | K16: =F16+G16+I16+J16 -> 41754890 | L16: =K16 -> 41754890 | M16: =ROUNDUP(L16*0.04,-1) -> 1670200 | N16: =ROUNDUP(M16*12.82%,-1) -> 214120 | O16: =ROUNDUP(L16*0.045,-1) -> 1878980 | P16: =ROUNDUP(L16*0.01,-1) -> 417550 | Q16: =ROUNDDOWN(L16*0.0115,-1) -> 480180 | R16: =ROUNDUP(L16/12,-1) -> 3479580 | S16: =SUM(M16:R16) -> 8140610
A17: 11 | B17: 생활지도원8 | C17: =급여산출기초1!C16 -> 김소영 | D17: 8 | E17: =급여산출기초1!E16 -> 2640000 | F17: =급여산출기초1!F16 -> 31680000 | G17: =급여산출기초1!G16 -> 3168000 | H17: 30 | I17: =급여산출기초1!I16 -> 6821050 | J17: =급여산출기초1!J16 -> 1200000 | K17: =F17+G17+I17+J17 -> 42869050 | L17: =K17 -> 42869050 | M17: =ROUNDUP(L17*0.04,-1) -> 1714770 | N17: =ROUNDUP(M17*12.82%,-1) -> 219840 | O17: =ROUNDUP(L17*0.045,-1) -> 1929110 | P17: =ROUNDUP(L17*0.01,-1) -> 428700 | Q17: =ROUNDDOWN(L17*0.0115,-1) -> 492990 | R17: =ROUNDUP(L17/12,-1) -> 3572430 | S17: =SUM(M17:R17) -> 8357840
A18: 12 | B18: 생활지도원9 | C18: =급여산출기초1!C17 -> 김상철 | D18: 7 | E18: =급여산출기초1!E17 -> 2539000 | F18: =급여산출기초1!F17 -> 30468000 | G18: =급여산출기초1!G17 -> 3046800 | H18: 30 | I18: =급여산출기초1!I17 -> 6560090 | J18: =급여산출기초1!J17 -> 480000 | K18: =F18+G18+I18+J18 -> 40554890 | L18: =K18 -> 40554890 | M18: =ROUNDUP(L18*0.04,-1) -> 1622200 | N18: =ROUNDUP(M18*12.82%,-1) -> 207970 | O18: =ROUNDUP(L18*0.045,-1) -> 1824980 | P18: =ROUNDUP(L18*0.01,-1) -> 405550 | Q18: =ROUNDDOWN(L18*0.0115,-1) -> 466380 | R18: =ROUNDUP(L18/12,-1) -> 3379580 | S18: =SUM(M18:R18) -> 7906660
A19: 13 | B19: 생활지도원10 | C19: =급여산출기초1!C18 -> 정다솔 | D19: 6 | E19: =급여산출기초1!E18 -> 2387000 | F19: =급여산출기초1!F18 -> 28644000 | G19: =급여산출기초1!G18 -> 2864400 | H19: 30 | I19: =급여산출기초1!I18 -> 6167360 | J19: =급여산출기초1!J18 -> 480000 | K19: =F19+G19+I19+J19 -> 38155760 | L19: =K19 -> 38155760 | M19: =ROUNDUP(L19*0.04,-1) -> 1526240 | N19: =ROUNDUP(M19*12.82%,-1) -> 195670 | O19: =ROUNDUP(L19*0.045,-1) -> 1717010 | P19: =ROUNDUP(L19*0.01,-1) -> 381560 | Q19: =ROUNDDOWN(L19*0.0115,-1) -> 438790 | R19: =ROUNDUP(L19/12,-1) -> 3179650 | S19: =SUM(M19:R19) -> 7438920
A20: 14 | B20: 생활지도원11 | C20: =급여산출기초1!C19 -> 정정덕 | D20: 6 | E20: =급여산출기초1!E19 -> 2387000 | F20: =급여산출기초1!F19 -> 28644000 | G20: =급여산출기초1!G19 -> 2864400 | H20: 30 | I20: =급여산출기초1!I19 -> 6167360 | J20: =급여산출기초1!J19 -> 0 | K20: =F20+G20+I20+J20 -> 37675760 | L20: =K20 -> 37675760 | M20: =ROUNDUP(L20*0.04,-1) -> 1507040 | N20: =ROUNDUP(M20*12.82%,-1) -> 193210 | O20: =ROUNDUP(L20*0.045,-1) -> 1695410 | P20: =ROUNDUP(L20*0.01,-1) -> 376760 | Q20: =ROUNDDOWN(L20*0.0115,-1) -> 433270 | R20: =ROUNDUP(L20/12,-1) -> 3139650 | S20: =SUM(M20:R20) -> 7345340
A21: 15 | B21: 조리원 | C21: =급여산출기초1!C20 -> 한민정 | D21: 4 | E21: =급여산출기초1!E20 -> 2180000 | F21: =급여산출기초1!F20 -> 26160000 | G21: =급여산출기초1!G20 -> 2616000 | H21: 30 | I21: =급여산출기초1!I20 -> 5632530 | J21: =급여산출기초1!J20 -> 720000 | K21: =F21+G21+I21+J21 -> 35128530 | L21: =K21 -> 35128530 | M21: =ROUNDUP(L21*0.04,-1) -> 1405150 | N21: =ROUNDUP(M21*12.82%,-1) -> 180150 | O21: =ROUNDUP(L21*0.045,-1) -> 1580790 | P21: =ROUNDUP(L21*0.01,-1) -> 351290 | Q21: =ROUNDDOWN(L21*0.0115,-1) -> 403970 | R21: =ROUNDUP(L21/12,-1) -> 2927380 | S21: =SUM(M21:R21) -> 6848730

Sheet 임직원보수일람표1
A1: 2025년 임직원 보수일람표
A2: 성 애 원 | M2: (단위:원)
A3: NO | B3: 직책 | C3: 성명 | D3: 호봉 | E3: 기본급 | F3: 기본급계 | G3: 명절위로비 | H3: 가족수당 | I3: 시간외수당 | J3: 제수당계 | K3: 급여계 | L3: 공제액 | M3: 차감지급액
A4: 계 | E4: =SUM(E5:E19) -> 47054000 | F4: =SUM(F5:F19) -> 564648000 | G4: =SUM(G5:G19) -> 56065520 | H4: =SUM(H5:H19) -> 9400000 | I4: =SUM(I5:I19) -> 92691640 | J4: =SUM(J5:J19) -> 158157160 | K4: =SUM(K5:K19) -> 722805160 | L4: =SUM(L5:L19) -> 79172000 | M4: =SUM(M5:M19) -> 643633160
A5: 1 | B5: 원 장 | C5: 김문정 | D5: =급여산출기초1!D6 -> 28 | E5: =급여산출기초1!E6 -> 5310000 | F5: =급여산출기초1!F6 -> 63720000 | G5: =급여산출기초1!G6 -> 6197520 | H5: =급여산출기초1!J6 -> 480000 | I5: =급여산출기초1!I6 -> 0 | J5: =SUM(G5:I5) -> 6677520 | K5: =F5+J5 -> 70397520 | L5: =사회보험!M7+사회보험!N7+사회보험!O7+사회보험!P7+사회보험!Q7 -> 6344800 | M5: =K5-L5 -> 64052720
A6: 2 | B6: 자립전담요원 | C6: 최연아 | D6: =급여산출기초1!D7 -> 26 | E6: =급여산출기초1!E7 -> 4390000 | F6: =급여산출기초1!F7 -> 52680000 | G6: =급여산출기초1!G7 -> 5189000 | H6: =급여산출기초1!J7 -> 480000 | I6: =급여산출기초1!I7 -> 3024680 | J6: =SUM(G6:I6) -> 8693680 | K6: =F6+J6 -> 61373680 | L6: =사회보험!M8+사회보험!N8+사회보험!O8+사회보험!P8+사회보험!Q8 -> 6851030 | M6: =K6-L6 -> 54522650
A7: 3 | B7: 사무원 | C7: 조유미 | D7: =급여산출기초1!D8 -> 24 | E7: =급여산출기초1!E8 -> 3613000 | F7: =급여산출기초1!F8 -> 43356000 | G7: =급여산출기초1!G8 -> 4189800 | H7: =급여산출기초1!J8 -> 480000 | I7: =급여산출기초1!I8 -> 2489330 | J7: =SUM(G7:I7) -> 7159130 | K7: =F7+J7 -> 50515130 | L7: =사회보험!M9+사회보험!N9+사회보험!O9+사회보험!P9+사회보험!Q9 -> 5638930 | M7: =K7-L7 -> 44876200
A8: 4 | B8: 생활지도원 | C8: 강명수 | D8: =급여산출기초1!D9 -> 23 | E8: =급여산출기초1!E9 -> 3566000 | F8: =급여산출기초1!F9 -> 42792000 | G8: =급여산출기초1!G9 -> 4279200 | H8: =급여산출기초1!J9 -> 1680000 | I8: =급여산출기초1!I9 -> 9213580 | J8: =SUM(G8:I8) -> 15172780 | K8: =F8+J8 -> 57964780 | L8: =사회보험!M10+사회보험!N10+사회보험!O10+사회보험!P10+사회보험!Q10 -> 6470510 | M8: =K8-L8 -> 51494270
A9: 5 | B9: 생활지도원 | C9: 김희련 | D9: =급여산출기초1!D10 -> 16 | E9: =급여산출기초1!E10 -> 3076000 | F9: =급여산출기초1!F10 -> 36912000 | G9: =급여산출기초1!G10 -> 3691200 | H9: =급여산출기초1!J10 -> 400000 | I9: =급여산출기초1!I10 -> 7947550 | J9: =SUM(G9:I9) -> 12038750 | K9: =F9+J9 -> 48950750 | L9: =사회보험!M11+사회보험!N11+사회보험!O11+사회보험!P11+사회보험!Q11 -> 5464280 | M9: =K9-L9 -> 43486470
A10: 6 | B10: 생활지도원 | C10: 김희현 | D10: =급여산출기초1!D11 -> 18 | E10: =급여산출기초1!E11 -> 3507000 | F10: =급여산출기초1!F11 -> 42084000 | G10: =급여산출기초1!G11 -> 4208400 | H10: =급여산출기초1!J11 -> 0 | I10: =급여산출기초1!I11 -> 9061140 | J10: =SUM(G10:I10) -> 13269540 | K10: =F10+J10 -> 55353540 | L10: =사회보험!M12+사회보험!N12+사회보험!O12+사회보험!P12+사회보험!Q12 -> 6179020 | M10: =K10-L10 -> 49174520
A11: 7 | B11: 생활지도원 | C11: 현명길 | D11: =급여산출기초1!D12 -> 15 | E11: =급여산출기초1!E12 -> 3014000 | F11: =급여산출기초1!F12 -> 36168000 | G11: =급여산출기초1!G12 -> 3616800 | H11: =급여산출기초1!J12 -> 840000 | I11: =급여산출기초1!I12 -> 7787360 | J11: =SUM(G11:I11) -> 12244160 | K11: =F11+J11 -> 48412160 | L11: =사회보험!M13+사회보험!N13+사회보험!O13+사회보험!P13+사회보험!Q13 -> 5404160 | M11: =K11-L11 -> 43008000
A12: 8 | B12: 생활지도원 | C12: 손소영 | D12: =급여산출기초1!D13 -> 13 | E12: =급여산출기초1!E13 -> 2953000 | F12: =급여산출기초1!F13 -> 35436000 | G12: =급여산출기초1!G13 -> 3543600 | H12: =급여산출기초1!J13 -> 480000 | I12: =급여산출기초1!I13 -> 7629760 | J12: =SUM(G12:I12) -> 11653360 | K12: =F12+J12 -> 47089360 | L12: =사회보험!M14+사회보험!N14+사회보험!O14+사회보험!P14+사회보험!Q14 -> 5256510 | M12: =K12-L12 -> 41832850
A13: 9 | B13: 생활지도원 | C13: 김도윤 | D13: =급여산출기초1!D14 -> 13 | E13: =급여산출기초1!E14 -> 2953000 | F13: =급여산출기초1!F14 -> 35436000 | G13: =급여산출기초1!G14 -> 3543600 | H13: =급여산출기초1!J14 -> 0 | I13: =급여산출기초1!I14 -> 7629760 | J13: =SUM(G13:I13) -> 11173360 | K13: =F13+J13 -> 46609360 | L13: =사회보험!M15+사회보험!N15+사회보험!O15+사회보험!P15+사회보험!Q15 -> 5202930 | M13: =K13-L13 -> 41406430
A14: 10 | B14: 생활지도원 | C14: 이지환 | D14: 7 | E14: =급여산출기초1!E15 -> 2539000 | F14: =급여산출기초1!F15 -> 30468000 | G14: =급여산출기초1!G15 -> 3046800 | H14: =급여산출기초1!J15 -> 1680000 | I14: =급여산출기초1!I15 -> 6560090 | J14: =SUM(G14:I14) -> 11286890 | K14: =F14+J14 -> 41754890 | L14: =사회보험!M16+사회보험!N16+사회보험!O16+사회보험!P16+사회보험!Q16 -> 4661030 | M14: =K14-L14 -> 37093860
A15: 11 | B15: 생활지도원 | C15: 김소영 | D15: =급여산출기초1!D16 -> 8 | E15: =급여산출기초1!E16 -> 2640000 | F15: =급여산출기초1!F16 -> 31680000 | G15: =급여산출기초1!G16 -> 3168000 | H15: =급여산출기초1!J16 -> 1200000 | I15: =급여산출기초1!I16 -> 6821050 | J15: =SUM(G15:I15) -> 11189050 | K15: =F15+J15 -> 42869050 | L15: =사회보험!M17+사회보험!N17+사회보험!O17+사회보험!P17+사회보험!Q17 -> 4785410 | M15: =K15-L15 -> 38083640
A16: 12 | B16: 생활지도원 | C16: 김상철 | D16: =급여산출기초1!D17 -> 7 | E16: =급여산출기초1!E17 -> 2539000 | F16: =급여산출기초1!F17 -> 30468000 | G16: =급여산출기초1!G17 -> 3046800 | H16: =급여산출기초1!J17 -> 480000 | I16: =급여산출기초1!I17 -> 6560090 | J16: =SUM(G16:I16) -> 10086890 | K16: =F16+J16 -> 40554890 | L16: =사회보험!M18+사회보험!N18+사회보험!O18+사회보험!P18+사회보험!Q18 -> 4527080 | M16: =K16-L16 -> 36027810
A17: 13 | B17: 생활지도원 | C17: 정다솔 | D17: =급여산출기초1!D18 -> 6 | E17: =급여산출기초1!E18 -> 2387000 | F17: =급여산출기초1!F18 -> 28644000 | G17: =급여산출기초1!G18 -> 2864400 | H17: =급여산출기초1!J18 -> 480000 | I17: =급여산출기초1!I18 -> 6167360 | J17: =SUM(G17:I17) -> 9511760 | K17: =F17+J17 -> 38155760 | L17: =사회보험!M19+사회보험!N19+사회보험!O19+사회보험!P19+사회보험!Q19 -> 4259270 | M17: =K17-L17 -> 33896490
A18: 14 | B18: 생활지도원 | C18: 정정덕 | D18: =급여산출기초1!D19 -> 6 | E18: =급여산출기초1!E19 -> 2387000 | F18: =급여산출기초1!F19 -> 28644000 | G18: =급여산출기초1!G19 -> 2864400 | H18: =급여산출기초1!J19 -> 0 | I18: =급여산출기초1!I19 -> 6167360 | J18: =SUM(G18:I18) -> 9031760 | K18: =F18+J18 -> 37675760 | L18: =사회보험!M20+사회보험!N20+사회보험!O20+사회보험!P20+사회보험!Q20 -> 4205690 | M18: =K18-L18 -> 33470070
A19: 15 | B19: 조리원 | C19: 한민정 | D19: =급여산출기초1!D20 -> 4 | E19: =급여산출기초1!E20 -> 2180000 | F19: =급여산출기초1!F20 -> 26160000 | G19: =급여산출기초1!G20 -> 2616000 | H19: =급여산출기초1!J20 -> 720000 | I19: =급여산출기초1!I20 -> 5632530 | J19: =SUM(G19:I19) -> 8968530 | K19: =F19+J19 -> 35128530 | L19: =사회보험!M21+사회보험!N21+사회보험!O21+사회보험!P21+사회보험!Q21 -> 3921350 | M19: =K19-L19 -> 31207180

Sheet 생계비
A1: 2025년 성애원(시설) 경상보조금 생계비(국시비) 산출내역
A2: 성 애 원 | H2: (단위:원)
A3: 구 분 | C3: 기준액 | D3: 지급회수 | E3: 예상 인원 | F3: 예산액 | G3: 산출내역 | H3: 비 고
A4: 주부식비통합 -피복비 -취사연료 포함 | B4: 주부식비 | C4: 292940 | D4: 월 | E4: 25 | F4: =C4*E4*12-5141750 -> 82740250 | G4: 277,835*25명*12월=83,350,500 장기입원자차감액214,239*2명*12월 =5,141,750
B5: 피복비 | C5: 53700 | D5: 월 | E5: 25 | F5: =C5*E5*12+80 -> 16110080 | G5: 53,700*28명*12월=10,716,720+80 =16,110,080
B6: 취사연료비 | C6: 3360 | D6: 월 | E6: 25 | F6: =C6*E6*12 -> 1008000 | G6: 4,000*25명*12월=1,008,000
A7: 소계 | C7: =SUM(C4:C6) -> 350000 | D7: 월 | F7: =SUM(F4:F6) -> 99858330
A8: 월동대책비 | C8: 40000 | D8: 연1회 | E8: 24 | F8: =C8*E8*1 -> 960000 | G8: 40,000원*24명*1회=960,000
A9: 특별위로비(설,추석) | C9: 50000 | G9: 구청에서 아동계좌로 직접 입금 됨
A10: 소계 | F10: =SUM(F8:F9) -> 960000
A11: 합 계 | F11: =F7+F10 -> 100818330
A12: * 2024년도 기초생활보장 지침 중 시설생계급여 등 지원기준

Sheet 운영비
A1: 2025년 성애원(시설) 경상보조금 관리운영비 산출내역(국시비)
A2: 성 애 원 | E2: (단위:원)
A3: 구 분 | B3: 지급기준 | C3: 예산액 | D3: 산출내역 | E3: 비 고
A4: 운영비 | B4: 142,560/월 | C4: =28*142560*12 -> 47900160 | D4: 28명*142,560원*12월=47,900,160 | E4: 3세이상 28명
A5: 기본운영비 | B5: 653,000/월 | C5: =653000*12 -> 7836000 | D5: 653,000원*12월=7,836,000
A6: 춘계부식비/월동김장비 | B6: 14,270/년1인당 | C6: =28*14270*1 -> 399560 | D6: 28명*14,270원*년1회=399,560 | E6: 28명
A7: 행사지원비 | B7: 연1회 | C7: =400000+100000+800000+1000000 -> 2300000 | D7: 연 찬 회 : 400,000 사생대회 : 100,000 축구,계주대회 : 800,000 자립체험 : 1,000,000 계 2,300,000
A8: 소 계 | C8: =SUM(C4:C7) -> 58435720
A10: 2025년 성애원(시설) 관리운영비 산출내역(시비)
A11: 성 애 원 | E11: (단위:원)
A12: 구 분 | B12: 지급기준 | C12: 예산액 | D12: 산출내역 | E12: 비 고
A13: 아동용돈 | B13: 고 43,000/월1인당 중 30,000/월1인당 초 22,000/월1인당 | C13: 7713550 | D13: 고 10명*43,000원*12월=5,160,000 중 3명*30,000원*12월=1,080,000 초 2명*22,000원*12월= 528,000 고 7명*43,000원 3월 = 945,550 계 7,713,550원 | E13: 고 10명 중 3명 초 2명
A14: 하계수련비 | B14: 30,000/년1인당 | C14: 480000 | D14: 3세이상 16명*30,000원*년1회=480,000 | E14: 16명
A15: 교통비 | B15: 1,600/일1인당,240일 | C15: 4544000 | D15: 12명*32,000*12월-64,000원=4,544,000 | E15: 12명
A16: 수학여행비 | B16: 85,000/년1인당 | D16: 교육청, 해당 학교에서 지원
A17: 학습보조비 | B17: 고 120,000/년1인당 중 100,000/년1인당 초 80,000/년1인당 | C17: 1660000 | D17: 고 10명*120,000원*년1회=1,200,000 중 3명*100,000원*년1회= 300,000 초 2명 *80,000원*년1회= 160,000 계 1,660,000 | E17: 고 10명 중 5명 초 5명
A18: 환경개선비 | B18: 3,252,000/4년마다 | D18: 4년 마다 환경개선비 지급 | E18: 2023년
A19: 안전관리비 | B19: 2,000,000/년1회 | C19: 2000000
A20: 종사자복지포인트 | B20: 100,000/년1회 | C20: =15*100000 -> 1500000 | D20: 15명*100,000원 | E20: 14명
A21: 소 계 | C21: =SUM(C13:C20) -> 17897550
A22: 합 계 | C22: =C8+C21 -> 76333270
