Workbook

Sheet 세입부
A1: 2025년도 성애원(시설) 1차 추경 세입·세출 예산(안)
A3: 세 입 부 | H3: (단위:천원)
A4: 과 목 | D4: 예 산 액 | F4: 비 교 | H4: 산 출 기 초
A5: 관 | B5: 항 | C5: 목 | D5: 본예산 | E5: 1차추경 | F5: 증 | G5: 감
A6: 합 계 | D6: =D7+D12+D16+D20+D23 -> 1337698 | E6: =E7+E12+E16+E20+E23 -> 1386239 | F6: =E6-D6 -> 48541 | H6: 본예산대비 3.63% 증가
A7: 보조금수입 | D7: =D8 -> 1039363 | E7: =E8 -> 1100571
B8: 보조금수입 | D8: =D9+D10 -> 1039363 | E8: =E9+E10 -> 1100571
C9: 국고보조금 | D9: 1019165 | E9: 1068284 | F9: =E9-D9 -> 49119 | H9: 생계비 114,926,928 인건비 891,629,950 운영비 53,088,000 기본 운영비 8,640,000 계 1,068,284,878
C10: 시도보조금 | D10: 20198 | E10: 32287 | F10: =E10-D10 -> 12089 | H10: 아동용돈 15,194,000 하계수련비 270,000 교통비 3,936,000 학습보조비 940,000 안전관리비 2,000,000 춘계/월동김장비 399,560 행사지원비 1,010,000 종사자복지포인트 1,800,000 난방비 600,000 영아위생대 138,000 긴급보호비 6,000,000 계 32,287,560
C11: 기타보조금 | G11: =D11-E11 -> 0
A12: 후원금수입 | D12: =D13 -> 155100 | E12: =E13 -> 155100
B13: 후원금수입 | D13: =D14+D15 -> 155100 | E13: =E14+E15 -> 155100
C14: 지정후원금 | D14: 93510 | E14: 93510 | F14: =E14-D14 -> 0 | H14: 개인결연(개인후원,어린이재단,디딤씨앗) 아동연합회 경유 지정후원금 지역사회 지정후원금
C15: 비지정후원금 | D15: 61590 | E15: 61590 | G15: =D15-E15 -> 0
A16: 전입금 | D16: =D17 -> 3000 | E16: =E17 -> 3000 | G16: =D16-E16 -> 0
B17: 전입금 | D17: =D18+D19 -> 3000 | E17: =E18+E19 -> 3000 | G17: =D17-E17 -> 0
C18: 법인전입금 | D18: 1000 | E18: 1000 | F18: =E18-D18 -> 0
C19: 법인전입금 (후원금) | D19: 2000 | E19: 2000 | G19: =D19-E19 -> 0
A20: 이월금 | D20: =D21 -> 123820 | E20: =E21 -> 112713 | F20: 0
B21: 이월금 | D21: =D22 -> 123820 | E21: =E22 -> 112713 | F21: 0
C22: 전년도이월금 | D22: 123820 | E22: 112713 | G22: =D22-E22 -> 11107 | H22: 비지정후원금 111,675,110 지정후원금 1,038,124 계 112,713,234원
A23: 잡수입 | D23: =D24 -> 16415 | E23: =E24 -> 14855 | G23: =D23-E23 -> 1560
B24: 잡수입 | D24: =D25+D26+D27 -> 16415 | E24: =E25+E26+E27 -> 14855 | G24: =D24-E24 -> 1560
C25: 기타예금 이자수입 | D25: 5 | E25: 5 | G25: =D25-E25 -> 0
C26: 종사자급식비 | D26: 15960 | E26: =80*15*12 -> 14400 | G26: =D26-E26 -> 1560 | H26: 종사자급식비(생활지도원) 11명*80,000원*12월=10,560,000 종사자급식비(사무실/주방) 4명*80,000원*12월=3,840,000 계 14,400,000원
C27: 기타잡수입 | D27: 450 | E27: 450 | G27: =D27-E27 -> 0 | H27: 실습생 급식비 3명*30,000*2회=180,000 기간제 급식비 270,000 계 450,000원

Sheet 세출부
A1: 2025년도 성애원(시설) 1차 추경 세입·세출 예산(안)
A3: 세 출 부 | H3: (단위 : 천원)
A4: 과 목 | D4: 예 산 액 | F4: 비 교 | H4: 산 출 기 초
A5: 관 | B5: 항 | C5: 목 | D5: 본예산 | E5: 1차추경 | F5: 증 | G5: 감
A6: 합 계 | D6: =D7+D25+D30+D56+D59 -> 1337698 | E6: =E7+E25+E30+E56+E59 -> 1386239 | F6: =E6-D6 -> 48541 | H6: 본예산대비 3.63% 증가
A7: 사무비 | D7: =D8+D15+D18 -> 940049 | E7: =E8+E15+E18 -> 970932 | F7: =E7-D7 -> 30883
B8: 인건비 | D8: =SUM(D9:D14) -> 866053 | E8: =SUM(E9:E14) -> 896437 | F8: =E8-D8 -> 30384
C9: 급 여 | D9: 564648 | E9: 583104 | F9: =E9-D9 -> 18456 | H9: 기본급 583,104,000
C10: 제 수 당 | D10: 158157 | E10: 164289 | F10: =E10-D10 -> 6132 | H10: 명절휴가비 58,310,400 시간외수당 96,218,680 가족수당 9,760,000 계 164,289,080
C11: 종사자복지포인트 | D11: 1500 | E11: 1800 | F11: =E11-D11 -> 300 | H11: 복지포인트 15명*120,000원=1,800,000
C12: 퇴직금및 퇴직적립금 | D12: 60234 | E12: 62283 | F12: =E12-D12 -> 2049 | H12: 퇴직금및퇴직적립금 62,282,820
C13: 사회보험 부담비용 | D13: 79172 | E13: 81954 | F13: =E13-D13 -> 2782 | H13: 국민건강보험 29,895,800 장기요양보험 3,832,710 국민연금보험 33,632,750 산재보험 6,756,000 고용보험 7,836,790 계 81,954,050
C14: 기타후생경비 | D14: 2342 | E14: 3007 | F14: =E14-D14 -> 665 | H14: 명절선물구입 15명*10,000*2회= 300,000 직원워크샵 15명*15,000*1회= 225,000 공로패제작 2명*66,000 = 132,000 생일축하금 15명*30,000 = 450,000 포상선물비 2명*50,000 = 100,000 신생아돌봄포상3명*100,000*6회=1,800,000 계 3,007,000
B15: 업무추진비 | D15: =SUM(D16:D17) -> 2845 | E15: =SUM(E16:E17) -> 2845 | G15: =D15-E15 -> 0
C16: 기관운영비 | D16: 2815 | E16: 2815 | G16: =D16-E16 -> 0 | H16: 후원자 감사패 66,000원*2개= 132,000 후원자 감사선물 500,000원*2회= 1,000,000 기타 기관운영비 1,683,000 계 2,815,000
C17: 회 의 비 | D17: 30 | E17: 30 | G17: =D17-E17 -> 0 | H17: 후원자간담회비 30,000원
B18: 운영비 | D18: =SUM(D19:D24) -> 71151 | E18: =SUM(E19:E24) -> 71650 | F18: =E18-D18 -> 499
C19: 여 비 | D19: 1790 | E19: 1790 | F19: =E19-D19 -> 0 | H19: 직원교육비 20,000*14명=280,000 직원출장비 100,000* 2명=200,000 시설장 세미나비 910,000 사무국장 세미나비 400,000 계 1,790,000
C20: 수용비및 수수료 | D20: 22640 | E20: 23839 | F20: =E20-D20 -> 1199 | H20: 사무용품비 250,000*12월= 3,000,000 인쇄비 200,000* 4월= 800,000 집기구입비 100,000* 6월= 600,000 공고료 50,000*12월= 600,000 수수료 50,000*12월= 600,000 등기료 50,000*12월= 600,000 운송비 50,000*12월= 600,000 통행료 50,000*12월= 600,000 주차료 50,000*12월= 600,000 A/S비 50,000*12월= 600,000 신문대금 30,000*12월= 360,000 사무기기임대료 297,000*12월= 3,564,000 정수기 렌탈료 200,000*12월= 2,400,000 퇴직연금수수료 1,200,000 기타 7,715,000 계 23,839,000
C21: 공공요금 | D21: 22600 | E21: 22600 | F21: =E21-D21 -> 0 | H21: 전화요금 150,000*12월= 1,800,000 전기요금 768,666*12월= 9,224,000 상하수도요금 500,000*12월= 6,415,660 인터넷및키폰요금 150,000*12월= 1,800,000 TV사용료 50,000*12월= 600,000 우편요금 30,000*12월= 360,000 쓰레기봉투구입 100,000*12월= 1,200,000 납부필증 100,000*12월= 1,200,000 계 22,599,660
C22: 제세공과금 | D22: 9770 | E22: 9070 | G22: =D22-E22 -> 700 | H22: 신원보증보험 15,000*2명= 30,000 상해보험(아동+종사자+여행자) 400,000 화재보험 500,000 자동차보험(스타렉스3164) 700,000 자동차보험(모닝9214) 600,000 자동차보험(스파크6742) 600,000 자동차보험(모닝9782) 600,000 영업배상책임보험 600,000 자동차세 800,000 환경개선부담금 400,000 아동연합회비960,000*4분기 3,840,000 계 9,070,000
C23: 차 량 비 | D23: 12860 | E23: 12860 | G23: =D23-E23 -> 0 | H23: 차량유류대 500000*12월= 6,000,000 차량정비유지비 400,000*12월= 3,432,000 차량소모품비 400,000*12월= 3,428,000 계 12,860,000
C24: 기타운영비 | D24: 1491 | E24: 1491 | H24: 기관홍보용 달력제작 2,215*200부=443,000 기관홍보용 선물제작 5,000*150개=600,000 기타 운영경비 448,000 계 1,491,000
A25: 재산조성비 | D25: =SUM(D27:D29) -> 40073 | E25: =SUM(E27:E29) -> 40073
B26: 시설비 | D26: =D27+D28+D29 -> 40073 | E26: =E27+E28+E29 -> 40073
C27: 시설비 | D27: 15625 | E27: 15625 | G27: =D27-E27 -> 0 | H27: 시설비 (건물유지보수)
C28: 자산취득비 | D28: 12415 | E28: 12415 | F28: =E28-D28 -> 0 | H28: 각종비품구입
C29: 시설장비유지비 | D29: 12033 | E29: 12033 | G29: =D29-E29 -> 0 | H29: 건물유지비용 500,000*12월=6,000,000 전기안전관리비 110,000*12월=1,320,000 소방안전관리비 143,000*12월=1,716,000 승강기안전관리비 99,000*12월=1,188,000 장비유지비용 1,808,900 계 12,032,900
A30: 사업비 | D30: =D31+D37+D46 -> 338768 | E30: =E31+E37+E46 -> 356426 | F30: =E30-D30 -> 17658
B31: 운영비 | D31: =SUM(D32:D36) -> 212420 | E31: =SUM(E32:E36) -> 236904 | F31: =SUM(F32:F36) -> 26684
C32: 생 계 비 -생계비 -춘계부식/김장비 -월동대책비 -특별위로비 | D32: 106335 | E32: 114797 | F32: =E32-D32 -> 8462 | H32: 아동급식비 292,940원*28명*12월-6,000,000(장기입원자 공제) = 92,427,840 종사자급식비15명*80,000원*12월= 14,400,000 실습생,기간제 식대 175,000 춘계부식,김장비14,270원*28명*1회= 399,560 월동대책비 40,000*28명*1회= 1,120,000 후원금 6,175,000 계 114,797,400
C33: 수용기관경비 -수용기관경비 -아동용돈 -하계수련비 -긴급보호비 | D33: 68003 | E33: 81485 | F33: =E33-D33 -> 13482 | H33: 아동필요용품 10,700*28명*12월=3,595,200 아동핸드폰요금 16,071원*28명*12월=5,400,000 아동용돈 27명기준 15,194,000 아동용돈(후원금)146,000*28명*12월=49,056,000 수련활동비 30,000*9명= 270,000 영아위생대 23,000*6월= 138,000 긴급보호비신생아용품(보호출산) 2명*250,000*12주=6,000,000 기타 1,831,800 계 81,485,000
C34: 피 복 비 | D34: 18130 | E34: 22270 | F34: =E34-D34 -> 4140 | H34: 피복비 60,268*28명*12월 = 20,250,130 후원금 29,223*30명*12월 = 2,020,280 계 22,270,410
C35: 의 료 비 | D35: 8000 | E35: 5800 | G35: =D35-E35 -> 2200 | H35: 진료비 및 약제비 60,000*28명=1,680,000 약품구입 35,000*12월= 420,000 안경수선및제작비 50,000*20명=1,000,000 치아교정비 2,700,000 계 5,800,000
C36: 연 료 비 | D36: 11952 | E36: 12552 | F36: =E36-D36 -> 600 | H36: 취사연료비 3,000*28명*12월= 1,008,000 종사자급식비 1,000*15명*12월= 180,000 심야전기 1,344,160*12월= 10,764,109 난방비 300,000* 2월= 600,000 계 12,552,109
B37: 교육비 | D37: =SUM(D38:D45) -> 33495 | E37: =SUM(E38:E45) -> 29027 | G37: =D37-E37 -> 4468
C38: 학용품비 | D38: 1008 | E38: 1008 | G38: =D38-E38 -> 0 | H38: 학용품구입 3,000*28명*12월= 1,008,000
C39: 도서구입비 | D39: 1850 | E39: 1850 | H39: 중등학생부교재비 25명*50,000*년1회 1,250,000 초등부교재비 4명*50,000*년1회 200,000 기타도서구입비 100,000*4분기= 400,000 계 1,850,000
C40: 교 통 비 | D40: 10224 | E40: 9616 | G40: =D40-E40 -> 608 | H40: 중,고등학생 2,400*240일 3,936,000 아동교통비 5,680,000 계 9,616,000
C41: 학습지원비 | D41: 9200 | E41: 8940 | G41: =D41-E41 -> 260 | H41: 학습보조비 고4명*120,000*년1회 480,000 중3명*100,000*년1회 300,000 초2명*80,000*년1회 160,000 학원비 8,000,000 계 8,940,000
...

Sheet 급여산출기초1
A1: 2025년 종사자 인건비 산출내역
A2: 성애원 | K2: (단위:원)
A3: NO | B3: 직책 | C3: 성명 | D3: 호봉 | E3: 기본급 | G3: 명절휴가비 | H3: 시간외수당 | J3: 가족수당 | K3: 합계
H4: 시간 | I4: 지원금
E5: =SUM(E6:E20) -> 48592000 | F5: =SUM(F6:F20) -> 583104000 | G5: =SUM(G6:G20) -> 58310400 | H5: =SUM(H6:H20) -> 376 | I5: =SUM(I6:I20) -> 96218680 | J5: =SUM(J6:J20) -> 9760000 | K5: =SUM(K6:K20) -> 747393080
A6: 1 | B6: 원 장 | C6: 김문정 | D6: 28 | E6: 5403200 | F6: =E6*12 -> 64838400 | G6: =E6*0.6*2 -> 6483840 | J6: =40000*12 -> 480000 | K6: =F6+G6+I6+J6 -> 71802240
A7: 2 | B7: 자립전담요원 | C7: 최연아 | D7: 26 | E7: 4444100 | F7: =E7*12 -> 53329200 | G7: =E7*0.6*2 -> 5332920 | H7: 8 | I7: =ROUNDDOWN(F7*1/209*1.5*H7,-1) -> 3061960 | J7: =40000*12 -> 480000 | K7: =F7+G7+I7+J7 -> 62204080
A8: 3 | B8: 사무원 | C8: 조유미 | D8: 24 | E8: 3667600 | F8: =E8*12 -> 44011200 | G8: =E8*0.6*2 -> 4401120 | H8: 8 | I8: =ROUNDDOWN(F8*1/209*1.5*H8,-1) -> 2526950 | J8: =40000*12 -> 480000 | K8: =F8+G8+I8+J8 -> 51419270
A9: 4 | B9: 생활지도원 | C9: 강명수 | D9: 23 | E9: 3620300 | F9: =E9*12 -> 43443600 | G9: =E9*0.6*2 -> 4344360 | H9: 30 | I9: =ROUNDDOWN(F9*1/209*1.5*H9,-1) -> 9353880 | J9: =140000*12 -> 1680000 | K9: =F9+G9+I9+J9 -> 58821840
A10: 5 | B10: 생활지도원 | C10: 김희련 | D10: 16 | E10: 3215400 | F10: =E10*12 -> 38584800 | G10: =E10*0.6*2 -> 3858480 | H10: 30 | I10: =ROUNDDOWN(F10*1/209*1.5*H10,-1) -> 8307730 | J10: 400000 | K10: =F10+G10+I10+J10 -> 51151010
A11: 6 | B11: 생활지도원 | C11: 김희현 | D11: 18 | E11: 3648200 | F11: =E11*12 -> 43778400 | G11: =E11*0.6*2 -> 4377840 | H11: 30 | I11: =ROUNDDOWN(F11*1/209*1.5*H11,-1) -> 9425970 | J11: 0 | K11: =F11+G11+I11+J11 -> 57582210
A12: 7 | B12: 생활지도원 | C12: 현명길 | D12: 15 | E12: 3145700 | F12: =E12*12 -> 37748400 | G12: =E12*0.6*2 -> 3774840 | H12: 30 | I12: =ROUNDDOWN(F12*1/209*1.5*H12,-1) -> 8127640 | J12: =70000*12 -> 840000 | K12: =F12+G12+I12+J12 -> 50490880
A13: 8 | B13: 생활지도원 | C13: 손소영 | D13: 13 | E13: 3019700 | F13: =E13*12 -> 36236400 | G13: =E13*0.6*2 -> 3623640 | H13: 30 | I13: =ROUNDDOWN(F13*1/209*1.5*H13,-1) -> 7802090 | J13: =40000*12 -> 480000 | K13: =F13+G13+I13+J13 -> 48142130
A14: 9 | B14: 생활지도원 | C14: 김도윤 | D14: 14 | E14: 3081600 | F14: =E14*12 -> 36979200 | G14: =E14*0.6*2 -> 3697920 | H14: 30 | I14: =ROUNDDOWN(F14*1/209*1.5*H14,-1) -> 7962020 | J14: 0 | K14: =F14+G14+I14+J14 -> 48639140
A15: 10 | B15: 생활지도원 | C15: 이지환 | D15: 9 | E15: 2739600 | F15: =E15*12 -> 32875200 | G15: =E15*0.6*2 -> 3287520 | H15: 30 | I15: =ROUNDDOWN(F15*1/209*1.5*H15,-1) -> 7078390 | J15: =140000*12 -> 1680000 | K15: =F15+G15+I15+J15 -> 44921110
A16: 11 | B16: 생활지도원 | C16: 김소영 | D16: 9 | E16: 2739600 | F16: =E16*12 -> 32875200 | G16: =E16*0.6*2 -> 3287520 | H16: 30 | I16: =ROUNDDOWN(F16*1/209*1.5*H16,-1) -> 7078390 | J16: =100000*12 -> 1200000 | K16: =F16+G16+I16+J16 -> 44441110
A17: 12 | B17: 생활지도원 | C17: 김상철 | D17: 8 | E17: 2645000 | F17: =E17*12 -> 31740000 | G17: =E17*0.6*2 -> 3174000 | H17: 30 | I17: =ROUNDDOWN(F17*1/209*1.5*H17,-1) -> 6833970 | J17: =40000*12 -> 480000 | K17: =F17+G17+I17+J17 -> 42227970
A18: 13 | B18: 생활지도원 | C18: 정다솔 | D18: 7 | E18: 2544400 | F18: =E18*12 -> 30532800 | G18: =E18*0.6*2 -> 3053280 | H18: 30 | I18: =ROUNDDOWN(F18*1/209*1.5*H18,-1) -> 6574040 | J18: =70000*12 -> 840000 | K18: =F18+G18+I18+J18 -> 41000120
A19: 14 | B19: 생활지도원 | C19: 정정덕 | D19: 6 | E19: 2452800 | F19: =E19*12 -> 29433600 | G19: =E19*0.6*2 -> 2943360 | H19: 30 | I19: =ROUNDDOWN(F19*1/209*1.5*H19,-1) -> 6337370 | J19: 0 | K19: =F19+G19+I19+J19 -> 38714330
A20: 15 | B20: 조리원 | C20: 한민정 | D20: 4 | E20: 2224800 | F20: =E20*12 -> 26697600 | G20: =E20*0.6*2 -> 2669760 | H20: 30 | I20: =ROUNDDOWN(F20*1/209*1.5*H20,-1) -> 5748280 | J20: =60000*12 -> 720000 | K20: =F20+G20+I20+J20 -> 35835640

Sheet 사회보험
A1: 2025년 종사자 사회보험 산출내역
A2: 성애원 | S2: (단위:원)
A3: NO | B3: 직책 | C3: 성명 | D3: 호봉 | E3: 기본급 | G3: 명절휴가비 | H3: 시간외수당 | J3: 가족수당 | K3: 총급여 | L3: 표준보수액 | M3: 사 용 자 부 담
H4: 시간 | I4: 지원금
E5: 월 | F5: 년 | M5: 건강보험 (4%) | N5: 장기 요양보험 (10.25%) | O5: 국민연금 (4.5%) | P5: 산재보험 (0.9%) | Q5: 고용보험 (1.15%) | R5: 퇴직적립금 (A/12) | S5: 합계
A6: 계 | E6: =SUM(E7:E21) -> 48592000 | F6: =SUM(F7:F21) -> 583104000 | G6: =SUM(G7:G21) -> 58310400 | H6: =SUM(H7:H21) -> 376 | I6: =SUM(I7:I21) -> 96218680 | J6: =SUM(J7:J21) -> 9760000 | K6: =SUM(K7:K21) -> 747393080 | L6: =SUM(L7:L21) -> 747393080 | ... S6: =SUM(S7:S21) -> 144236870
A7: 1 | B7: 원 장 | C7: =급여산출기초1!C6 -> 김문정 | D7: 27 | E7: =급여산출기초1!E6 -> 5403200 | F7: =급여산출기초1!F6 -> 64838400 | G7: =급여산출기초1!G6 -> 6483840 | J7: =급여산출기초1!J6 -> 480000 | K7: =F7+G7+I7+J7 -> 71802240 | L7: =K7 -> 71802240 | M7: =ROUNDUP(L7*0.04,-1) -> 2872090 | N7: =ROUNDUP(M7*12.82%,-1) -> 368210 | O7: =ROUNDUP(L7*0.045,-1) -> 3231110 | R7: =ROUNDUP(L7/12,-1) -> 5983520 | S7: =SUM(M7:R7) -> 12454930
A8: 2 | B8: 자립전담요원 | C8: =급여산출기초1!C7 -> 최연아 | D8: 25 | E8: =급여산출기초1!E7 -> 4444100 | F8: =급여산출기초1!F7 -> 53329200 | G8: =급여산출기초1!G7 -> 5332920 | H8: 8 | I8: =급여산출기초1!I7 -> 3061960 | J8: =급여산출기초1!J7 -> 480000 | K8: =F8+G8+I8+J8 -> 62204080 | L8: =K8 -> 62204080 | M8: =ROUNDUP(L8*0.04,-1) -> 2488170 | N8: =ROUNDUP(M8*12.82%,-1) -> 318990 | O8: =ROUNDUP(L8*0.045,-1) -> 2799190 | P8: =ROUNDUP(L8*0.01,-1) -> 622050 | Q8: =ROUNDDOWN(L8*0.0116,-1) -> 721560 | R8: =ROUNDUP(L8/12,-1) -> 5183680 | S8: =SUM(M8:R8) -> 12133640
A9: 3 | B9: 사무원 | C9: =급여산출기초1!C8 -> 조유미 | D9: 23 | E9: =급여산출기초1!E8 -> 3667600 | F9: =급여산출기초1!F8 -> 44011200 | G9: =급여산출기초1!G8 -> 4401120 | H9: 8 | I9: =급여산출기초1!I8 -> 2526950 | J9: =급여산출기초1!J8 -> 480000 | K9: =F9+G9+I9+J9 -> 51419270 | L9: =K9 -> 51419270 | M9: =ROUNDUP(L9*0.04,-1) -> 2056780 | N9: =ROUNDUP(M9*12.82%,-1) -> 263680 | O9: =ROUNDUP(L9*0.045,-1) -> 2313870 | P9: =ROUNDUP(L9*0.01,-1) -> 514200 | Q9: =ROUNDDOWN(L9*0.0116,-1) -> 596460 | R9: =ROUNDUP(L9/12,-1) -> 4284940 | S9: =SUM(M9:R9) -> 10029930
A10: 4 | B10: 생활지도원1 | C10: =급여산출기초1!C9 -> 강명수 | D10: 22 | E10: =급여산출기초1!E9 -> 3620300 | F10: =급여산출기초1!F9 -> 43443600 | G10: =급여산출기초1!G9 -> 4344360 | H10: 30 | I10: =급여산출기초1!I9 -> 9353880 | J10: =급여산출기초1!J9 -> 1680000 | K10: =F10+G10+I10+J10 -> 58821840 | L10: =K10 -> 58821840 | M10: =ROUNDUP(L10*0.04,-1) -> 2352880 | N10: =ROUNDUP(M10*12.82%,-1) -> 301640 | O10: =ROUNDUP(L10*0.045,-1) -> 2646990 | P10: =ROUNDUP(L10*0.01,-1) -> 588220 | Q10: =ROUNDDOWN(L10*0.0116,-1) -> 682330 | R10: =ROUNDUP(L10/12,-1) -> 4901820 | S10: =SUM(M10:R10) -> 11473880
A11: 5 | B11: 생활지도원2 | C11: =급여산출기초1!C10 -> 김희련 | D11: 15 | E11: =급여산출기초1!E10 -> 3215400 | F11: =급여산출기초1!F10 -> 38584800 | G11: =급여산출기초1!G10 -> 3858480 | H11: 30 | I11: =급여산출기초1!I10 -> 8307730 | J11: =급여산출기초1!J10 -> 400000 | K11: =F11+G11+I11+J11 -> 51151010 | L11: =K11 -> 51151010 | M11: =ROUNDUP(L11*0.04,-1) -> 2046050 | N11: =ROUNDUP(M11*12.82%,-1) -> 262310 | O11: =ROUNDUP(L11*0.045,-1) -> 2301800 | P11: =ROUNDUP(L11*0.01,-1) -> 511520 | Q11: =ROUNDDOWN(L11*0.0116,-1) -> 593350 | R11: =ROUNDUP(L11/12,-1) -> 4262590 | S11: =SUM(M11:R11) -> 9977620
A12: 6 | B12: 생활지도원3 | C12: =급여산출기초1!C11 -> 김희현 | D12: 17 | E12: =급여산출기초1!E11 -> 3648200 | F12: =급여산출기초1!F11 -> 43778400 | G12: =급여산출기초1!G11 -> 4377840 | H12: 30 | I12: =급여산출기초1!I11 -> 9425970 | J12: =급여산출기초1!J11 -> 0 | K12: =F12+G12+I12+J12 -> 57582210 | L12: =K12 -> 57582210 | M12: =ROUNDUP(L12*0.04,-1) -> 2303290 | N12: =ROUNDUP(M12*12.82%,-1) -> 295290 | O12: =ROUNDUP(L12*0.045,-1) -> 2591200 | P12: =ROUNDUP(L12*0.01,-1) -> 575830 | Q12: =ROUNDDOWN(L12*0.0116,-1) -> 667950 | R12: =ROUNDUP(L12/12,-1) -> 4798520 | S12: =SUM(M12:R12) -> 11232080
A13: 7 | B13: 생활지도원4 | C13: =급여산출기초1!C12 -> 현명길 | D13: 14 | E13: =급여산출기초1!E12 -> 3145700 | F13: =급여산출기초1!F12 -> 37748400 | G13: =급여산출기초1!G12 -> 3774840 | H13: 30 | I13: =급여산출기초1!I12 -> 8127640 | J13: =급여산출기초1!J12 -> 840000 | K13: =F13+G13+I13+J13 -> 50490880 | L13: =K13 -> 50490880 | M13: =ROUNDUP(L13*0.04,-1) -> 2019640 | N13: =ROUNDUP(M13*12.82%,-1) -> 258920 | O13: =ROUNDUP(L13*0.045,-1) -> 2272090 | P13: =ROUNDUP(L13*0.01,-1) -> 504910 | Q13: =ROUNDDOWN(L13*0.0116,-1) -> 585690 | R13: =ROUNDUP(L13/12,-1) -> 4207580 | S13: =SUM(M13:R13) -> 9848830
A14: 8 | B14: 생활지도원5 | C14: =급여산출기초1!C13 -> 손소영 | D14: 12 | E14: =급여산출기초1!E13 -> 3019700 | F14: =급여산출기초1!F13 -> 36236400 | G14: =급여산출기초1!G13 -> 3623640 | H14: 30 | I14: =급여산출기초1!I13 -> 7802090 | J14: =급여산출기초1!J13 -> 480000 | K14: =F14+G14+I14+J14 -> 48142130 | L14: =K14 -> 48142130 | M14: =ROUNDUP(L14*0.04,-1) -> 1925690 | N14: =ROUNDUP(M14*12.82%,-1) -> 246880 | O14: =ROUNDUP(L14*0.045,-1) -> 2166400 | P14: =ROUNDUP(L14*0.01,-1) -> 481430 | Q14: =ROUNDDOWN(L14*0.0116,-1) -> 558440 | R14: =ROUNDUP(L14/12,-1) -> 4011850 | S14: =SUM(M14:R14) -> 9390690
A15: 9 | B15: 생활지도원6 | C15: =급여산출기초1!C14 -> 김도윤 | D15: 13 | E15: =급여산출기초1!E14 -> 3081600 | F15: =급여산출기초1!F14 -> 36979200 | G15: =급여산출기초1!G14 -> 3697920 | H15: 30 | I15: =급여산출기초1!I14 -> 7962020 | J15: =급여산출기초1!J14 -> 0 | K15: =F15+G15+I15+J15 -> 48639140 | L15: =K15 -> 48639140 | M15: =ROUNDUP(L15*0.04,-1) -> 1945570 | N15: =ROUNDUP(M15*12.82%,-1) -> 249430 | O15: =ROUNDUP(L15*0.045,-1) -> 2188770 | P15: =ROUNDUP(L15*0.01,-1) -> 486400 | Q15: =ROUNDDOWN(L15*0.0116,-1) -> 564210 | R15: =ROUNDUP(L15/12,-1) -> 4053270 | S15: =SUM(M15:R15) -> 9487650
A16: 10 | B16: 생활지도원7 | C16: 이지환 | D16: 7 | E16: =급여산출기초1!E15 -> 2739600 | F16: =급여산출기초1!F15 -> 32875200 | G16: =급여산출기초1!G15 -> 3287520 | H16: 30 | I16: =급여산출기초1!I15 -> 7078390 | J16: =급여산출기초1!J15 -> 1680000 | K16: =F16+G16+I16+J16 -> 44921110 | L16: =K16 -> 44921110 | M16: =ROUNDUP(L16*0.04,-1) -> 1796850 | N16: =ROUNDUP(M16*12.82%,-1) -> 230360 | O16: =ROUNDUP(L16*0.045,-1) -> 2021450 | P16: =ROUNDUP(L16*0.01,-1) -> 449220 | Q16: =ROUNDDOWN(L16*0.0116,-1) -> 521080 | R16: =ROUNDUP(L16/12,-1) -> 3743430 | S16: =SUM(M16:R16) -> 8762390
A17: 11 | B17: 생활지도원8 | C17: =급여산출기초1!C16 -> 김소영 | D17: 8 | E17: =급여산출기초1!E16 -> 2739600 | F17: =급여산출기초1!F16 -> 32875200 | G17: =급여산출기초1!G16 -> 3287520 | H17: 30 | I17: =급여산출기초1!I16 -> 7078390 | J17: =급여산출기초1!J16 -> 1200000 | K17: =F17+G17+I17+J17 -> 44441110 | L17: =K17 -> 44441110 | M17: =ROUNDUP(L17*0.04,-1) -> 1777650 | N17: =ROUNDUP(M17*12.82%,-1) -> 227900 | O17: =ROUNDUP(L17*0.045,-1) -> 1999850 | P17: =ROUNDUP(L17*0.01,-1) -> 444420 | Q17: =ROUNDDOWN(L17*0.0116,-1) -> 515510 | R17: =ROUNDUP(L17/12,-1) -> 3703430 | S17: =SUM(M17:R17) -> 8668760
A18: 12 | B18: 생활지도원9 | C18: =급여산출기초1!C17 -> 김상철 | D18: 7 | E18: =급여산출기초1!E17 -> 2645000 | F18: =급여산출기초1!F17 -> 31740000 | G18: =급여산출기초1!G17 -> 3174000 | H18: 30 | I18: =급여산출기초1!I17 -> 6833970 | J18: =급여산출기초1!J17 -> 480000 | K18: =F18+G18+I18+J18 -> 42227970 | L18: =K18 -> 42227970 | M18: =ROUNDUP(L18*0.04,-1) -> 1689120 | N18: =ROUNDUP(M18*12.82%,-1) -> 216550 | O18: =ROUNDUP(L18*0.045,-1) -> 1900260 | P18: =ROUNDUP(L18*0.01,-1) -> 422280 | Q18: =ROUNDDOWN(L18*0.0116,-1) -> 489840 | R18: =ROUNDUP(L18/12,-1) -> 3519000 | S18: =SUM(M18:R18) -> 8237050
A19: 13 | B19: 생활지도원10 | C19: =급여산출기초1!C18 -> 정다솔 | D19: 6 | E19: =급여산출기초1!E18 -> 2544400 | F19: =급여산출기초1!F18 -> 30532800 | G19: =급여산출기초1!G18 -> 3053280 | H19: 30 | I19: =급여산출기초1!I18 -> 6574040 | J19: =급여산출기초1!J18 -> 840000 | K19: =F19+G19+I19+J19 -> 41000120 | L19: =K19 -> 41000120 | M19: =ROUNDUP(L19*0.04,-1) -> 1640010 | N19: =ROUNDUP(M19*12.82%,-1) -> 210250 | O19: =ROUNDUP(L19*0.045,-1) -> 1845010 | P19: =ROUNDUP(L19*0.01,-1) -> 410010 | Q19: =ROUNDDOWN(L19*0.0116,-1) -> 475600 | R19: =ROUNDUP(L19/12,-1) -> 3416680 | S19: =SUM(M19:R19) -> 7997560
A20: 14 | B20: 생활지도원11 | C20: =급여산출기초1!C19 -> 정정덕 | D20: 6 | E20: =급여산출기초1!E19 -> 2452800 | F20: =급여산출기초1!F19 -> 29433600 | G20: =급여산출기초1!G19 -> 2943360 | H20: 30 | I20: =급여산출기초1!I19 -> 6337370 | J20: =급여산출기초1!J19 -> 0 | K20: =F20+G20+I20+J20 -> 38714330 | L20: =K20 -> 38714330 | M20: =ROUNDUP(L20*0.04,-1) -> 1548580 | N20: =ROUNDUP(M20*12.82%,-1) -> 198530 | O20: =ROUNDUP(L20*0.045,-1) -> 1742150 | P20: =ROUNDUP(L20*0.01,-1) -> 387150 | Q20: =ROUNDDOWN(L20*0.0116,-1) -> 449080 | R20: =ROUNDUP(L20/12,-1) -> 3226200 | S20: =SUM(M20:R20) -> 7551690
A21: 15 | B21: 조리원 | C21: =급여산출기초1!C20 -> 한민정 | D21: 4 | E21: =급여산출기초1!E20 -> 2224800 | F21: =급여산출기초1!F20 -> 26697600 | G21: =급여산출기초1!G20 -> 2669760 | H21: 30 | I21: =급여산출기초1!I20 -> 5748280 | J21: =급여산출기초1!J20 -> 720000 | K21: =F21+G21+I21+J21 -> 35835640 | L21: =K21 -> 35835640 | M21: =ROUNDUP(L21*0.04,-1) -> 1433430 | N21: =ROUNDUP(M21*12.82%,-1) -> 183770 | O21: =ROUNDUP(L21*0.045,-1) -> 1612610 | P21: =ROUNDUP(L21*0.01,-1) -> 358360 | Q21: =ROUNDDOWN(L21*0.0116,-1) -> 415690 | R21: =ROUNDUP(L21/12,-1) -> 2986310 | S21: =SUM(M21:R21) -> 6990170

Sheet 임직원보수일람표1
A1: 2025년 임직원 보수일람표
A2: 성 애 원 | M2: (단위:원)
A3: NO | B3: 직책 | C3: 성명 | D3: 호봉 | E3: 기본급 | F3: 기본급계 | G3: 명절위로비 | H3: 가족수당 | I3: 시간외수당 | J3: 제수당계 | K3: 급여계 | L3: 공제액 | M3: 차감지급액
A4: 계 | E4: =SUM(E5:E19) -> 48592000 | F4: =SUM(F5:F19) -> 583104000 | G4: =SUM(G5:G19) -> 58310400 | H4: =SUM(H5:H19) -> 9760000 | I4: =SUM(I5:I19) -> 96218680 | J4: =SUM(J5:J19) -> 164289080 | K4: =SUM(K5:K19) -> 747393080 | L4: =SUM(L5:L19) -> 81954050 | M4: =SUM(M5:M19) -> 665439030
A5: 1 | B5: 원 장 | C5: 김문정 | D5: =급여산출기초1!D6 -> 28 | E5: =급여산출기초1!E6 -> 5403200 | F5: =급여산출기초1!F6 -> 64838400 | G5: =급여산출기초1!G6 -> 6483840 | H5: =급여산출기초1!J6 -> 480000 | I5: =급여산출기초1!I6 -> 0 | J5: =SUM(G5:I5) -> 6963840 | K5: =F5+J5 -> 71802240 | L5: =사회보험!M7+사회보험!N7+사회보험!O7+사회보험!P7+사회보험!Q7 -> 6471410 | M5: =K5-L5 -> 65330830
A6: 2 | B6: 자립전담요원 | C6: 최연아 | D6: =급여산출기초1!D7 -> 26 | E6: =급여산출기초1!E7 -> 4444100 | F6: =급여산출기초1!F7 -> 53329200 | G6: =급여산출기초1!G7 -> 5332920 | H6: =급여산출기초1!J7 -> 480000 | I6: =급여산출기초1!I7 -> 3061960 | J6: =SUM(G6:I6) -> 8874880 | K6: =F6+J6 -> 62204080 | L6: =사회보험!M8+사회보험!N8+사회보험!O8+사회보험!P8+사회보험!Q8 -> 6949960 | M6: =K6-L6 -> 55254120
A7: 3 | B7: 사무원 | C7: 조유미 | D7: =급여산출기초1!D8 -> 24 | E7: =급여산출기초1!E8 -> 3667600 | F7: =급여산출기초1!F8 -> 44011200 | G7: =급여산출기초1!G8 -> 4401120 | H7: =급여산출기초1!J8 -> 480000 | I7: =급여산출기초1!I8 -> 2526950 | J7: =SUM(G7:I7) -> 7408070 | K7: =F7+J7 -> 51419270 | L7: =사회보험!M9+사회보험!N9+사회보험!O9+사회보험!P9+사회보험!Q9 -> 5744990 | M7: =K7-L7 -> 45674280
A8: 4 | B8: 생활지도원 | C8: 강명수 | D8: =급여산출기초1!D9 -> 23 | E8: =급여산출기초1!E9 -> 3620300 | F8: =급여산출기초1!F9 -> 43443600 | G8: =급여산출기초1!G9 -> 4344360 | H8: =급여산출기초1!J9 -> 1680000 | I8: =급여산출기초1!I9 -> 9353880 | J8: =SUM(G8:I8) -> 15378240 | K8: =F8+J8 -> 58821840 | L8: =사회보험!M10+사회보험!N10+사회보험!O10+사회보험!P10+사회보험!Q10 -> 6572060 | M8: =K8-L8 -> 52249780
A9: 5 | B9: 생활지도원 | C9: 김희련 | D9: =급여산출기초1!D10 -> 16 | E9: =급여산출기초1!E10 -> 3215400 | F9: =급여산출기초1!F10 -> 38584800 | G9: =급여산출기초1!G10 -> 3858480 | H9: =급여산출기초1!J10 -> 400000 | I9: =급여산출기초1!I10 -> 8307730 | J9: =SUM(G9:I9) -> 12566210 | K9: =F9+J9 -> 51151010 | L9: =사회보험!M11+사회보험!N11+사회보험!O11+사회보험!P11+사회보험!Q11 -> 5715030 | M9: =K9-L9 -> 45435980
A10: 6 | B10: 생활지도원 | C10: 김희현 | D10: =급여산출기초1!D11 -> 18 | E10: =급여산출기초1!E11 -> 3648200 | F10: =급여산출기초1!F11 -> 43778400 | G10: =급여산출기초1!G11 -> 4377840 | H10: =급여산출기초1!J11 -> 0 | I10: =급여산출기초1!I11 -> 9425970 | J10: =SUM(G10:I10) -> 13803810 | K10: =F10+J10 -> 57582210 | L10: =사회보험!M12+사회보험!N12+사회보험!O12+사회보험!P12+사회보험!Q12 -> 6433560 | M10: =K10-L10 -> 51148650
A11: 7 | B11: 생활지도원 | C11: 현명길 | D11: =급여산출기초1!D12 -> 15 | E11: =급여산출기초1!E12 -> 3145700 | F11: =급여산출기초1!F12 -> 37748400 | G11: =급여산출기초1!G12 -> 3774840 | H11: =급여산출기초1!J12 -> 840000 | I11: =급여산출기초1!I12 -> 8127640 | J11: =SUM(G11:I11) -> 12742480 | K11: =F11+J11 -> 50490880 | L11: =사회보험!M13+사회보험!N13+사회보험!O13+사회보험!P13+사회보험!Q13 -> 5641250 | M11: =K11-L11 -> 44849630
A12: 8 | B12: 생활지도원 | C12: 손소영 | D12: =급여산출기초1!D13 -> 13 | E12: =급여산출기초1!E13 -> 3019700 | F12: =급여산출기초1!F13 -> 36236400 | G12: =급여산출기초1!G13 -> 3623640 | H12: =급여산출기초1!J13 -> 480000 | I12: =급여산출기초1!I13 -> 7802090 | J12: =SUM(G12:I12) -> 11905730 | K12: =F12+J12 -> 48142130 | L12: =사회보험!M14+사회보험!N14+사회보험!O14+사회보험!P14+사회보험!Q14 -> 5378840 | M12: =K12-L12 -> 42763290
A13: 9 | B13: 생활지도원 | C13: 김도윤 | D13: =급여산출기초1!D14 -> 14 | E13: =급여산출기초1!E14 -> 3081600 | F13: =급여산출기초1!F14 -> 36979200 | G13: =급여산출기초1!G14 -> 3697920 | H13: =급여산출기초1!J14 -> 0 | I13: =급여산출기초1!I14 -> 7962020 | J13: =SUM(G13:I13) -> 11659940 | K13: =F13+J13 -> 48639140 | L13: =사회보험!M15+사회보험!N15+사회보험!O15+사회보험!P15+사회보험!Q15 -> 5434380 | M13: =K13-L13 -> 43204760
A14: 10 | B14: 생활지도원 | C14: 이지환 | D14: 7 | E14: =급여산출기초1!E15 -> 2739600 | F14: =급여산출기초1!F15 -> 32875200 | G14: =급여산출기초1!G15 -> 3287520 | H14: =급여산출기초1!J15 -> 1680000 | I14: =급여산출기초1!I15 -> 7078390 | J14: =SUM(G14:I14) -> 12045910 | K14: =F14+J14 -> 44921110 | L14: =사회보험!M16+사회보험!N16+사회보험!O16+사회보험!P16+사회보험!Q16 -> 5018960 | M14: =K14-L14 -> 39902150
A15: 11 | B15: 생활지도원 | C15: 김소영 | D15: =급여산출기초1!D16 -> 9 | E15: =급여산출기초1!E16 -> 2739600 | F15: =급여산출기초1!F16 -> 32875200 | G15: =급여산출기초1!G16 -> 3287520 | H15: =급여산출기초1!J16 -> 1200000 | I15: =급여산출기초1!I16 -> 7078390 | J15: =SUM(G15:I15) -> 11565910 | K15: =F15+J15 -> 44441110 | L15: =사회보험!M17+사회보험!N17+사회보험!O17+사회보험!P17+사회보험!Q17 -> 4965330 | M15: =K15-L15 -> 39475780
A16: 12 | B16: 생활지도원 | C16: 김상철 | D16: =급여산출기초1!D17 -> 8 | E16: =급여산출기초1!E17 -> 2645000 | F16: =급여산출기초1!F17 -> 31740000 | G16: =급여산출기초1!G17 -> 3174000 | H16: =급여산출기초1!J17 -> 480000 | I16: =급여산출기초1!I17 -> 6833970 | J16: =SUM(G16:I16) -> 10487970 | K16: =F16+J16 -> 42227970 | L16: =사회보험!M18+사회보험!N18+사회보험!O18+사회보험!P18+사회보험!Q18 -> 4718050 | M16: =K16-L16 -> 37509920
A17: 13 | B17: 생활지도원 | C17: 정다솔 | D17: =급여산출기초1!D18 -> 7 | E17: =급여산출기초1!E18 -> 2544400 | F17: =급여산출기초1!F18 -> 30532800 | G17: =급여산출기초1!G18 -> 3053280 | H17: =급여산출기초1!J18 -> 840000 | I17: =급여산출기초1!I18 -> 6574040 | J17: =SUM(G17:I17) -> 10467320 | K17: =F17+J17 -> 41000120 | L17: =사회보험!M19+사회보험!N19+사회보험!O19+사회보험!P19+사회보험!Q19 -> 4580880 | M17: =K17-L17 -> 36419240
A18: 14 | B18: 생활지도원 | C18: 정정덕 | D18: =급여산출기초1!D19 -> 6 | E18: =급여산출기초1!E19 -> 2452800 | F18: =급여산출기초1!F19 -> 29433600 | G18: =급여산출기초1!G19 -> 2943360 | H18: =급여산출기초1!J19 -> 0 | I18: =급여산출기초1!I19 -> 6337370 | J18: =SUM(G18:I18) -> 9280730 | K18: =F18+J18 -> 38714330 | L18: =사회보험!M20+사회보험!N20+사회보험!O20+사회보험!P20+사회보험!Q20 -> 4325490 | M18: =K18-L18 -> 34388840
A19: 15 | B19: 조리원 | C19: 한민정 | D19: =급여산출기초1!D20 -> 4 | E19: =급여산출기초1!E20 -> 2224800 | F19: =급여산출기초1!F20 -> 26697600 | G19: =급여산출기초1!G20 -> 2669760 | H19: =급여산출기초1!J20 -> 720000 | I19: =급여산출기초1!I20 -> 5748280 | J19: =SUM(G19:I19) -> 9138040 | K19: =F19+J19 -> 35835640 | L19: =사회보험!M21+사회보험!N21+사회보험!O21+사회보험!P21+사회보험!Q21 -> 4003860 | M19: =K19-L19 -> 31831780

Sheet 생계비
A1: 2025년 성애원(시설) 경상보조금 생계비(국시비) 산출내역
A2: 성 애 원 | H2: (단위:원)
A3: 구 분 | C3: 기준액 | D3: 지급회수 | E3: 예상 인원 | F3: 예산액 | G3: 산출내역 | H3: 비 고
A4: 주부식비통합 -피복비 -취사연료 포함 | B4: 주부식비 | C4: 292940 | D4: 월 | E4: 28 | F4: =C4*E4*12-6000000 -> 92427840 | G4: 292,940*28명*12월=87,882,000 장기입원자차감액250,000*2명*12월
B5: 피복비 | C5: 60268 | D5: 월 | E5: 28 | F5: =C5*E5*12+80 -> 20250128 | G5: 60,268*28명*12월=18,080,480
B6: 취사연료비 | C6: 3360 | D6: 월 | E6: 28 | F6: =C6*E6*12 -> 1128960 | G6: 3,360*28명*12월=1,008,000
A7: 소계 | C7: =SUM(C4:C6) -> 356568 | D7: 월 | F7: =SUM(F4:F6) -> 113806928
A8: 월동대책비 | C8: 40000 | D8: 연1회 | E8: 28 | F8: =C8*E8*1 -> 1120000 | G8: 40,000원*28명*1회=1,120,000
A9: 특별위로비(설,추석) | C9: 50000 | G9: 구청에서 아동계좌로 직접 입금 됨
A10: 소계 | F10: =SUM(F8:F9) -> 1120000
A11: 합 계 | F11: =F7+F10 -> 114926928
A12: * 2025년도 기초생활보장 지침 중 시설생계급여 등 지원기준

Sheet 운영비
A1: 2025년 성애원(시설) 경상보조금 관리운영비 산출내역(국시비)
A2: 성 애 원 | E2: (단위:원)
A3: 구 분 | B3: 지급기준 | C3: 예산액 | D3: 산출내역 | E3: 비 고
A4: 운영비 | B4: 158,000/월 | C4: =28*158000*12 -> 53088000 | D4: 28명*158,000원*12월=47,900,160 | E4: 28명
A5: 기본운영비 | B5: 720,000/월 | C5: =720000*12 -> 8640000 | D5: 720,000원*12월=8,640,000
A6: 춘계부식비/월동김장비 | B6: 14,270/년1인당 | C6: =28*14270*1 -> 399560 | D6: 28명*14,270원*년1회=399,560 | E6: 28명
A7: 소 계 | C7: =SUM(C4:C6) -> 62127560
A9: 2025년 성애원(시설) 관리운영비 산출내역(시비)
A10: 성 애 원 | E10: (단위:원)
A11: 구 분 | B11: 지급기준 | C11: 예산액 | D11: 산출내역 | E11: 비 고
A12: 아동용돈 | B12: 대학,연장 50,000/월1인당 고 45,000/월1인당 중 32,000/월1인당 초 24,000/월1인당 | C12: 15194000 | D12: 대학,연장 11명*50,000원* 2월=1,100,000(1월~2월) 대학,연장 18명*50,000원*10월=9,000,000(3월~12월) 고등학생 11명*45,000원 *2월= 990,000(1월~2월) 고등학생 4명*45,000원*10월=1,800,000(3월~12월) 중학생 3명*32,000원*12월=1,152,000(1월~12월) 초등학생 2명*24,000원*12월=1,152,000(1월~12월) 계 15,194,000원
A13: 하계수련비 | B13: 30,000/년1인당 | C13: =9*30000 -> 270000 | D13: 3세이상 9명*30,000원*년1회=270,000 | E13: 9명
A14: 교통비 | B14: 1,600/일1인당,240일 | C14: =(11*48000*2)+(6*48000*10) -> 3936000 | D14: 11명*48,000원* 2월=1,056,000(1월~2월) 6명*48,000원*10월=2,880,000(3월~12월) 계 3,936,000 | E14: 12명
A15: 수학여행비 | B15: 85,000/년1인당 | D15: 교육청, 해당 학교에서 지원
A16: 학습보조비 | B16: 고 120,000/년1인당 중 100,000/년1인당 초 80,000/년1인당 | C16: =480000+300000+160000 -> 940000 | D16: 고 4명*120,000원*년1회=480,000 중 3명*100,000원*년1회=300,000 초 2명 *80,000원*년1회=160,000 계 940,000원 | E16: 고 4명 중 3명 초 2명
A17: 행사지원비 | B17: 연1회 | C17: 1010000 | D17: 연 찬 회 : 500,000 사생대회 : 70,000 자립체험 : 440,000 계 1,010,000
A18: 영아위생대 | B18: 3세미만 23,000원 | C18: =23000*6 -> 138000 | D18: 23,000원*6월
A19: 난방비 | B19: 1월,2월 300,000원씩 한시적 | C19: 600000 | D19: 300,000원*2월=600,000
A20: 환경개선비 | B20: 3,252,000/4년마다 | D20: 4년 마다 환경개선비 지급
A21: 안전관리비 | B21: 2,000,000/년1회 | C21: 2000000 | D21: 소방,전기,승강기 안전점검비
A22: 종사자복지포인트 | B22: 120,000/년1회 | C22: =15*120000 -> 1800000 | D22: 15명*120,000원 | E22: 15명
A23: 긴급보호비(서구청) | B23: 주250,000원 | C23: =2*250000*12 -> 6000000 | D23: 신생아 2명*250,000원*12주 | E23: 25년신설
A24: 소 계 | C24: =SUM(C12:C23) -> 31888000
A25: 합 계 | C25: =C7+C24 -> 94015560
